Workbook
Name ___C: [0]!___C
Name __C: [0]!__C
Name _1_0_0kos: [1]plan!#REF!
Name _2_0_0ra: [1]plan!#REF!
Name _C: 'Razem OW'!_C
Name _C: Zachodniopomorski!_C
Name _C: 'Razem OW'!_C
Name A: 'Razem OW'!A
Name A: Zachodniopomorski!A
Name A: 'Razem OW'!A
Name A_2: [0]!A_2
Name aa: 'Razem OW'!aa
Name aa: Zachodniopomorski!aa
Name aa: 'Razem OW'!aa
Name aa_2: [0]!aa_2
Name B: [0]!B
Name BILANS: [2]plan!#REF!
Name BILANSSPZ: [2]plan!#REF!
Name BV: 'Razem OW'!BV
Name BV: Zachodniopomorski!BV
Name BV: 'Razem OW'!BV
Name cr: 'Razem OW'!cr
Name cr: Zachodniopomorski!cr
Name cr: 'Razem OW'!cr
Name d: 'Razem OW'!d
Name d: Zachodniopomorski!d
Name d: 'Razem OW'!d
Name depozyty: #REF!
Name g: [0]!g
Name koszty: [1]plan!#REF!
Name licznikn: #REF!
Name licznikr: #REF!
Name licznikz: #REF!
Name mn: 'Razem OW'!mn
Name mn: Zachodniopomorski!mn
Name mn: 'Razem OW'!mn
Name mon: 'Razem OW'!mon
Name mon: Zachodniopomorski!mon
Name mon: 'Razem OW'!mon
Name naleznosci: #REF!
Name PETLA: [3]!PETLA
Name rach1: #REF!
Name rach2: #REF!
Name rach3: #REF!
Name rgds: 'Razem OW'!rgds
Name rgds: Zachodniopomorski!rgds
Name rgds: 'Razem OW'!rgds
Name wybkosz1: #REF!
Name wybkosz2: #REF!
Name za: 'Razem OW'!za
Name za: Zachodniopomorski!za
Name za: 'Razem OW'!za

Sheet NFZ
A1: ZMIANA PLANU FINANSOWEGO NARODOWEGO FUNDUSZU ZDROWIA NA 2020 ROK Z DNIA 29 GRUDNIA 2020 R.
A2: Przychody i koszty Narodowego Funduszu Zdrowia - łącznie
E3: w tys. zł
A4: Poz. | B4: Wyszczególnienie | C4: Plan na 2020 rok | D4: Plan po zmianie | E4: Różnica kol.4-kol.3 | F4: Dynamika kol.4/kol.3
A5: 1 | B5: 2 | C5: 3 | D5: 4 | E5: 5 | F5: 6
A6: 1 | B6: Składka należna brutto w roku planowania równa przypisowi składki (1.1 + 1.2) | C6: =C7+C8 -> 93157823 | D6: =D7+D8 -> 93157823 | E6: =IF(C6=D6,"-",D6-C6) -> - | F6: =IF(C6=0,"-",D6/C6) -> 1
A7: 1.1 | B7: od ZUS | C7: 89819705 | D7: =C7 -> 89819705 | E7: =IF(C7=D7,"-",D7-C7) -> - | F7: =IF(C7=0,"-",D7/C7) -> 1
A8: 1.2 | B8: od KRUS | C8: 3338118 | D8: =C8 -> 3338118 | E8: =IF(C8=D8,"-",D8-C8) -> - | F8: =IF(C8=0,"-",D8/C8) -> 1
A9: 2 | B9: Planowany odpis aktualizujący składkę należną (2.1 + 2.2) | C9: =C10+C11 -> 0 | D9: =D10+D11 -> 0 | E9: =IF(C9=D9,"-",D9-C9) -> - | F9: =IF(C9=0,"-",D9/C9) -> -
A10: 2.1 | B10: w stosunku do ZUS | C10: 0 | D10: =C10 -> 0 | E10: =IF(C10=D10,"-",D10-C10) -> - | F10: =IF(C10=0,"-",D10/C10) -> -
A11: 2.2 | B11: w stosunku do KRUS | C11: 0 | D11: =C11 -> 0 | E11: =IF(C11=D11,"-",D11-C11) -> - | F11: =IF(C11=0,"-",D11/C11) -> -
A12: 3 | B12: Przychody ze składek z lat ubiegłych (3.1+3.2) | C12: =C13+C14 -> 115000 | D12: =D13+D14 -> 115000 | E12: =IF(C12=D12,"-",D12-C12) -> - | F12: =IF(C12=0,"-",D12/C12) -> 1
A13: 3.1 | B13: od ZUS | C13: 115000 | D13: =C13 -> 115000 | E13: =IF(C13=D13,"-",D13-C13) -> - | F13: =IF(C13=0,"-",D13/C13) -> 1
A14: 3.2 | B14: od KRUS | C14: 0 | D14: =C14 -> 0 | E14: =IF(C14=D14,"-",D14-C14) -> - | F14: =IF(C14=0,"-",D14/C14) -> -
A15: 4 | B15: Koszt poboru i ewidencjonowania składek (4.1 + 4.2) | C15: =C16+C17 -> 182821 | D15: =D16+D17 -> 182821 | E15: =IF(C15=D15,"-",D15-C15) -> - | F15: =IF(C15=0,"-",D15/C15) -> 1
A16: 4.1 | B16: koszty poboru i ewidencjonowania składek przez ZUS | C16: 179869 | D16: =C16 -> 179869 | E16: =IF(C16=D16,"-",D16-C16) -> - | F16: =IF(C16=0,"-",D16/C16) -> 1
A17: 4.2 | B17: koszty poboru i ewidencjonowania składek przez KRUS | C17: 2952 | D17: =C17 -> 2952 | E17: =IF(C17=D17,"-",D17-C17) -> - | F17: =IF(C17=0,"-",D17/C17) -> 1
A18: 5 | B18: Odpis dla Agencji Oceny Technologii Medycznych i Taryfikacji, o którym mowa w art. 31t ust. 5-9 ustawy | C18: 41848 | D18: =C18 -> 41848 | E18: =IF(C18=D18,"-",D18-C18) -> - | F18: =IF(C18=0,"-",D18/C18) -> 1
A19: A | B19: Przychody netto z działalności (1-2+3-4-5) + A1 + A2 + A3 + A4 + A5 | C19: =(C6-C9+C12-C15-C18)+C20+C21+C22+C23+C24 -> 96065167 | D19: =(D6-D9+D12-D15-D18)+D20+D21+D22+D23+D24 -> 96065167 | E19: =IF(C19=D19,"-",D19-C19) -> - | F19: =IF(C19=0,"-",D19/C19) -> 1
A20: A1 | B20: przychody wynikające z przepisów o koordynacji | C20: 305450 | D20: =C20 -> 305450 | E20: =IF(C20=D20,"-",D20-C20) -> - | F20: =IF(C20=0,"-",D20/C20) -> 1
A21: A2 | B21: przychody z tytułu realizacji zadań zleconych | C21: 107099 | D21: =C21 -> 107099 | E21: =IF(C21=D21,"-",D21-C21) -> - | F21: =IF(C21=0,"-",D21/C21) -> 1
A22: A3 | B22: dotacje z budżetu państwa na finansowanie zadań, o których mowa w art. 97 ust. 3 pkt 2b, 2c i 2e ustawy | C22: 202878 | D22: =C22 -> 202878 | E22: =IF(C22=D22,"-",D22-C22) -> - | F22: =IF(C22=0,"-",D22/C22) -> 1
A23: A4 | B23: dotacja z budżetu państwa na realizację zadań zespołów ratownictwa medycznego | C23: 2401586 | D23: =C23 -> 2401586 | E23: =IF(C23=D23,"-",D23-C23) -> - | F23: =IF(C23=0,"-",D23/C23) -> 1
A24: A5 | B24: dotacja podmiotowa z budżetu państwa, o której mowa w art. 97 ust. 8a ustawy | C24: 0 | D24: =C24 -> 0 | E24: =IF(C24=D24,"-",D24-C24) -> - | F24: =IF(C24=0,"-",D24/C24) -> -
A25: B | B25: Koszty realizacji zadań (B1 + B2 + B3 + B4 + B5 + B6 + B7) | C25: =C26+C27+C61+C62+C63+C64+C65 -> 105490758 | D25: =D26+D27+D61+D62+D63+D64+D65 -> 105557960 | E25: =IF(C25=D25,"-",D25-C25) -> 67202 | F25: =IF(C25=0,"-",D25/C25) -> 1
A26: B1 | B26: Obowiazkowy odpis na rezerwę ogólną | C26: 0 | D26: =C26 -> 0 | E26: =IF(C26=D26,"-",D26-C26) -> - | F26: =IF(C26=0,"-",D26/C26) -> -
A27: B2 | B27: Koszty świadczeń opieki zdrowotnej (B2.1 + … + B2.22) | C27: =C28+C29+C30+C37+C38+C39+C40+C41+C42+C43+C44+C45+C46+C47+C51+C52+C54+C55+C56+C57+C58+C60 -> 102183253 | D27: =D28+D29+D30+D37+D38+D39+D40+D41+D42+D43+D44+D45+D46+D47+D51+D52+D54+D55+D56+D57+D58+D60 -> 102250455 | E27: =IF(C27=D27,"-",D27-C27) -> 67202 | F27: =IF(C27=0,"-",D27/C27) -> 1
A28: B2.1 | B28: podstawowa opieka zdrowotna | C28: =CENTRALA!C7+'Razem OW'!C7 -> 13845775 | D28: =CENTRALA!D7+'Razem OW'!D7 -> 13845775 | E28: =IF(C28=D28,"-",D28-C28) -> - | F28: =IF(C28=0,"-",D28/C28) -> 1
A29: B2.2 | B29: ambulatoryjna opieka specjalistyczna | C29: =CENTRALA!C8+'Razem OW'!C8 -> 5787698 | D29: =CENTRALA!D8+'Razem OW'!D8 -> 5787698 | E29: =IF(C29=D29,"-",D29-C29) -> - | F29: =IF(C29=0,"-",D29/C29) -> 1
A30: B2.3 | B30: leczenie szpitalne, w tym: | C30: =CENTRALA!C9+'Razem OW'!C9 -> 55400999 | D30: =CENTRALA!D9+'Razem OW'!D9 -> 55468201 | E30: =IF(C30=D30,"-",D30-C30) -> 67202 | F30: =IF(C30=0,"-",D30/C30) -> 1
A31: B2.3.1 | B31: programy lekowe, w tym: | C31: =CENTRALA!C10+'Razem OW'!C10 -> 4990604 | D31: =CENTRALA!D10+'Razem OW'!D10 -> 4990604 | E31: =IF(C31=D31,"-",D31-C31) -> - | F31: =IF(C31=0,"-",D31/C31) -> 1
A32: B2.3.1.1 | B32: leki, środki spożywcze specjalnego przeznaczenia żywieniowego objęte programami lekowymi | C32: =CENTRALA!C11+'Razem OW'!C11 -> 4490409 | D32: =CENTRALA!D11+'Razem OW'!D11 -> 4490409 | E32: =IF(C32=D32,"-",D32-C32) -> - | F32: =IF(C32=0,"-",D32/C32) -> 1
A33: B2.3.2 | B33: chemioterapia, w tym: | C33: =CENTRALA!C12+'Razem OW'!C12 -> 1515464 | D33: =CENTRALA!D12+'Razem OW'!D12 -> 1515464 | E33: =IF(C33=D33,"-",D33-C33) -> - | F33: =IF(C33=0,"-",D33/C33) -> 1
A34: B2.3.2.1 | B34: leki stosowane w chemioterapii | C34: =CENTRALA!C13+'Razem OW'!C13 -> 664705 | D34: =CENTRALA!D13+'Razem OW'!D13 -> 664705 | E34: =IF(C34=D34,"-",D34-C34) -> - | F34: =IF(C34=0,"-",D34/C34) -> 1
A35: B2.3.3 | B35: ratunkowy dostęp do technologii lekowej | C35: =CENTRALA!C14+'Razem OW'!C14 -> 31407 | D35: =CENTRALA!D14+'Razem OW'!D14 -> 31407 | E35: =IF(C35=D35,"-",D35-C35) -> - | F35: =IF(C35=0,"-",D35/C35) -> 1
A36: B2.3.4 | B36: świadczenia wysokospecjalistyczne | C36: =CENTRALA!C15+'Razem OW'!C15 -> 191878 | D36: =CENTRALA!D15+'Razem OW'!D15 -> 191878 | E36: =IF(C36=D36,"-",D36-C36) -> - | F36: =IF(C36=0,"-",D36/C36) -> 1
A37: B2.4 | B37: opieka psychiatryczna i leczenie uzależnień | C37: =CENTRALA!C16+'Razem OW'!C16 -> 3277572 | D37: =CENTRALA!D16+'Razem OW'!D16 -> 3277572 | E37: =IF(C37=D37,"-",D37-C37) -> - | F37: =IF(C37=0,"-",D37/C37) -> 1
A38: B2.5 | B38: rehabilitacja lecznicza | C38: =CENTRALA!C17+'Razem OW'!C17 -> 3229595 | D38: =CENTRALA!D17+'Razem OW'!D17 -> 3229595 | E38: =IF(C38=D38,"-",D38-C38) -> - | F38: =IF(C38=0,"-",D38/C38) -> 1
A39: B2.6 | B39: świadczenia pielęgnacyjne i opiekuńcze w ramach opieki długoterminowej | C39: =CENTRALA!C18+'Razem OW'!C18 -> 2101884 | D39: =CENTRALA!D18+'Razem OW'!D18 -> 2101884 | E39: =IF(C39=D39,"-",D39-C39) -> - | F39: =IF(C39=0,"-",D39/C39) -> 1
... A60: B2.22 | B60: świadczenia udzielane za pośrednictwem systemu teleinformatycznego lub systemu łączności | C60: =CENTRALA!C39+'Razem OW'!C39 -> 0 | D60: =CENTRALA!D39+'Razem OW'!D39 -> 0 | E60: =IF(C60=D60,"-",D60-C60) -> - | F60: =IF(C60=0,"-",D60/C60) -> -
A61: B3 | B61: Koszty programów polityki zdrowotnej realizowanych na zlecenie | C61: =CENTRALA!C40+'Razem OW'!C40 -> 6099 | D61: =C61 -> 6099 | E61: =IF(C61=D61,"-",D61-C61) -> - | F61: =IF(C61=0,"-",D61/C61) -> 1
A62: B4 | B62: Koszty realizacji zadań zespołów ratownictwa medycznego | C62: =CENTRALA!C41+'Razem OW'!C41 -> 2434224 | D62: =CENTRALA!D41+'Razem OW'!D41 -> 2434224 | E62: =IF(C62=D62,"-",D62-C62) -> - | F62: =IF(C62=0,"-",D62/C62) -> 1
A63: B5 | B63: Koszty finansowania leku, środka spożywczego specjalnego przeznaczenia żywieniowego oraz wyrobu medycznego w części finansowanej z budżetu państwa zgodnie z art. 43a ust. 3 ustawy | C63: =CENTRALA!C42+'Razem OW'!C42 -> 756182 | D63: =CENTRALA!D42+'Razem OW'!D42 -> 756182 | E63: =IF(C63=D63,"-",D63-C63) -> - | F63: =IF(C63=0,"-",D63/C63) -> 1
A64: B6 | B64: Koszty zadania, o którym mowa w art. 97 ust. 3 pkt 4c ustawy | C64: =CENTRALA!C43+'Razem OW'!C43 -> 100000 | D64: =CENTRALA!D43+'Razem OW'!D43 -> 100000 | E64: =IF(C64=D64,"-",D64-C64) -> - | F64: =IF(C64=0,"-",D64/C64) -> 1
A65: B7 | B65: Koszty finansowania leku, zgodnie z art. 43b ust. 7 ustawy | C65: =CENTRALA!C44+'Razem OW'!C44 -> 11000 | D65: =CENTRALA!D44+'Razem OW'!D44 -> 11000 | E65: =IF(C65=D65,"-",D65-C65) -> - | F65: =IF(C65=0,"-",D65/C65) -> 1
A66: Bn | B66: Całkowity budżet na refundację (B2.3.1.1+B2.3.2.1+B2.3.3+B2.14+B2.16.1+B5+B7) | C66: =CENTRALA!C45+'Razem OW'!C45 -> 14841592 | D66: =CENTRALA!D45+'Razem OW'!D45 -> 14841592 | E66: =IF(C66=D66,"-",D66-C66) -> - | F66: =IF(C66=0,"-",D66/C66) -> 1
A67: C | B67: WYNIK NA DZIAŁALNOŚCI (A - B) | C67: =C19-C25 -> -9425591 | D67: =D19-D25 -> -9492793 | E67: =IF(C67=D67,"-",D67-C67) -> -67202 | F67: =IF(C67=0,"-",D67/C67) -> 1.01
A68: D | B68: Koszty administracyjne (D1 + … + D8) | C68: =C69+C70+C71+C79+C81+C86+C87+C88 -> 967018 | D68: =D69+D70+D71+D79+D81+D86+D87+D88 -> 967018 | E68: =IF(C68=D68,"-",D68-C68) -> - | F68: =IF(C68=0,"-",D68/C68) -> 1
A69: D1 | B69: zużycie materiałów i energii | C69: =CENTRALA!C47+'Razem OW'!C47 -> 28926 | D69: =CENTRALA!D47+'Razem OW'!D47 -> 28926 | E69: =IF(C69=D69,"-",D69-C69) -> - | F69: =IF(C69=0,"-",D69/C69) -> 1
A70: D2 | B70: usługi obce | C70: =CENTRALA!C48+'Razem OW'!C48 -> 268141 | D70: =CENTRALA!D48+'Razem OW'!D48 -> 268141 | E70: =IF(C70=D70,"-",D70-C70) -> - | F70: =IF(C70=0,"-",D70/C70) -> 1
A71: D3 | B71: podatki i opłaty, z tego: | C71: =C72+C74+C75+C76+C77+C78 -> 4713 | D71: =D72+D74+D75+D76+D77+D78 -> 4713 | E71: =IF(C71=D71,"-",D71-C71) -> - | F71: =IF(C71=0,"-",D71/C71) -> 1
A72: D3.1 | B72: podatki stanowiące dochody własne jednostek samorządu terytorialnego, w tym: | C72: =CENTRALA!C50+'Razem OW'!C50 -> 672 | D72: =CENTRALA!D50+'Razem OW'!D50 -> 672 | E72: =IF(C72=D72,"-",D72-C72) -> - | F72: =IF(C72=0,"-",D72/C72) -> 1
A73: D3.1.1 | B73: podatek od nieruchomości | C73: =CENTRALA!C51+'Razem OW'!C51 -> 669 | D73: =CENTRALA!D51+'Razem OW'!D51 -> 669 | E73: =IF(C73=D73,"-",D73-C73) -> - | F73: =IF(C73=0,"-",D73/C73) -> 1
A74: D3.2 | B74: opłaty stanowiące dochody własne jednostek samorządu terytorialnego | C74: =CENTRALA!C52+'Razem OW'!C52 -> 767 | D74: =CENTRALA!D52+'Razem OW'!D52 -> 767 | E74: =IF(C74=D74,"-",D74-C74) -> - | F74: =IF(C74=0,"-",D74/C74) -> 1
A75: D3.3 | B75: VAT | C75: =CENTRALA!C53+'Razem OW'!C53 -> 23 | D75: =CENTRALA!D53+'Razem OW'!D53 -> 23 | E75: =IF(C75=D75,"-",D75-C75) -> - | F75: =IF(C75=0,"-",D75/C75) -> 1
A76: D3.4 | B76: podatek akcyzowy | C76: =CENTRALA!C54+'Razem OW'!C54 -> 0 | D76: =CENTRALA!D54+'Razem OW'!D54 -> 0 | E76: =IF(C76=D76,"-",D76-C76) -> - | F76: =IF(C76=0,"-",D76/C76) -> -
A77: D3.5 | B77: wpłaty na PFRON | C77: =CENTRALA!C55+'Razem OW'!C55 -> 2666 | D77: =CENTRALA!D55+'Razem OW'!D55 -> 2666 | E77: =IF(C77=D77,"-",D77-C77) -> - | F77: =IF(C77=0,"-",D77/C77) -> 1
A78: D3.6 | B78: inne | C78: =CENTRALA!C56+'Razem OW'!C56 -> 585 | D78: =CENTRALA!D56+'Razem OW'!D56 -> 585 | E78: =IF(C78=D78,"-",D78-C78) -> - | F78: =IF(C78=0,"-",D78/C78) -> 1
A79: D4 | B79: wynagrodzenia, w tym: | C79: =CENTRALA!C57+'Razem OW'!C57 -> 453084 | D79: =CENTRALA!D57+'Razem OW'!D57 -> 453084 | E79: =IF(C79=D79,"-",D79-C79) -> - | F79: =IF(C79=0,"-",D79/C79) -> 1
A80: D4.1 | B80: wynagrodzenia bezosobowe | C80: =CENTRALA!C58+'Razem OW'!C58 -> 1600 | D80: =CENTRALA!D58+'Razem OW'!D58 -> 1600 | E80: =IF(C80=D80,"-",D80-C80) -> - | F80: =IF(C80=0,"-",D80/C80) -> 1
A81: D5 | B81: ubezpieczenie społeczne i inne świadczenia, z tego: | C81: =SUM(C82:C85) -> 102584 | D81: =SUM(D82:D85) -> 102584 | E81: =IF(C81=D81,"-",D81-C81) -> - | F81: =IF(C81=0,"-",D81/C81) -> 1
A82: D5.1 | B82: składki na Fundusz Ubezpieczeń Społecznych | C82: =CENTRALA!C60+'Razem OW'!C60 -> 77652 | D82: =CENTRALA!D60+'Razem OW'!D60 -> 77652 | E82: =IF(C82=D82,"-",D82-C82) -> - | F82: =IF(C82=0,"-",D82/C82) -> 1
A83: D5.2 | B83: składki na Fundusz Pracy | C83: =CENTRALA!C61+'Razem OW'!C61 -> 11038 | D83: =CENTRALA!D61+'Razem OW'!D61 -> 11038 | E83: =IF(C83=D83,"-",D83-C83) -> - | F83: =IF(C83=0,"-",D83/C83) -> 1
A84: D5.3 | B84: składki na Fundusz Gwarantowanych Świadczeń Pracowniczych | C84: =CENTRALA!C62+'Razem OW'!C62 -> 0 | D84: =CENTRALA!D62+'Razem OW'!D62 -> 0 | E84: =IF(C84=D84,"-",D84-C84) -> - | F84: =IF(C84=0,"-",D84/C84) -> -
A85: D5.4 | B85: pozostałe świadczenia | C85: =CENTRALA!C63+'Razem OW'!C63 -> 13894 | D85: =CENTRALA!D63+'Razem OW'!D63 -> 13894 | E85: =IF(C85=D85,"-",D85-C85) -> - | F85: =IF(C85=0,"-",D85/C85) -> 1
A86: D6 | B86: koszty funkcjonowania Rady Funduszu | C86: =CENTRALA!C64+'Razem OW'!C64 -> 50 | D86: =CENTRALA!D64+'Razem OW'!D64 -> 50 | E86: =IF(C86=D86,"-",D86-C86) -> - | F86: =IF(C86=0,"-",D86/C86) -> 1
A87: D7 | B87: amortyzacja środków trwałych oraz wartości niematerialnych i prawnych | C87: =CENTRALA!C65+'Razem OW'!C65 -> 101545 | D87: =CENTRALA!D65+'Razem OW'!D65 -> 101545 | E87: =IF(C87=D87,"-",D87-C87) -> - | F87: =IF(C87=0,"-",D87/C87) -> 1
A88: D8 | B88: pozostałe koszty administracyjne | C88: =CENTRALA!C66+'Razem OW'!C66 -> 7975 | D88: =CENTRALA!D66+'Razem OW'!D66 -> 7975 | E88: =IF(C88=D88,"-",D88-C88) -> - | F88: =IF(C88=0,"-",D88/C88) -> 1
A89: E | B89: Pozostałe przychody | C89: 7760540 | D89: =C89+147944 -> 7908484 | E89: =IF(C89=D89,"-",D89-C89) -> 147944 | F89: =IF(C89=0,"-",D89/C89) -> 1.02
A90: F | B90: Pozostałe koszty (F1+ … +F4) | C90: =C91+C92+C93+C94 -> 1190789 | D90: =D91+D92+D93+D94 -> 1210612 | E90: =IF(C90=D90,"-",D90-C90) -> 19823 | F90: =IF(C90=0,"-",D90/C90) -> 1.02
A91: F1 | B91: wydanie i utrzymanie kart ubezpieczenia | C91: =CENTRALA!C68+'Razem OW'!C68 -> 1050 | D91: =CENTRALA!D68+'Razem OW'!D68 -> 588 | E91: =IF(C91=D91,"-",D91-C91) -> -462 | F91: =IF(C91=0,"-",D91/C91) -> 0.56
A92: F2 | B92: rezerwa na zobowiązania wynikające z postępowań sądowych | C92: =CENTRALA!C69+'Razem OW'!C69 -> 132565 | D92: =CENTRALA!D69+'Razem OW'!D69 -> 68695 | E92: =IF(C92=D92,"-",D92-C92) -> -63870 | F92: =IF(C92=0,"-",D92/C92) -> 0.52
A93: F3 | B93: inne rezerwy | C93: =CENTRALA!C70+'Razem OW'!C70 -> 0 | D93: =CENTRALA!D70+'Razem OW'!D70 -> 0 | E93: =IF(C93=D93,"-",D93-C93) -> - | F93: =IF(C93=0,"-",D93/C93) -> -
A94: F4 | B94: inne koszty | C94: =CENTRALA!C71+'Razem OW'!C71 -> 1057174 | D94: =CENTRALA!D71+'Razem OW'!D71 -> 1141329 | E94: =IF(C94=D94,"-",D94-C94) -> 84155 | F94: =IF(C94=0,"-",D94/C94) -> 1.08
A95: G | B95: Przychody finansowe (G1 + G2) | C95: =C96+C97 -> 46485 | D95: =D96+D97 -> 44353 | E95: =IF(C95=D95,"-",D95-C95) -> -2132 | F95: =IF(C95=0,"-",D95/C95) -> 0.95
A96: G1 | B96: odsetki uzyskane z lokat | C96: 39429 | D96: =C96-15958 -> 23471 | E96: =IF(C96=D96,"-",D96-C96) -> -15958 | F96: =IF(C96=0,"-",D96/C96) -> 0.6
A97: G2 | B97: inne przychody finansowe | C97: 7056 | D97: =C97+13826 -> 20882 | E97: =IF(C97=D97,"-",D97-C97) -> 13826 | F97: =IF(C97=0,"-",D97/C97) -> 2.96
A98: H | B98: Koszty finansowe | C98: =CENTRALA!C72+'Razem OW'!C72 -> 34568 | D98: =CENTRALA!D72+'Razem OW'!D72 -> 93355 | E98: =IF(C98=D98,"-",D98-C98) -> 58787 | F98: =IF(C98=0,"-",D98/C98) -> 2.7
A99: I | B99: WYNIK FINANSOWY OGÓŁEM NETTO (C - D + E - F + G - H) | C99: =C67-C68+C89-C90+C95-C98 -> -3810941 | D99: =D67-D68+D89-D90+D95-D98 -> -3810941 | E99: =IF(C99=D99,"-",D99-C99) -> - | F99: =IF(C99=0,"-",D99/C99) -> 1
A100: J | B100: PRZYCHODY - ogółem | C100: =C6+C12+C20+C21+C22+C23+C24+C89+C95-C18 -> 104055013 | D100: =D6+D12+D20+D21+D22+D23+D24+D89+D95-D18 -> 104200825 | E100: =IF(C100=D100,"-",D100-C100) -> 145812 | F100: =IF(C100=0,"-",D100/C100) -> 1
A101: K | B101: KOSZTY - ogółem | C101: =C9+C15+C26+C27+C61+C62+C63+C64+C65+C68+C90+C98 -> 107865954 | D101: =D9+D15+D26+D27+D61+D62+D63+D64+D65+D68+D90+D98 -> 108011766 | E101: =IF(C101=D101,"-",D101-C101) -> 145812 | F101: =IF(C101=0,"-",D101/C101) -> 1

Sheet CENTRALA
A1: ZMIANA PLANU FINANSOWEGO NARODOWEGO FUNDUSZU ZDROWIA NA 2020 ROK Z DNIA 29 GRUDNIA 2020 R.
A2: Koszty Centrali Narodowego Funduszu Zdrowia
E3: w tys. zł
A4: Poz. | B4: Wyszczególnienie | C4: Plan na 2020 rok | D4: Plan po zmianie | E4: Różnica kol.4-kol.3 | F4: Dynamika kol.4/kol.3
A5: 1 | B5: 2 | C5: 3 | D5: 4 | E5: 5 | F5: 6
A6: B2 | B6: Koszty świadczeń opieki zdrowotnej (B2.1+...+B2.22) | C6: =C7+C8+C9+C16+C17+C18+C19+C20+C21+C22+C23+C24+C25+C26+C30+C31+C33+C34+C35+C36+C37+C39 -> 769370 | D6: =D7+D8+D9+D16+D17+D18+D19+D20+D21+D22+D23+D24+D25+D26+D30+D31+D33+D34+D35+D36+D37+D39 -> 769370 | E6: =IF(C6=D6,"-",D6-C6) -> - | F6: =IF(C6=0,"-",D6/C6) -> 1
A7: B2.1 | B7: podstawowa opieka zdrowotna | C7: 0 | D7: =C7 -> 0 | E7: =IF(C7=D7,"-",D7-C7) -> - | F7: =IF(C7=0,"-",D7/C7) -> -
A8: B2.2 | B8: ambulatoryjna opieka specjalistyczna | C8: 0 | D8: =C8 -> 0 | E8: =IF(C8=D8,"-",D8-C8) -> - | F8: =IF(C8=0,"-",D8/C8) -> -
A9: B2.3 | B9: leczenie szpitalne, w tym: | C9: 0 | D9: =C9 -> 0 | E9: =IF(C9=D9,"-",D9-C9) -> - | F9: =IF(C9=0,"-",D9/C9) -> -
A10: B2.3.1 | B10: programy lekowe, w tym: | C10: 0 | D10: =C10 -> 0 | E10: =IF(C10=D10,"-",D10-C10) -> - | F10: =IF(C10=0,"-",D10/C10) -> -
A11: B2.3.1.1 | B11: leki, środki spożywcze specjalnego przeznaczenia żywieniowego objęte programami lekowymi | C11: 0 | D11: =C11 -> 0 | E11: =IF(C11=D11,"-",D11-C11) -> - | F11: =IF(C11=0,"-",D11/C11) -> -
A12: B2.3.2 | B12: chemioterapia, w tym: | C12: 0 | D12: =C12 -> 0 | E12: =IF(C12=D12,"-",D12-C12) -> - | F12: =IF(C12=0,"-",D12/C12) -> -
A13: B2.3.2.1 | B13: leki stosowane w chemioterapii | C13: 0 | D13: =C13 -> 0 | E13: =IF(C13=D13,"-",D13-C13) -> - | F13: =IF(C13=0,"-",D13/C13) -> -
A14: B2.3.3 | B14: ratunkowy dostęp do technologii lekowej | C14: 0 | D14: =C14 -> 0 | E14: =IF(C14=D14,"-",D14-C14) -> - | F14: =IF(C14=0,"-",D14/C14) -> -
A15: B2.3.4 | B15: świadczenia wysokospecjalistyczne | C15: 0 | D15: =C15 -> 0 | E15: =IF(C15=D15,"-",D15-C15) -> - | F15: =IF(C15=0,"-",D15/C15) -> -
A16: B2.4 | B16: opieka psychiatryczna i leczenie uzależnień | C16: 0 | D16: =C16 -> 0 | E16: =IF(C16=D16,"-",D16-C16) -> - | F16: =IF(C16=0,"-",D16/C16) -> -
A17: B2.5 | B17: rehabilitacja lecznicza | C17: 0 | D17: =C17 -> 0 | E17: =IF(C17=D17,"-",D17-C17) -> - | F17: =IF(C17=0,"-",D17/C17) -> -
A18: B2.6 | B18: świadczenia pielęgnacyjne i opiekuńcze w ramach opieki długoterminowej | C18: 0 | D18: =C18 -> 0 | E18: =IF(C18=D18,"-",D18-C18) -> - | F18: =IF(C18=0,"-",D18/C18) -> -
... A25: B2.13 | B25: zaopatrzenie w wyroby medyczne oraz ich naprawa, o których mowa w ustawie o refundacji | C25: 0 | D25: =C25 -> 0 | E25: =IF(C25=D25,"-",D25-C25) -> - | F25: =IF(C25=0,"-",D25/C25) -> -
A26: B2.14 | B26: refundacja, z tego: | C26: 0 | D26: =SUM(D27:D29) -> 0 | E26: =IF(C26=D26,"-",D26-C26) -> - | F26: =IF(C26=0,"-",D26/C26) -> -
A27: B2.14.1 | B27: refundacja leków, środków spożywczych specjalnego przeznaczenia żywieniowego oraz wyrobów medycznych dostępnych w aptece na receptę | C27: 0 | D27: =C27 -> 0 | E27: =IF(C27=D27,"-",D27-C27) -> - | F27: =IF(C27=0,"-",D27/C27) -> -
A28: B2.14.2 | B28: refundacja leków, o których mowa w art. 15 ust. 2 pkt 17 ustawy | C28: 0 | D28: =C28 -> 0 | E28: =IF(C28=D28,"-",D28-C28) -> - | F28: =IF(C28=0,"-",D28/C28) -> -
A29: B2.14.3 | B29: refundacja środków spożywczych specjalnego przeznaczenia żywieniowego, o których mowa w art. 15 ust. 2 pkt 18 ustawy | C29: 0 | D29: =C29 -> 0 | E29: =IF(C29=D29,"-",D29-C29) -> - | F29: =IF(C29=0,"-",D29/C29) -> -
A30: B2.15 | B30: rezerwa na koszty realizacji zadań wynikajacych z przepisów o koordynacji | C30: 719370 | D30: =C30 -> 719370 | E30: =IF(C30=D30,"-",D30-C30) -> - | F30: =IF(C30=0,"-",D30/C30) -> 1
A31: B2.16 | B31: rezerwa na pokrycie kosztów świadczeń opieki zdrowotnej oraz refundacji leków, w tym: | C31: 0 | D31: =C31 -> 0 | E31: =IF(C31=D31,"-",D31-C31) -> - | F31: =IF(C31=0,"-",D31/C31) -> -
A32: B2.16.1 | B32: rezerwa, o której mowa w art. 118 ust. 2 pkt 2 lit. c ustawy | C32: 0 | D32: =C32 -> 0 | E32: =IF(C32=D32,"-",D32-C32) -> - | F32: =IF(C32=0,"-",D32/C32) -> -
A33: B2.17 | B33: rezerwa na koszty świadczeń opieki zdrowotnej w ramach migracji ubezpieczonych | C33: 0 | D33: =C33 -> 0 | E33: =IF(C33=D33,"-",D33-C33) -> - | F33: =IF(C33=0,"-",D33/C33) -> -
A34: B2.18 | B34: koszty świadczeń opieki zdrowotnej z lat ubiegłych | C34: 0 | D34: =C34 -> 0 | E34: =IF(C34=D34,"-",D34-C34) -> - | F34: =IF(C34=0,"-",D34/C34) -> -
A35: B2.19 | B35: rezerwa na koszty świadczeń opieki zdrowotnej udzielone w ramach transgranicznej opieki zdrowotnej | C35: 50000 | D35: =C35 -> 50000 | E35: =IF(C35=D35,"-",D35-C35) -> - | F35: =IF(C35=0,"-",D35/C35) -> 1
A36: B2.20 | B36: rezerwa na dofinansowanie programów polityki zdrowotnej na podstawie art. 48d ustawy | C36: 0 | D36: =C36 -> 0 | E36: =IF(C36=D36,"-",D36-C36) -> - | F36: =IF(C36=0,"-",D36/C36) -> -
A37: B2.21 | B37: koszty świadczeń opieki zdrowotnej w ramach programów pilotażowych, o których mowa w art. 48e ustawy, w tym: | C37: 0 | D37: =C37 -> 0 | E37: =IF(C37=D37,"-",D37-C37) -> - | F37: =IF(C37=0,"-",D37/C37) -> -
A38: B2.21.1 | B38: koszty świadczeń opieki zdrowotnej w ramach programów pilotażowych w centrach zdrowia psychicznego | C38: 0 | D38: =C38 -> 0 | E38: =IF(C38=D38,"-",D38-C38) -> - | F38: =IF(C38=0,"-",D38/C38) -> -
... A44: B7 | B44: Koszty finansowania leku, zgodnie z art. 43b ust. 7 ustawy | C44: 0 | D44: =C44 -> 0 | E44: =IF(C44=D44,"-",D44-C44) -> - | F44: =IF(C44=0,"-",D44/C44) -> -
A45: Bn | B45: Całkowity budżet na refundację (B2.3.1.1+B2.3.2.1+B2.3.3+B2.14+B2.16.1+B5+B7) | C45: =C11+C13+C14+C26+C32+C42+C44 -> 0 | D45: =D11+D13+D14+D26+D32+D42+D44 -> 0 | E45: =IF(C45=D45,"-",D45-C45) -> - | F45: =IF(C45=0,"-",D45/C45) -> -
A46: D | B46: Koszty administracyjne ( D1+...+D8 ) | C46: =C47+C48+C49+C57+C59+C65+C66+C64 -> 372532 | D46: =C46 -> 372532 | E46: =IF(C46=D46,"-",D46-C46) -> - | F46: =IF(C46=0,"-",D46/C46) -> 1
A47: D1 | B47: zużycie materiałów i energii | C47: 5647 | D47: =C47 -> 5647 | E47: =IF(C47=D47,"-",D47-C47) -> - | F47: =IF(C47=0,"-",D47/C47) -> 1
A48: D2 | B48: usługi obce | C48: 175052 | D48: =C48 -> 175052 | E48: =IF(C48=D48,"-",D48-C48) -> - | F48: =IF(C48=0,"-",D48/C48) -> 1
A49: D3 | B49: podatki i opłaty, z tego | C49: =C50+C52+C53+C54+C55+C56 -> 1968 | D49: =D50+D52+D53+D54+D55+D56 -> 1968 | E49: =IF(C49=D49,"-",D49-C49) -> - | F49: =IF(C49=0,"-",D49/C49) -> 1
A50: D3.1 | B50: podatki stanowiące dochody własne jednostek samorządu terytorialnego, w tym: | C50: 100 | D50: =C50 -> 100 | E50: =IF(C50=D50,"-",D50-C50) -> - | F50: =IF(C50=0,"-",D50/C50) -> 1
A51: D3.1.1 | B51: podatek od nieruchomości | C51: 100 | D51: =C51 -> 100 | E51: =IF(C51=D51,"-",D51-C51) -> - | F51: =IF(C51=0,"-",D51/C51) -> 1
A52: D3.2 | B52: opłaty stanowiące dochody własne jednostek samorządu terytorialnego | C52: 94 | D52: =C52 -> 94 | E52: =IF(C52=D52,"-",D52-C52) -> - | F52: =IF(C52=0,"-",D52/C52) -> 1
A53: D3.3 | B53: VAT | C53: 15 | D53: =C53 -> 15 | E53: =IF(C53=D53,"-",D53-C53) -> - | F53: =IF(C53=0,"-",D53/C53) -> 1
A54: D3.4 | B54: podatek akcyzowy | C54: 0 | D54: =C54 -> 0 | E54: =IF(C54=D54,"-",D54-C54) -> - | F54: =IF(C54=0,"-",D54/C54) -> -
A55: D3.5 | B55: wpłaty na PFRON | C55: 1558 | D55: =C55 -> 1558 | E55: =IF(C55=D55,"-",D55-C55) -> - | F55: =IF(C55=0,"-",D55/C55) -> 1
A56: D3.6 | B56: inne | C56: 201 | D56: =C56 -> 201 | E56: =IF(C56=D56,"-",D56-C56) -> - | F56: =IF(C56=0,"-",D56/C56) -> 1
A57: D4 | B57: wynagrodzenia, w tym: | C57: 111917 | D57: =C57 -> 111917 | E57: =IF(C57=D57,"-",D57-C57) -> - | F57: =IF(C57=0,"-",D57/C57) -> 1
A58: D4.1 | B58: wynagrodzenia bezosobowe | C58: 778 | D58: =C58 -> 778 | E58: =IF(C58=D58,"-",D58-C58) -> - | F58: =IF(C58=0,"-",D58/C58) -> 1
A59: D5 | B59: ubezpieczenie społeczne i inne świadczenia, z tego: | C59: =C60+C61+C62+C63 -> 26170 | D59: =D60+D61+D62+D63 -> 26170 | E59: =IF(C59=D59,"-",D59-C59) -> - | F59: =IF(C59=0,"-",D59/C59) -> 1
A60: D5.1 | B60: składki na Fundusz Ubezpieczeń Społecznych | C60: 19211 | D60: =C60 -> 19211 | E60: =IF(C60=D60,"-",D60-C60) -> - | F60: =IF(C60=0,"-",D60/C60) -> 1
A61: D5.2 | B61: składki na Fundusz Pracy | C61: 2749 | D61: =C61 -> 2749 | E61: =IF(C61=D61,"-",D61-C61) -> - | F61: =IF(C61=0,"-",D61/C61) -> 1
A62: D5.3 | B62: składki na Fundusz Gwarantowanych Świadczeń Pracowniczych | C62: 0 | D62: =C62 -> 0 | E62: =IF(C62=D62,"-",D62-C62) -> - | F62: =IF(C62=0,"-",D62/C62) -> -
A63: D5.4 | B63: pozostałe świadczenia | C63: 4210 | D63: =C63 -> 4210 | E63: =IF(C63=D63,"-",D63-C63) -> - | F63: =IF(C63=0,"-",D63/C63) -> 1
A64: D6 | B64: koszty funkcjonowania Rady Funduszu | C64: 50 | D64: =C64 -> 50 | E64: =IF(C64=D64,"-",D64-C64) -> - | F64: =IF(C64=0,"-",D64/C64) -> 1
A65: D7 | B65: amortyzacja środków trwałych oraz wartości niematerialnych i prawnych | C65: 47946 | D65: =C65 -> 47946 | E65: =IF(C65=D65,"-",D65-C65) -> - | F65: =IF(C65=0,"-",D65/C65) -> 1
A66: D8 | B66: pozostałe koszty administracyjne | C66: 3782 | D66: =C66 -> 3782 | E66: =IF(C66=D66,"-",D66-C66) -> - | F66: =IF(C66=0,"-",D66/C66) -> 1
A67: F | B67: Pozostałe koszty (F1+...+F4) | C67: =C68+C69+C70+C71 -> 536425 | D67: =D68+D69+D70+D71 -> 609219 | E67: =IF(C67=D67,"-",D67-C67) -> 72794 | F67: =IF(C67=0,"-",D67/C67) -> 1.1357
A68: F1 | B68: wydanie i utrzymanie kart ubezpieczenia | C68: 800 | D68: =C68-257 -> 543 | E68: =IF(C68=D68,"-",D68-C68) -> -257 | F68: =IF(C68=0,"-",D68/C68) -> 0.6788
A69: F2 | B69: rezerwa na zobowiązania wynikające z postępowań sądowych | C69: 0 | D69: =C69+12 -> 12 | E69: =IF(C69=D69,"-",D69-C69) -> 12 | F69: =IF(C69=0,"-",D69/C69) -> -
A70: F3 | B70: inne rezerwy | C70: 0 | D70: =C70 -> 0 | E70: =IF(C70=D70,"-",D70-C70) -> - | F70: =IF(C70=0,"-",D70/C70) -> -
A71: F4 | B71: inne koszty | C71: 535625 | D71: =C71-176961+250000 -> 608664 | E71: =IF(C71=D71,"-",D71-C71) -> 73039 | F71: =IF(C71=0,"-",D71/C71) -> 1.1364
A72: H | B72: Koszty finansowe | C72: 10182 | D72: =C72+55318 -> 65500 | E72: =IF(C72=D72,"-",D72-C72) -> 55318 | F72: =IF(C72=0,"-",D72/C72) -> 6.4329

Sheet Razem OW
A1: ZMIANA PLANU FINANSOWEGO NARODOWEGO FUNDUSZU ZDROWIA NA 2020 ROK Z DNIA 29 GRUDNIA 2020 R.
A2: Koszty oddziałów wojewódzkich NFZ - łącznie
E3: w tys. zł
A4: Poz. | B4: Wyszczególnienie | C4: Plan na 2020 rok | D4: Plan po zmianie | E4: Różnica kol.4-kol.3 | F4: Dynamika kol.4/kol.3
A5: 1 | B5: 2 | C5: 3 | D5: 4 | E5: 5 | F5: 6
A6: B2 | B6: Koszty świadczeń opieki zdrowotnej (B2.1+...+B2.22) | C6: =C7+C8+C9+C16+C17+C18+C19+C20+C21+C22+C23+C24+C25+C26+C30+C31+C33+C34+C35+C36+C37+C39 -> 101413883 | D6: =D7+D8+D9+D16+D17+D18+D19+D20+D21+D22+D23+D24+D25+D26+D30+D31+D33+D34+D35+D36+D37+D39 -> 101481085 | E6: =IF(C6=D6,"-",D6-C6) -> 67202 | F6: =IF(C6=0,"-",D6/C6) -> 1.0007
A7: B2.1 | B7: podstawowa opieka zdrowotna | C7: =Dolnośląski!C7+KujawskoPomorski!C7+Lubelski!C7+Lubuski!C7+Łódzki!C7+Małopolski!C7+Mazowiecki!C7+Opolski!C7+Podkarpacki!C7+Podlaski!C7+Pomorski!C7+Śląski!C7+Świętokrzyski!C7+WarmińskoMazurski!C7+Wielkopolski!C7+Zachodniopomorski!C7 -> 13845775 | D7: =Dolnośląski!D7+KujawskoPomorski!D7+Lubelski!D7+Lubuski!D7+Łódzki!D7+Małopolski!D7+Mazowiecki!D7+Opolski!D7+Podkarpacki!D7+Podlaski!D7+Pomorski!D7+Śląski!D7+Świętokrzyski!D7+WarmińskoMazurski!D7+Wielkopolski!D7+Zachodniopomorski!D7 -> 13845775 | E7: =IF(C7=D7,"-",D7-C7) -> - | F7: =IF(C7=0,"-",D7/C7) -> 1
A8: B2.2 | B8: ambulatoryjna opieka specjalistyczna | C8: =Dolnośląski!C8+KujawskoPomorski!C8+Lubelski!C8+Lubuski!C8+Łódzki!C8+Małopolski!C8+Mazowiecki!C8+Opolski!C8+Podkarpacki!C8+Podlaski!C8+Pomorski!C8+Śląski!C8+Świętokrzyski!C8+WarmińskoMazurski!C8+Wielkopolski!C8+Zachodniopomorski!C8 -> 5787698 | D8: =Dolnośląski!D8+KujawskoPomorski!D8+Lubelski!D8+Lubuski!D8+Łódzki!D8+Małopolski!D8+Mazowiecki!D8+Opolski!D8+Podkarpacki!D8+Podlaski!D8+Pomorski!D8+Śląski!D8+Świętokrzyski!D8+WarmińskoMazurski!D8+Wielkopolski!D8+Zachodniopomorski!D8 -> 5787698 | E8: =IF(C8=D8,"-",D8-C8) -> - | F8: =IF(C8=0,"-",D8/C8) -> 1
A9: B2.3 | B9: leczenie szpitalne, w tym: | C9: =Dolnośląski!C9+KujawskoPomorski!C9+Lubelski!C9+Lubuski!C9+Łódzki!C9+Małopolski!C9+Mazowiecki!C9+Opolski!C9+Podkarpacki!C9+Podlaski!C9+Pomorski!C9+Śląski!C9+Świętokrzyski!C9+WarmińskoMazurski!C9+Wielkopolski!C9+Zachodniopomorski!C9 -> 55400999 | D9: =Dolnośląski!D9+KujawskoPomorski!D9+Lubelski!D9+Lubuski!D9+Łódzki!D9+Małopolski!D9+Mazowiecki!D9+Opolski!D9+Podkarpacki!D9+Podlaski!D9+Pomorski!D9+Śląski!D9+Świętokrzyski!D9+WarmińskoMazurski!D9+Wielkopolski!D9+Zachodniopomorski!D9 -> 55468201 | E9: =IF(C9=D9,"-",D9-C9) -> 67202 | F9: =IF(C9=0,"-",D9/C9) -> 1.0012
A10: B2.3.1 | B10: programy lekowe, w tym: | C10: =Dolnośląski!C10+KujawskoPomorski!C10+Lubelski!C10+Lubuski!C10+Łódzki!C10+Małopolski!C10+Mazowiecki!C10+Opolski!C10+Podkarpacki!C10+Podlaski!C10+Pomorski!C10+Śląski!C10+Świętokrzyski!C10+WarmińskoMazurski!C10+Wielkopolski!C10+Zachodniopomorski!C10 -> 4990604 | D10: =Dolnośląski!D10+KujawskoPomorski!D10+Lubelski!D10+Lubuski!D10+Łódzki!D10+Małopolski!D10+Mazowiecki!D10+Opolski!D10+Podkarpacki!D10+Podlaski!D10+Pomorski!D10+Śląski!D10+Świętokrzyski!D10+WarmińskoMazurski!D10+Wielkopolski!D10+Zachodniopomorski!D10 -> 4990604 | E10: =IF(C10=D10,"-",D10-C10) -> - | F10: =IF(C10=0,"-",D10/C10) -> 1
A11: B2.3.1.1 | B11: leki, środki spożywcze specjalnego przeznaczenia żywieniowego objęte programami lekowymi | C11: =Dolnośląski!C11+KujawskoPomorski!C11+Lubelski!C11+Lubuski!C11+Łódzki!C11+Małopolski!C11+Mazowiecki!C11+Opolski!C11+Podkarpacki!C11+Podlaski!C11+Pomorski!C11+Śląski!C11+Świętokrzyski!C11+WarmińskoMazurski!C11+Wielkopolski!C11+Zachodniopomorski!C11 -> 4490409 | D11: =Dolnośląski!D11+KujawskoPomorski!D11+Lubelski!D11+Lubuski!D11+Łódzki!D11+Małopolski!D11+Mazowiecki!D11+Opolski!D11+Podkarpacki!D11+Podlaski!D11+Pomorski!D11+Śląski!D11+Świętokrzyski!D11+WarmińskoMazurski!D11+Wielkopolski!D11+Zachodniopomorski!D11 -> 4490409 | E11: =IF(C11=D11,"-",D11-C11) -> - | F11: =IF(C11=0,"-",D11/C11) -> 1
A12: B2.3.2 | B12: chemioterapia, w tym: | C12: =Dolnośląski!C12+KujawskoPomorski!C12+Lubelski!C12+Lubuski!C12+Łódzki!C12+Małopolski!C12+Mazowiecki!C12+Opolski!C12+Podkarpacki!C12+Podlaski!C12+Pomorski!C12+Śląski!C12+Świętokrzyski!C12+WarmińskoMazurski!C12+Wielkopolski!C12+Zachodniopomorski!C12 -> 1515464 | D12: =Dolnośląski!D12+KujawskoPomorski!D12+Lubelski!D12+Lubuski!D12+Łódzki!D12+Małopolski!D12+Mazowiecki!D12+Opolski!D12+Podkarpacki!D12+Podlaski!D12+Pomorski!D12+Śląski!D12+Świętokrzyski!D12+WarmińskoMazurski!D12+Wielkopolski!D12+Zachodniopomorski!D12 -> 1515464 | E12: =IF(C12=D12,"-",D12-C12) -> - | F12: =IF(C12=0,"-",D12/C12) -> 1
A13: B2.3.2.1 | B13: leki stosowane w chemioterapii | C13: =Dolnośląski!C13+KujawskoPomorski!C13+Lubelski!C13+Lubuski!C13+Łódzki!C13+Małopolski!C13+Mazowiecki!C13+Opolski!C13+Podkarpacki!C13+Podlaski!C13+Pomorski!C13+Śląski!C13+Świętokrzyski!C13+WarmińskoMazurski!C13+Wielkopolski!C13+Zachodniopomorski!C13 -> 664705 | D13: =Dolnośląski!D13+KujawskoPomorski!D13+Lubelski!D13+Lubuski!D13+Łódzki!D13+Małopolski!D13+Mazowiecki!D13+Opolski!D13+Podkarpacki!D13+Podlaski!D13+Pomorski!D13+Śląski!D13+Świętokrzyski!D13+WarmińskoMazurski!D13+Wielkopolski!D13+Zachodniopomorski!D13 -> 664705 | E13: =IF(C13=D13,"-",D13-C13) -> - | F13: =IF(C13=0,"-",D13/C13) -> 1
A14: B2.3.3 | B14: ratunkowy dostęp do technologii lekowej | C14: =Dolnośląski!C14+KujawskoPomorski!C14+Lubelski!C14+Lubuski!C14+Łódzki!C14+Małopolski!C14+Mazowiecki!C14+Opolski!C14+Podkarpacki!C14+Podlaski!C14+Pomorski!C14+Śląski!C14+Świętokrzyski!C14+WarmińskoMazurski!C14+Wielkopolski!C14+Zachodniopomorski!C14 -> 31407 | D14: =Dolnośląski!D14+KujawskoPomorski!D14+Lubelski!D14+Lubuski!D14+Łódzki!D14+Małopolski!D14+Mazowiecki!D14+Opolski!D14+Podkarpacki!D14+Podlaski!D14+Pomorski!D14+Śląski!D14+Świętokrzyski!D14+WarmińskoMazurski!D14+Wielkopolski!D14+Zachodniopomorski!D14 -> 31407 | E14: =IF(C14=D14,"-",D14-C14) -> - | F14: =IF(C14=0,"-",D14/C14) -> 1
A15: B2.3.4 | B15: świadczenia wysokospecjalistyczne | C15: =Dolnośląski!C15+KujawskoPomorski!C15+Lubelski!C15+Lubuski!C15+Łódzki!C15+Małopolski!C15+Mazowiecki!C15+Opolski!C15+Podkarpacki!C15+Podlaski!C15+Pomorski!C15+Śląski!C15+Świętokrzyski!C15+WarmińskoMazurski!C15+Wielkopolski!C15+Zachodniopomorski!C15 -> 191878 | D15: =Dolnośląski!D15+KujawskoPomorski!D15+Lubelski!D15+Lubuski!D15+Łódzki!D15+Małopolski!D15+Mazowiecki!D15+Opolski!D15+Podkarpacki!D15+Podlaski!D15+Pomorski!D15+Śląski!D15+Świętokrzyski!D15+WarmińskoMazurski!D15+Wielkopolski!D15+Zachodniopomorski!D15 -> 191878 | E15: =IF(C15=D15,"-",D15-C15) -> - | F15: =IF(C15=0,"-",D15/C15) -> 1
A16: B2.4 | B16: opieka psychiatryczna i leczenie uzależnień | C16: =Dolnośląski!C16+KujawskoPomorski!C16+Lubelski!C16+Lubuski!C16+Łódzki!C16+Małopolski!C16+Mazowiecki!C16+Opolski!C16+Podkarpacki!C16+Podlaski!C16+Pomorski!C16+Śląski!C16+Świętokrzyski!C16+WarmińskoMazurski!C16+Wielkopolski!C16+Zachodniopomorski!C16 -> 3277572 | D16: =Dolnośląski!D16+KujawskoPomorski!D16+Lubelski!D16+Lubuski!D16+Łódzki!D16+Małopolski!D16+Mazowiecki!D16+Opolski!D16+Podkarpacki!D16+Podlaski!D16+Pomorski!D16+Śląski!D16+Świętokrzyski!D16+WarmińskoMazurski!D16+Wielkopolski!D16+Zachodniopomorski!D16 -> 3277572 | E16: =IF(C16=D16,"-",D16-C16) -> - | F16: =IF(C16=0,"-",D16/C16) -> 1
A17: B2.5 | B17: rehabilitacja lecznicza | C17: =Dolnośląski!C17+KujawskoPomorski!C17+Lubelski!C17+Lubuski!C17+Łódzki!C17+Małopolski!C17+Mazowiecki!C17+Opolski!C17+Podkarpacki!C17+Podlaski!C17+Pomorski!C17+Śląski!C17+Świętokrzyski!C17+WarmińskoMazurski!C17+Wielkopolski!C17+Zachodniopomorski!C17 -> 3229595 | D17: =Dolnośląski!D17+KujawskoPomorski!D17+Lubelski!D17+Lubuski!D17+Łódzki!D17+Małopolski!D17+Mazowiecki!D17+Opolski!D17+Podkarpacki!D17+Podlaski!D17+Pomorski!D17+Śląski!D17+Świętokrzyski!D17+WarmińskoMazurski!D17+Wielkopolski!D17+Zachodniopomorski!D17 -> 3229595 | E17: =IF(C17=D17,"-",D17-C17) -> - | F17: =IF(C17=0,"-",D17/C17) -> 1
A18: B2.6 | B18: świadczenia pielęgnacyjne i opiekuńcze w ramach opieki długoterminowej | C18: =Dolnośląski!C18+KujawskoPomorski!C18+Lubelski!C18+Lubuski!C18+Łódzki!C18+Małopolski!C18+Mazowiecki!C18+Opolski!C18+Podkarpacki!C18+Podlaski!C18+Pomorski!C18+Śląski!C18+Świętokrzyski!C18+WarmińskoMazurski!C18+Wielkopolski!C18+Zachodniopomorski!C18 -> 2101884 | D18: =Dolnośląski!D18+KujawskoPomorski!D18+Lubelski!D18+Lubuski!D18+Łódzki!D18+Małopolski!D18+Mazowiecki!D18+Opolski!D18+Podkarpacki!D18+Podlaski!D18+Pomorski!D18+Śląski!D18+Świętokrzyski!D18+WarmińskoMazurski!D18+Wielkopolski!D18+Zachodniopomorski!D18 -> 2101884 | E18: =IF(C18=D18,"-",D18-C18) -> - | F18: =IF(C18=0,"-",D18/C18) -> 1
... A44: B7 | B44: Koszty finansowania leku, zgodnie z art. 43b ust. 7 ustawy | C44: =Dolnośląski!C44+KujawskoPomorski!C44+Lubelski!C44+Lubuski!C44+Łódzki!C44+Małopolski!C44+Mazowiecki!C44+Opolski!C44+Podkarpacki!C44+Podlaski!C44+Pomorski!C44+Śląski!C44+Świętokrzyski!C44+WarmińskoMazurski!C44+Wielkopolski!C44+Zachodniopomorski!C44 -> 11000 | D44: =Dolnośląski!D44+KujawskoPomorski!D44+Lubelski!D44+Lubuski!D44+Łódzki!D44+Małopolski!D44+Mazowiecki!D44+Opolski!D44+Podkarpacki!D44+Podlaski!D44+Pomorski!D44+Śląski!D44+Świętokrzyski!D44+WarmińskoMazurski!D44+Wielkopolski!D44+Zachodniopomorski!D44 -> 11000 | E44: =IF(C44=D44,"-",D44-C44) -> - | F44: =IF(C44=0,"-",D44/C44) -> 1
A45: Bn | B45: Całkowity budżet na refundację (B2.3.1.1+B2.3.2.1+B2.3.3+B2.14+B2.16.1+B5+B7) | C45: =C11+C13+C14+C26+C32+C42+C44 -> 14841592 | D45: =D11+D13+D14+D26+D32+D42+D44 -> 14841592 | E45: =IF(C45=D45,"-",D45-C45) -> - | F45: =IF(C45=0,"-",D45/C45) -> 1
A46: D | B46: Koszty administracyjne ( D1+...+D8 ) | C46: =C47+C48+C49+C57+C59+C65+C66+C64 -> 594486 | D46: =Dolnośląski!D46+KujawskoPomorski!D46+Lubelski!D46+Lubuski!D46+Łódzki!D46+Małopolski!D46+Mazowiecki!D46+Opolski!D46+Podkarpacki!D46+Podlaski!D46+Pomorski!D46+Śląski!D46+Świętokrzyski!D46+WarmińskoMazurski!D46+Wielkopolski!D46+Zachodniopomorski!D46 -> 594486 | E46: =IF(C46=D46,"-",D46-C46) -> - | F46: =IF(C46=0,"-",D46/C46) -> 1
A47: D1 | B47: zużycie materiałów i energii | C47: =Dolnośląski!C47+KujawskoPomorski!C47+Lubelski!C47+Lubuski!C47+Łódzki!C47+Małopolski!C47+Mazowiecki!C47+Opolski!C47+Podkarpacki!C47+Podlaski!C47+Pomorski!C47+Śląski!C47+Świętokrzyski!C47+WarmińskoMazurski!C47+Wielkopolski!C47+Zachodniopomorski!C47 -> 23279 | D47: =Dolnośląski!D47+KujawskoPomorski!D47+Lubelski!D47+Lubuski!D47+Łódzki!D47+Małopolski!D47+Mazowiecki!D47+Opolski!D47+Podkarpacki!D47+Podlaski!D47+Pomorski!D47+Śląski!D47+Świętokrzyski!D47+WarmińskoMazurski!D47+Wielkopolski!D47+Zachodniopomorski!D47 -> 23279 | E47: =IF(C47=D47,"-",D47-C47) -> - | F47: =IF(C47=0,"-",D47/C47) -> 1
A48: D2 | B48: usługi obce | C48: =Dolnośląski!C48+KujawskoPomorski!C48+Lubelski!C48+Lubuski!C48+Łódzki!C48+Małopolski!C48+Mazowiecki!C48+Opolski!C48+Podkarpacki!C48+Podlaski!C48+Pomorski!C48+Śląski!C48+Świętokrzyski!C48+WarmińskoMazurski!C48+Wielkopolski!C48+Zachodniopomorski!C48 -> 93089 | D48: =Dolnośląski!D48+KujawskoPomorski!D48+Lubelski!D48+Lubuski!D48+Łódzki!D48+Małopolski!D48+Mazowiecki!D48+Opolski!D48+Podkarpacki!D48+Podlaski!D48+Pomorski!D48+Śląski!D48+Świętokrzyski!D48+WarmińskoMazurski!D48+Wielkopolski!D48+Zachodniopomorski!D48 -> 93089 | E48: =IF(C48=D48,"-",D48-C48) -> - | F48: =IF(C48=0,"-",D48/C48) -> 1
A49: D3 | B49: podatki i opłaty, z tego | C49: =C50+C52+C53+C54+C55+C56 -> 2745 | D49: =D50+D52+D53+D54+D55+D56 -> 2745 | E49: =IF(C49=D49,"-",D49-C49) -> - | F49: =IF(C49=0,"-",D49/C49) -> 1
A50: D3.1 | B50: podatki stanowiące dochody własne jednostek samorządu terytorialnego, w tym: | C50: =Dolnośląski!C50+KujawskoPomorski!C50+Lubelski!C50+Lubuski!C50+Łódzki!C50+Małopolski!C50+Mazowiecki!C50+Opolski!C50+Podkarpacki!C50+Podlaski!C50+Pomorski!C50+Śląski!C50+Świętokrzyski!C50+WarmińskoMazurski!C50+Wielkopolski!C50+Zachodniopomorski!C50 -> 572 | D50: =Dolnośląski!D50+KujawskoPomorski!D50+Lubelski!D50+Lubuski!D50+Łódzki!D50+Małopolski!D50+Mazowiecki!D50+Opolski!D50+Podkarpacki!D50+Podlaski!D50+Pomorski!D50+Śląski!D50+Świętokrzyski!D50+WarmińskoMazurski!D50+Wielkopolski!D50+Zachodniopomorski!D50 -> 572 | E50: =IF(C50=D50,"-",D50-C50) -> - | F50: =IF(C50=0,"-",D50/C50) -> 1
A51: D3.1.1 | B51: podatek od nieruchomości | C51: =Dolnośląski!C51+KujawskoPomorski!C51+Lubelski!C51+Lubuski!C51+Łódzki!C51+Małopolski!C51+Mazowiecki!C51+Opolski!C51+Podkarpacki!C51+Podlaski!C51+Pomorski!C51+Śląski!C51+Świętokrzyski!C51+WarmińskoMazurski!C51+Wielkopolski!C51+Zachodniopomorski!C51 -> 569 | D51: =Dolnośląski!D51+KujawskoPomorski!D51+Lubelski!D51+Lubuski!D51+Łódzki!D51+Małopolski!D51+Mazowiecki!D51+Opolski!D51+Podkarpacki!D51+Podlaski!D51+Pomorski!D51+Śląski!D51+Świętokrzyski!D51+WarmińskoMazurski!D51+Wielkopolski!D51+Zachodniopomorski!D51 -> 569 | E51: =IF(C51=D51,"-",D51-C51) -> - | F51: =IF(C51=0,"-",D51/C51) -> 1
A52: D3.2 | B52: opłaty stanowiące dochody własne jednostek samorządu terytorialnego | C52: =Dolnośląski!C52+KujawskoPomorski!C52+Lubelski!C52+Lubuski!C52+Łódzki!C52+Małopolski!C52+Mazowiecki!C52+Opolski!C52+Podkarpacki!C52+Podlaski!C52+Pomorski!C52+Śląski!C52+Świętokrzyski!C52+WarmińskoMazurski!C52+Wielkopolski!C52+Zachodniopomorski!C52 -> 673 | D52: =Dolnośląski!D52+KujawskoPomorski!D52+Lubelski!D52+Lubuski!D52+Łódzki!D52+Małopolski!D52+Mazowiecki!D52+Opolski!D52+Podkarpacki!D52+Podlaski!D52+Pomorski!D52+Śląski!D52+Świętokrzyski!D52+WarmińskoMazurski!D52+Wielkopolski!D52+Zachodniopomorski!D52 -> 673 | E52: =IF(C52=D52,"-",D52-C52) -> - | F52: =IF(C52=0,"-",D52/C52) -> 1
A53: D3.3 | B53: VAT | C53: =Dolnośląski!C53+KujawskoPomorski!C53+Lubelski!C53+Lubuski!C53+Łódzki!C53+Małopolski!C53+Mazowiecki!C53+Opolski!C53+Podkarpacki!C53+Podlaski!C53+Pomorski!C53+Śląski!C53+Świętokrzyski!C53+WarmińskoMazurski!C53+Wielkopolski!C53+Zachodniopomorski!C53 -> 8 | D53: =Dolnośląski!D53+KujawskoPomorski!D53+Lubelski!D53+Lubuski!D53+Łódzki!D53+Małopolski!D53+Mazowiecki!D53+Opolski!D53+Podkarpacki!D53+Podlaski!D53+Pomorski!D53+Śląski!D53+Świętokrzyski!D53+WarmińskoMazurski!D53+Wielkopolski!D53+Zachodniopomorski!D53 -> 8 | E53: =IF(C53=D53,"-",D53-C53) -> - | F53: =IF(C53=0,"-",D53/C53) -> 1
A54: D3.4 | B54: podatek akcyzowy | C54: =Dolnośląski!C54+KujawskoPomorski!C54+Lubelski!C54+Lubuski!C54+Łódzki!C54+Małopolski!C54+Mazowiecki!C54+Opolski!C54+Podkarpacki!C54+Podlaski!C54+Pomorski!C54+Śląski!C54+Świętokrzyski!C54+WarmińskoMazurski!C54+Wielkopolski!C54+Zachodniopomorski!C54 -> 0 | D54: =Dolnośląski!D54+KujawskoPomorski!D54+Lubelski!D54+Lubuski!D54+Łódzki!D54+Małopolski!D54+Mazowiecki!D54+Opolski!D54+Podkarpacki!D54+Podlaski!D54+Pomorski!D54+Śląski!D54+Świętokrzyski!D54+WarmińskoMazurski!D54+Wielkopolski!D54+Zachodniopomorski!D54 -> 0 | E54: =IF(C54=D54,"-",D54-C54) -> - | F54: =IF(C54=0,"-",D54/C54) -> -
A55: D3.5 | B55: wpłaty na PFRON | C55: =Dolnośląski!C55+KujawskoPomorski!C55+Lubelski!C55+Lubuski!C55+Łódzki!C55+Małopolski!C55+Mazowiecki!C55+Opolski!C55+Podkarpacki!C55+Podlaski!C55+Pomorski!C55+Śląski!C55+Świętokrzyski!C55+WarmińskoMazurski!C55+Wielkopolski!C55+Zachodniopomorski!C55 -> 1108 | D55: =Dolnośląski!D55+KujawskoPomorski!D55+Lubelski!D55+Lubuski!D55+Łódzki!D55+Małopolski!D55+Mazowiecki!D55+Opolski!D55+Podkarpacki!D55+Podlaski!D55+Pomorski!D55+Śląski!D55+Świętokrzyski!D55+WarmińskoMazurski!D55+Wielkopolski!D55+Zachodniopomorski!D55 -> 1108 | E55: =IF(C55=D55,"-",D55-C55) -> - | F55: =IF(C55=0,"-",D55/C55) -> 1
A56: D3.6 | B56: inne | C56: =Dolnośląski!C56+KujawskoPomorski!C56+Lubelski!C56+Lubuski!C56+Łódzki!C56+Małopolski!C56+Mazowiecki!C56+Opolski!C56+Podkarpacki!C56+Podlaski!C56+Pomorski!C56+Śląski!C56+Świętokrzyski!C56+WarmińskoMazurski!C56+Wielkopolski!C56+Zachodniopomorski!C56 -> 384 | D56: =Dolnośląski!D56+KujawskoPomorski!D56+Lubelski!D56+Lubuski!D56+Łódzki!D56+Małopolski!D56+Mazowiecki!D56+Opolski!D56+Podkarpacki!D56+Podlaski!D56+Pomorski!D56+Śląski!D56+Świętokrzyski!D56+WarmińskoMazurski!D56+Wielkopolski!D56+Zachodniopomorski!D56 -> 384 | E56: =IF(C56=D56,"-",D56-C56) -> - | F56: =IF(C56=0,"-",D56/C56) -> 1
A57: D4 | B57: wynagrodzenia, w tym: | C57: =Dolnośląski!C57+KujawskoPomorski!C57+Lubelski!C57+Lubuski!C57+Łódzki!C57+Małopolski!C57+Mazowiecki!C57+Opolski!C57+Podkarpacki!C57+Podlaski!C57+Pomorski!C57+Śląski!C57+Świętokrzyski!C57+WarmińskoMazurski!C57+Wielkopolski!C57+Zachodniopomorski!C57 -> 341167 | D57: =Dolnośląski!D57+KujawskoPomorski!D57+Lubelski!D57+Lubuski!D57+Łódzki!D57+Małopolski!D57+Mazowiecki!D57+Opolski!D57+Podkarpacki!D57+Podlaski!D57+Pomorski!D57+Śląski!D57+Świętokrzyski!D57+WarmińskoMazurski!D57+Wielkopolski!D57+Zachodniopomorski!D57 -> 341167 | E57: =IF(C57=D57,"-",D57-C57) -> - | F57: =IF(C57=0,"-",D57/C57) -> 1
A58: D4.1 | B58: wynagrodzenia bezosobowe | C58: =Dolnośląski!C58+KujawskoPomorski!C58+Lubelski!C58+Lubuski!C58+Łódzki!C58+Małopolski!C58+Mazowiecki!C58+Opolski!C58+Podkarpacki!C58+Podlaski!C58+Pomorski!C58+Śląski!C58+Świętokrzyski!C58+WarmińskoMazurski!C58+Wielkopolski!C58+Zachodniopomorski!C58 -> 822 | D58: =Dolnośląski!D58+KujawskoPomorski!D58+Lubelski!D58+Lubuski!D58+Łódzki!D58+Małopolski!D58+Mazowiecki!D58+Opolski!D58+Podkarpacki!D58+Podlaski!D58+Pomorski!D58+Śląski!D58+Świętokrzyski!D58+WarmińskoMazurski!D58+Wielkopolski!D58+Zachodniopomorski!D58 -> 822 | E58: =IF(C58=D58,"-",D58-C58) -> - | F58: =IF(C58=0,"-",D58/C58) -> 1
A59: D5 | B59: ubezpieczenie społeczne i inne świadczenia, z tego: | C59: =C60+C61+C62+C63 -> 76414 | D59: =D60+D61+D62+D63 -> 76414 | E59: =IF(C59=D59,"-",D59-C59) -> - | F59: =IF(C59=0,"-",D59/C59) -> 1
A60: D5.1 | B60: składki na Fundusz Ubezpieczeń Społecznych | C60: =Dolnośląski!C60+KujawskoPomorski!C60+Lubelski!C60+Lubuski!C60+Łódzki!C60+Małopolski!C60+Mazowiecki!C60+Opolski!C60+Podkarpacki!C60+Podlaski!C60+Pomorski!C60+Śląski!C60+Świętokrzyski!C60+WarmińskoMazurski!C60+Wielkopolski!C60+Zachodniopomorski!C60 -> 58441 | D60: =Dolnośląski!D60+KujawskoPomorski!D60+Lubelski!D60+Lubuski!D60+Łódzki!D60+Małopolski!D60+Mazowiecki!D60+Opolski!D60+Podkarpacki!D60+Podlaski!D60+Pomorski!D60+Śląski!D60+Świętokrzyski!D60+WarmińskoMazurski!D60+Wielkopolski!D60+Zachodniopomorski!D60 -> 58441 | E60: =IF(C60=D60,"-",D60-C60) -> - | F60: =IF(C60=0,"-",D60/C60) -> 1
A61: D5.2 | B61: składki na Fundusz Pracy | C61: =Dolnośląski!C61+KujawskoPomorski!C61+Lubelski!C61+Lubuski!C61+Łódzki!C61+Małopolski!C61+Mazowiecki!C61+Opolski!C61+Podkarpacki!C61+Podlaski!C61+Pomorski!C61+Śląski!C61+Świętokrzyski!C61+WarmińskoMazurski!C61+Wielkopolski!C61+Zachodniopomorski!C61 -> 8289 | D61: =Dolnośląski!D61+KujawskoPomorski!D61+Lubelski!D61+Lubuski!D61+Łódzki!D61+Małopolski!D61+Mazowiecki!D61+Opolski!D61+Podkarpacki!D61+Podlaski!D61+Pomorski!D61+Śląski!D61+Świętokrzyski!D61+WarmińskoMazurski!D61+Wielkopolski!D61+Zachodniopomorski!D61 -> 8289 | E61: =IF(C61=D61,"-",D61-C61) -> - | F61: =IF(C61=0,"-",D61/C61) -> 1
A62: D5.3 | B62: składki na Fundusz Gwarantowanych Świadczeń Pracowniczych | C62: =Dolnośląski!C62+KujawskoPomorski!C62+Lubelski!C62+Lubuski!C62+Łódzki!C62+Małopolski!C62+Mazowiecki!C62+Opolski!C62+Podkarpacki!C62+Podlaski!C62+Pomorski!C62+Śląski!C62+Świętokrzyski!C62+WarmińskoMazurski!C62+Wielkopolski!C62+Zachodniopomorski!C62 -> 0 | D62: =Dolnośląski!D62+KujawskoPomorski!D62+Lubelski!D62+Lubuski!D62+Łódzki!D62+Małopolski!D62+Mazowiecki!D62+Opolski!D62+Podkarpacki!D62+Podlaski!D62+Pomorski!D62+Śląski!D62+Świętokrzyski!D62+WarmińskoMazurski!D62+Wielkopolski!D62+Zachodniopomorski!D62 -> 0 | E62: =IF(C62=D62,"-",D62-C62) -> - | F62: =IF(C62=0,"-",D62/C62) -> -
A63: D5.4 | B63: pozostałe świadczenia | C63: =Dolnośląski!C63+KujawskoPomorski!C63+Lubelski!C63+Lubuski!C63+Łódzki!C63+Małopolski!C63+Mazowiecki!C63+Opolski!C63+Podkarpacki!C63+Podlaski!C63+Pomorski!C63+Śląski!C63+Świętokrzyski!C63+WarmińskoMazurski!C63+Wielkopolski!C63+Zachodniopomorski!C63 -> 9684 | D63: =Dolnośląski!D63+KujawskoPomorski!D63+Lubelski!D63+Lubuski!D63+Łódzki!D63+Małopolski!D63+Mazowiecki!D63+Opolski!D63+Podkarpacki!D63+Podlaski!D63+Pomorski!D63+Śląski!D63+Świętokrzyski!D63+WarmińskoMazurski!D63+Wielkopolski!D63+Zachodniopomorski!D63 -> 9684 | E63: =IF(C63=D63,"-",D63-C63) -> - | F63: =IF(C63=0,"-",D63/C63) -> 1
A64: D6 | B64: koszty funkcjonowania Rady Funduszu | C64: =Dolnośląski!C64+KujawskoPomorski!C64+Lubelski!C64+Lubuski!C64+Łódzki!C64+Małopolski!C64+Mazowiecki!C64+Opolski!C64+Podkarpacki!C64+Podlaski!C64+Pomorski!C64+Śląski!C64+Świętokrzyski!C64+WarmińskoMazurski!C64+Wielkopolski!C64+Zachodniopomorski!C64 -> 0 | D64: =Dolnośląski!D64+KujawskoPomorski!D64+Lubelski!D64+Lubuski!D64+Łódzki!D64+Małopolski!D64+Mazowiecki!D64+Opolski!D64+Podkarpacki!D64+Podlaski!D64+Pomorski!D64+Śląski!D64+Świętokrzyski!D64+WarmińskoMazurski!D64+Wielkopolski!D64+Zachodniopomorski!D64 -> 0 | E64: =IF(C64=D64,"-",D64-C64) -> - | F64: =IF(C64=0,"-",D64/C64) -> -
A65: D7 | B65: amortyzacja środków trwałych oraz wartości niematerialnych i prawnych | C65: =Dolnośląski!C65+KujawskoPomorski!C65+Lubelski!C65+Lubuski!C65+Łódzki!C65+Małopolski!C65+Mazowiecki!C65+Opolski!C65+Podkarpacki!C65+Podlaski!C65+Pomorski!C65+Śląski!C65+Świętokrzyski!C65+WarmińskoMazurski!C65+Wielkopolski!C65+Zachodniopomorski!C65 -> 53599 | D65: =Dolnośląski!D65+KujawskoPomorski!D65+Lubelski!D65+Lubuski!D65+Łódzki!D65+Małopolski!D65+Mazowiecki!D65+Opolski!D65+Podkarpacki!D65+Podlaski!D65+Pomorski!D65+Śląski!D65+Świętokrzyski!D65+WarmińskoMazurski!D65+Wielkopolski!D65+Zachodniopomorski!D65 -> 53599 | E65: =IF(C65=D65,"-",D65-C65) -> - | F65: =IF(C65=0,"-",D65/C65) -> 1
A66: D8 | B66: pozostałe koszty administracyjne | C66: =Dolnośląski!C66+KujawskoPomorski!C66+Lubelski!C66+Lubuski!C66+Łódzki!C66+Małopolski!C66+Mazowiecki!C66+Opolski!C66+Podkarpacki!C66+Podlaski!C66+Pomorski!C66+Śląski!C66+Świętokrzyski!C66+WarmińskoMazurski!C66+Wielkopolski!C66+Zachodniopomorski!C66 -> 4193 | D66: =Dolnośląski!D66+KujawskoPomorski!D66+Lubelski!D66+Lubuski!D66+Łódzki!D66+Małopolski!D66+Mazowiecki!D66+Opolski!D66+Podkarpacki!D66+Podlaski!D66+Pomorski!D66+Śląski!D66+Świętokrzyski!D66+WarmińskoMazurski!D66+Wielkopolski!D66+Zachodniopomorski!D66 -> 4193 | E66: =IF(C66=D66,"-",D66-C66) -> - | F66: =IF(C66=0,"-",D66/C66) -> 1
A67: F | B67: Pozostałe koszty (F1+...+F4) | C67: =C68+C69+C70+C71 -> 654364 | D67: =D68+D69+D70+D71 -> 601393 | E67: =IF(C67=D67,"-",D67-C67) -> -52971 | F67: =IF(C67=0,"-",D67/C67) -> 0.919
A68: F1 | B68: wydanie i utrzymanie kart ubezpieczenia | C68: =Dolnośląski!C68+KujawskoPomorski!C68+Lubelski!C68+Lubuski!C68+Łódzki!C68+Małopolski!C68+Mazowiecki!C68+Opolski!C68+Podkarpacki!C68+Podlaski!C68+Pomorski!C68+Śląski!C68+Świętokrzyski!C68+WarmińskoMazurski!C68+Wielkopolski!C68+Zachodniopomorski!C68 -> 250 | D68: =Dolnośląski!D68+KujawskoPomorski!D68+Lubelski!D68+Lubuski!D68+Łódzki!D68+Małopolski!D68+Mazowiecki!D68+Opolski!D68+Podkarpacki!D68+Podlaski!D68+Pomorski!D68+Śląski!D68+Świętokrzyski!D68+WarmińskoMazurski!D68+Wielkopolski!D68+Zachodniopomorski!D68 -> 45 | E68: =IF(C68=D68,"-",D68-C68) -> -205 | F68: =IF(C68=0,"-",D68/C68) -> 0.18
A69: F2 | B69: rezerwa na zobowiązania wynikające z postępowań sądowych | C69: =Dolnośląski!C69+KujawskoPomorski!C69+Lubelski!C69+Lubuski!C69+Łódzki!C69+Małopolski!C69+Mazowiecki!C69+Opolski!C69+Podkarpacki!C69+Podlaski!C69+Pomorski!C69+Śląski!C69+Świętokrzyski!C69+WarmińskoMazurski!C69+Wielkopolski!C69+Zachodniopomorski!C69 -> 132565 | D69: =Dolnośląski!D69+KujawskoPomorski!D69+Lubelski!D69+Lubuski!D69+Łódzki!D69+Małopolski!D69+Mazowiecki!D69+Opolski!D69+Podkarpacki!D69+Podlaski!D69+Pomorski!D69+Śląski!D69+Świętokrzyski!D69+WarmińskoMazurski!D69+Wielkopolski!D69+Zachodniopomorski!D69 -> 68683 | E69: =IF(C69=D69,"-",D69-C69) -> -63882 | F69: =IF(C69=0,"-",D69/C69) -> 0.5181
A70: F3 | B70: inne rezerwy | C70: =Dolnośląski!C70+KujawskoPomorski!C70+Lubelski!C70+Lubuski!C70+Łódzki!C70+Małopolski!C70+Mazowiecki!C70+Opolski!C70+Podkarpacki!C70+Podlaski!C70+Pomorski!C70+Śląski!C70+Świętokrzyski!C70+WarmińskoMazurski!C70+Wielkopolski!C70+Zachodniopomorski!C70 -> 0 | D70: =Dolnośląski!D70+KujawskoPomorski!D70+Lubelski!D70+Lubuski!D70+Łódzki!D70+Małopolski!D70+Mazowiecki!D70+Opolski!D70+Podkarpacki!D70+Podlaski!D70+Pomorski!D70+Śląski!D70+Świętokrzyski!D70+WarmińskoMazurski!D70+Wielkopolski!D70+Zachodniopomorski!D70 -> 0 | E70: =IF(C70=D70,"-",D70-C70) -> - | F70: =IF(C70=0,"-",D70/C70) -> -
A71: F4 | B71: inne koszty | C71: =Dolnośląski!C71+KujawskoPomorski!C71+Lubelski!C71+Lubuski!C71+Łódzki!C71+Małopolski!C71+Mazowiecki!C71+Opolski!C71+Podkarpacki!C71+Podlaski!C71+Pomorski!C71+Śląski!C71+Świętokrzyski!C71+WarmińskoMazurski!C71+Wielkopolski!C71+Zachodniopomorski!C71 -> 521549 | D71: =Dolnośląski!D71+KujawskoPomorski!D71+Lubelski!D71+Lubuski!D71+Łódzki!D71+Małopolski!D71+Mazowiecki!D71+Opolski!D71+Podkarpacki!D71+Podlaski!D71+Pomorski!D71+Śląski!D71+Świętokrzyski!D71+WarmińskoMazurski!D71+Wielkopolski!D71+Zachodniopomorski!D71 -> 532665 | E71: =IF(C71=D71,"-",D71-C71) -> 11116 | F71: =IF(C71=0,"-",D71/C71) -> 1.0213
A72: H | B72: Koszty finansowe | C72: =Dolnośląski!C72+KujawskoPomorski!C72+Lubelski!C72+Lubuski!C72+Łódzki!C72+Małopolski!C72+Mazowiecki!C72+Opolski!C72+Podkarpacki!C72+Podlaski!C72+Pomorski!C72+Śląski!C72+Świętokrzyski!C72+WarmińskoMazurski!C72+Wielkopolski!C72+Zachodniopomorski!C72 -> 24386 | D72: =Dolnośląski!D72+KujawskoPomorski!D72+Lubelski!D72+Lubuski!D72+Łódzki!D72+Małopolski!D72+Mazowiecki!D72+Opolski!D72+Podkarpacki!D72+Podlaski!D72+Pomorski!D72+Śląski!D72+Świętokrzyski!D72+WarmińskoMazurski!D72+Wielkopolski!D72+Zachodniopomorski!D72 -> 27855 | E72: =IF(C72=D72,"-",D72-C72) -> 3469 | F72: =IF(C72=0,"-",D72/C72) -> 1.1423

Sheet Dolnośląski
A1: ZMIANA PLANU FINANSOWEGO NARODOWEGO FUNDUSZU ZDROWIA NA 2020 ROK Z DNIA 29 GRUDNIA 2020 R.
A2: Koszty Dolnośląskiego Oddziału Wojewódzkiego Narodowego Funduszu Zdrowia
E3: w tys. zł
A4: Poz. | B4: Wyszczególnienie | C4: Plan na 2020 rok | D4: Plan po zmianie | E4: Różnica kol.4-kol.3 | F4: Dynamika kol.4/kol.3
A5: 1 | B5: 2 | C5: 3 | D5: 4 | E5: 5 | F5: 6
A6: B2 | B6: Koszty świadczeń opieki zdrowotnej (B2.1+...+B2.22) | C6: =C7+C8+C9+C16+C17+C18+C19+C20+C21+C22+C23+C24+C25+C26+C30+C31+C33+C34+C35+C36+C37+C39 -> 7477738 | D6: =D7+D8+D9+D16+D17+D18+D19+D20+D21+D22+D23+D24+D25+D26+D30+D31+D33+D34+D35+D36+D37+D39 -> 7482812 | E6: =IF(C6=D6,"-",D6-C6) -> 5074 | F6: =IF(C6=0,"-",D6/C6) -> 1.0007
A7: B2.1 | B7: podstawowa opieka zdrowotna | C7: 1029813 | D7: =C7 -> 1029813 | E7: =IF(C7=D7,"-",D7-C7) -> - | F7: =IF(C7=0,"-",D7/C7) -> 1
A8: B2.2 | B8: ambulatoryjna opieka specjalistyczna | C8: 451997 | D8: =C8 -> 451997 | E8: =IF(C8=D8,"-",D8-C8) -> - | F8: =IF(C8=0,"-",D8/C8) -> 1
A9: B2.3 | B9: leczenie szpitalne, w tym: | C9: 3978301 | D9: =C9+5074 -> 3983375 | E9: =IF(C9=D9,"-",D9-C9) -> 5074 | F9: =IF(C9=0,"-",D9/C9) -> 1.0013
A10: B2.3.1 | B10: programy lekowe, w tym: | C10: 388598 | D10: =C10 -> 388598 | E10: =IF(C10=D10,"-",D10-C10) -> - | F10: =IF(C10=0,"-",D10/C10) -> 1
A11: B2.3.1.1 | B11: leki, środki spożywcze specjalnego przeznaczenia żywieniowego objęte programami lekowymi | C11: 350527 | D11: =C11 -> 350527 | E11: =IF(C11=D11,"-",D11-C11) -> - | F11: =IF(C11=0,"-",D11/C11) -> 1
A12: B2.3.2 | B12: chemioterapia, w tym: | C12: 113405 | D12: =C12 -> 113405 | E12: =IF(C12=D12,"-",D12-C12) -> - | F12: =IF(C12=0,"-",D12/C12) -> 1
A13: B2.3.2.1 | B13: leki stosowane w chemioterapii | C13: 50986 | D13: =C13 -> 50986 | E13: =IF(C13=D13,"-",D13-C13) -> - | F13: =IF(C13=0,"-",D13/C13) -> 1
A14: B2.3.3 | B14: ratunkowy dostęp do technologii lekowej | C14: 179 | D14: =C14 -> 179 | E14: =IF(C14=D14,"-",D14-C14) -> - | F14: =IF(C14=0,"-",D14/C14) -> 1
A15: B2.3.4 | B15: świadczenia wysokospecjalistyczne | C15: 4377 | D15: =C15 -> 4377 | E15: =IF(C15=D15,"-",D15-C15) -> - | F15: =IF(C15=0,"-",D15/C15) -> 1
A16: B2.4 | B16: opieka psychiatryczna i leczenie uzależnień | C16: 289700 | D16: =C16 -> 289700 | E16: =IF(C16=D16,"-",D16-C16) -> - | F16: =IF(C16=0,"-",D16/C16) -> 1
A17: B2.5 | B17: rehabilitacja lecznicza | C17: 244610 | D17: =C17 -> 244610 | E17: =IF(C17=D17,"-",D17-C17) -> - | F17: =IF(C17=0,"-",D17/C17) -> 1
A18: B2.6 | B18: świadczenia pielęgnacyjne i opiekuńcze w ramach opieki długoterminowej | C18: 185205 | D18: =C18 -> 185205 | E18: =IF(C18=D18,"-",D18-C18) -> - | F18: =IF(C18=0,"-",D18/C18) -> 1
A19: B2.7 | B19: opieka paliatywna i hospicyjna | C19: 87230 | D19: =C19 -> 87230 | E19: =IF(C19=D19,"-",D19-C19) -> - | F19: =IF(C19=0,"-",D19/C19) -> 1
A20: B2.8 | B20: leczenie stomatologiczne | C20: 127095 | D20: =C20 -> 127095 | E20: =IF(C20=D20,"-",D20-C20) -> - | F20: =IF(C20=0,"-",D20/C20) -> 1
A21: B2.9 | B21: lecznictwo uzdrowiskowe | C21: 78592 | D21: =C21 -> 78592 | E21: =IF(C21=D21,"-",D21-C21) -> - | F21: =IF(C21=0,"-",D21/C21) -> 1
... A44: B7 | B44: Koszty finansowania leku, zgodnie z art. 43b ust. 7 ustawy | C44: 790 | D44: =C44 -> 790 | E44: =IF(C44=D44,"-",D44-C44) -> - | F44: =IF(C44=0,"-",D44/C44) -> 1
A45: Bn | B45: Całkowity budżet na refundację (B2.3.1.1+B2.3.2.1+B2.3.3+B2.14+B2.16.1+B5+B7) | C45: =C11+C13+C14+C26+C32+C42+C44 -> 1115497 | D45: =D11+D13+D14+D26+D32+D42+D44 -> 1115497 | E45: =IF(C45=D45,"-",D45-C45) -> - | F45: =IF(C45=0,"-",D45/C45) -> 1
A46: D | B46: Koszty administracyjne ( D1+...+D8 ) | C46: =C47+C48+C49+C57+C59+C65+C66+C64 -> 41769 | D46: =D47+D48+D49+D57+D59+D65+D66+D64 -> 41769 | E46: =IF(C46=D46,"-",D46-C46) -> - | F46: =IF(C46=0,"-",D46/C46) -> 1
A47: D1 | B47: zużycie materiałów i energii | C47: 1637 | D47: =C47 -> 1637 | E47: =IF(C47=D47,"-",D47-C47) -> - | F47: =IF(C47=0,"-",D47/C47) -> 1
A48: D2 | B48: usługi obce | C48: 5414 | D48: =C48 -> 5414 | E48: =IF(C48=D48,"-",D48-C48) -> - | F48: =IF(C48=0,"-",D48/C48) -> 1
A49: D3 | B49: podatki i opłaty, z tego | C49: =C50+C52+C53+C54+C55+C56 -> 266 | D49: =D50+D52+D53+D54+D55+D56 -> 266 | E49: =IF(C49=D49,"-",D49-C49) -> - | F49: =IF(C49=0,"-",D49/C49) -> 1
A50: D3.1 | B50: podatki stanowiące dochody własne jednostek samorządu terytorialnego, w tym: | C50: 57 | D50: =C50 -> 57 | E50: =IF(C50=D50,"-",D50-C50) -> - | F50: =IF(C50=0,"-",D50/C50) -> 1
A51: D3.1.1 | B51: podatek od nieruchomości | C51: 57 | D51: =C51 -> 57 | E51: =IF(C51=D51,"-",D51-C51) -> - | F51: =IF(C51=0,"-",D51/C51) -> 1
A52: D3.2 | B52: opłaty stanowiące dochody własne jednostek samorządu terytorialnego | C52: 72 | D52: =C52 -> 72 | E52: =IF(C52=D52,"-",D52-C52) -> - | F52: =IF(C52=0,"-",D52/C52) -> 1
A53: D3.3 | B53: VAT | C53: 1 | D53: =C53 -> 1 | E53: =IF(C53=D53,"-",D53-C53) -> - | F53: =IF(C53=0,"-",D53/C53) -> 1
A54: D3.4 | B54: podatek akcyzowy | C54: 0 | D54: =C54 -> 0 | E54: =IF(C54=D54,"-",D54-C54) -> - | F54: =IF(C54=0,"-",D54/C54) -> -
A55: D3.5 | B55: wpłaty na PFRON | C55: 134 | D55: =C55 -> 134 | E55: =IF(C55=D55,"-",D55-C55) -> - | F55: =IF(C55=0,"-",D55/C55) -> 1
A56: D3.6 | B56: inne | C56: 2 | D56: =C56 -> 2 | E56: =IF(C56=D56,"-",D56-C56) -> - | F56: =IF(C56=0,"-",D56/C56) -> 1
A57: D4 | B57: wynagrodzenia, w tym: | C57: 24958 | D57: =C57 -> 24958 | E57: =IF(C57=D57,"-",D57-C57) -> - | F57: =IF(C57=0,"-",D57/C57) -> 1
A58: D4.1 | B58: wynagrodzenia bezosobowe | C58: 100 | D58: =C58 -> 100 | E58: =IF(C58=D58,"-",D58-C58) -> - | F58: =IF(C58=0,"-",D58/C58) -> 1
A59: D5 | B59: ubezpieczenie społeczne i inne świadczenia, z tego: | C59: =C60+C61+C62+C63 -> 5578 | D59: =D60+D61+D62+D63 -> 5578 | E59: =IF(C59=D59,"-",D59-C59) -> - | F59: =IF(C59=0,"-",D59/C59) -> 1
A60: D5.1 | B60: składki na Fundusz Ubezpieczeń Społecznych | C60: 4184 | D60: =C60 -> 4184 | E60: =IF(C60=D60,"-",D60-C60) -> - | F60: =IF(C60=0,"-",D60/C60) -> 1
A61: D5.2 | B61: składki na Fundusz Pracy | C61: 542 | D61: =C61 -> 542 | E61: =IF(C61=D61,"-",D61-C61) -> - | F61: =IF(C61=0,"-",D61/C61) -> 1
A62: D5.3 | B62: składki na Fundusz Gwarantowanych Świadczeń Pracowniczych | C62: 0 | D62: =C62 -> 0 | E62: =IF(C62=D62,"-",D62-C62) -> - | F62: =IF(C62=0,"-",D62/C62) -> -
A63: D5.4 | B63: pozostałe świadczenia | C63: 852 | D63: =C63 -> 852 | E63: =IF(C63=D63,"-",D63-C63) -> - | F63: =IF(C63=0,"-",D63/C63) -> 1
A64: D6 | B64: koszty funkcjonowania Rady Funduszu | C64: 0 | D64: =C64 -> 0 | E64: =IF(C64=D64,"-",D64-C64) -> - | F64: =IF(C64=0,"-",D64/C64) -> -
A65: D7 | B65: amortyzacja środków trwałych oraz wartości niematerialnych i prawnych | C65: 3705 | D65: =C65 -> 3705 | E65: =IF(C65=D65,"-",D65-C65) -> - | F65: =IF(C65=0,"-",D65/C65) -> 1
A66: D8 | B66: pozostałe koszty administracyjne | C66: 211 | D66: =C66 -> 211 | E66: =IF(C66=D66,"-",D66-C66) -> - | F66: =IF(C66=0,"-",D66/C66) -> 1
A67: F | B67: Pozostałe koszty (F1+...+F4) | C67: =C68+C69+C70+C71 -> 33476 | D67: =D68+D69+D70+D71 -> 33476 | E67: =IF(C67=D67,"-",D67-C67) -> - | F67: =IF(C67=0,"-",D67/C67) -> 1
A68: F1 | B68: wydanie i utrzymanie kart ubezpieczenia | C68: 0 | D68: =C68 -> 0 | E68: =IF(C68=D68,"-",D68-C68) -> - | F68: =IF(C68=0,"-",D68/C68) -> -
A69: F2 | B69: rezerwa na zobowiązania wynikające z postępowań sądowych | C69: 6495 | D69: =C69 -> 6495 | E69: =IF(C69=D69,"-",D69-C69) -> - | F69: =IF(C69=0,"-",D69/C69) -> 1
A70: F3 | B70: inne rezerwy | C70: 0 | D70: =C70 -> 0 | E70: =IF(C70=D70,"-",D70-C70) -> - | F70: =IF(C70=0,"-",D70/C70) -> -
A71: F4 | B71: inne koszty | C71: 26981 | D71: =C71-25321+25280+41 -> 26981 | E71: =IF(C71=D71,"-",D71-C71) -> - | F71: =IF(C71=0,"-",D71/C71) -> 1
A72: H | B72: Koszty finansowe | C72: 1117 | D72: =C72 -> 1117 | E72: =IF(C72=D72,"-",D72-C72) -> - | F72: =IF(C72=0,"-",D72/C72) -> 1

Sheet KujawskoPomorski
A1: ZMIANA PLANU FINANSOWEGO NARODOWEGO FUNDUSZU ZDROWIA NA 2020 ROK Z DNIA 29 GRUDNIA 2020 R.
A2: Koszty Kujawsko-Pomorskiego Oddziału Wojewódzkiego Narodowego Funduszu Zdrowia
E3: w tys. zł
A4: Poz. | B4: Wyszczególnienie | C4: Plan na 2020 rok | D4: Plan po zmianie | E4: Różnica kol.4-kol.3 | F4: Dynamika kol.4/kol.3
A5: 1 | B5: 2 | C5: 3 | D5: 4 | E5: 5 | F5: 6
A6: B2 | B6: Koszty świadczeń opieki zdrowotnej (B2.1+...+B2.22) | C6: =C7+C8+C9+C16+C17+C18+C19+C20+C21+C22+C23+C24+C25+C26+C30+C31+C33+C34+C35+C36+C37+C39 -> 5643482 | D6: =D7+D8+D9+D16+D17+D18+D19+D20+D21+D22+D23+D24+D25+D26+D30+D31+D33+D34+D35+D36+D37+D39 -> 5647052 | E6: =IF(C6=D6,"-",D6-C6) -> 3570 | F6: =IF(C6=0,"-",D6/C6) -> 1.0006
A7: B2.1 | B7: podstawowa opieka zdrowotna | C7: 725240 | D7: =C7 -> 725240 | E7: =IF(C7=D7,"-",D7-C7) -> - | F7: =IF(C7=0,"-",D7/C7) -> 1
A8: B2.2 | B8: ambulatoryjna opieka specjalistyczna | C8: 282975 | D8: =C8 -> 282975 | E8: =IF(C8=D8,"-",D8-C8) -> - | F8: =IF(C8=0,"-",D8/C8) -> 1
A9: B2.3 | B9: leczenie szpitalne, w tym: | C9: 3216005 | D9: =C9+3570 -> 3219575 | E9: =IF(C9=D9,"-",D9-C9) -> 3570 | F9: =IF(C9=0,"-",D9/C9) -> 1.0011
A10: B2.3.1 | B10: programy lekowe, w tym: | C10: 248289 | D10: =C10 -> 248289 | E10: =IF(C10=D10,"-",D10-C10) -> - | F10: =IF(C10=0,"-",D10/C10) -> 1
A11: B2.3.1.1 | B11: leki, środki spożywcze specjalnego przeznaczenia żywieniowego objęte programami lekowymi | C11: 220766 | D11: =C11 -> 220766 | E11: =IF(C11=D11,"-",D11-C11) -> - | F11: =IF(C11=0,"-",D11/C11) -> 1
A12: B2.3.2 | B12: chemioterapia, w tym: | C12: 84456 | D12: =C12 -> 84456 | E12: =IF(C12=D12,"-",D12-C12) -> - | F12: =IF(C12=0,"-",D12/C12) -> 1
A13: B2.3.2.1 | B13: leki stosowane w chemioterapii | C13: 39264 | D13: =C13 -> 39264 | E13: =IF(C13=D13,"-",D13-C13) -> - | F13: =IF(C13=0,"-",D13/C13) -> 1
A14: B2.3.3 | B14: ratunkowy dostęp do technologii lekowej | C14: 690 | D14: =C14 -> 690 | E14: =IF(C14=D14,"-",D14-C14) -> - | F14: =IF(C14=0,"-",D14/C14) -> 1
A15: B2.3.4 | B15: świadczenia wysokospecjalistyczne | C15: 3477 | D15: =C15 -> 3477 | E15: =IF(C15=D15,"-",D15-C15) -> - | F15: =IF(C15=0,"-",D15/C15) -> 1
A16: B2.4 | B16: opieka psychiatryczna i leczenie uzależnień | C16: 176850 | D16: =C16 -> 176850 | E16: =IF(C16=D16,"-",D16-C16) -> - | F16: =IF(C16=0,"-",D16/C16) -> 1
A17: B2.5 | B17: rehabilitacja lecznicza | C17: 155304 | D17: =C17 -> 155304 | E17: =IF(C17=D17,"-",D17-C17) -> - | F17: =IF(C17=0,"-",D17/C17) -> 1
A18: B2.6 | B18: świadczenia pielęgnacyjne i opiekuńcze w ramach opieki długoterminowej | C18: 97004 | D18: =C18 -> 97004 | E18: =IF(C18=D18,"-",D18-C18) -> - | F18: =IF(C18=0,"-",D18/C18) -> 1
A19: B2.7 | B19: opieka paliatywna i hospicyjna | C19: 55160 | D19: =C19 -> 55160 | E19: =IF(C19=D19,"-",D19-C19) -> - | F19: =IF(C19=0,"-",D19/C19) -> 1
A20: B2.8 | B20: leczenie stomatologiczne | C20: 107606 | D20: =C20 -> 107606 | E20: =IF(C20=D20,"-",D20-C20) -> - | F20: =IF(C20=0,"-",D20/C20) -> 1
A21: B2.9 | B21: lecznictwo uzdrowiskowe | C21: 51027 | D21: =C21 -> 51027 | E21: =IF(C21=D21,"-",D21-C21) -> - | F21: =IF(C21=0,"-",D21/C21) -> 1
... A44: B7 | B44: Koszty finansowania leku, zgodnie z art. 43b ust. 7 ustawy | C44: 567 | D44: =C44 -> 567 | E44: =IF(C44=D44,"-",D44-C44) -> - | F44: =IF(C44=0,"-",D44/C44) -> 1
A45: Bn | B45: Całkowity budżet na refundację (B2.3.1.1+B2.3.2.1+B2.3.3+B2.14+B2.16.1+B5+B7) | C45: =C11+C13+C14+C26+C32+C42+C44 -> 811227 | D45: =D11+D13+D14+D26+D32+D42+D44 -> 811227 | E45: =IF(C45=D45,"-",D45-C45) -> - | F45: =IF(C45=0,"-",D45/C45) -> 1
A46: D | B46: Koszty administracyjne ( D1+...+D8 ) | C46: =C47+C48+C49+C57+C59+C65+C66+C64 -> 39743 | D46: =D47+D48+D49+D57+D59+D65+D66+D64 -> 39743 | E46: =IF(C46=D46,"-",D46-C46) -> - | F46: =IF(C46=0,"-",D46/C46) -> 1
A47: D1 | B47: zużycie materiałów i energii | C47: 1583 | D47: =C47 -> 1583 | E47: =IF(C47=D47,"-",D47-C47) -> - | F47: =IF(C47=0,"-",D47/C47) -> 1
A48: D2 | B48: usługi obce | C48: 8269 | D48: =C48 -> 8269 | E48: =IF(C48=D48,"-",D48-C48) -> - | F48: =IF(C48=0,"-",D48/C48) -> 1
A49: D3 | B49: podatki i opłaty, z tego | C49: =C50+C52+C53+C54+C55+C56 -> 203 | D49: =D50+D52+D53+D54+D55+D56 -> 203 | E49: =IF(C49=D49,"-",D49-C49) -> - | F49: =IF(C49=0,"-",D49/C49) -> 1
A50: D3.1 | B50: podatki stanowiące dochody własne jednostek samorządu terytorialnego, w tym: | C50: 51 | D50: =C50 -> 51 | E50: =IF(C50=D50,"-",D50-C50) -> - | F50: =IF(C50=0,"-",D50/C50) -> 1
A51: D3.1.1 | B51: podatek od nieruchomości | C51: 51 | D51: =C51 -> 51 | E51: =IF(C51=D51,"-",D51-C51) -> - | F51: =IF(C51=0,"-",D51/C51) -> 1
A52: D3.2 | B52: opłaty stanowiące dochody własne jednostek samorządu terytorialnego | C52: 41 | D52: =C52 -> 41 | E52: =IF(C52=D52,"-",D52-C52) -> - | F52: =IF(C52=0,"-",D52/C52) -> 1
A53: D3.3 | B53: VAT | C53: 0 | D53: =C53 -> 0 | E53: =IF(C53=D53,"-",D53-C53) -> - | F53: =IF(C53=0,"-",D53/C53) -> -
A54: D3.4 | B54: podatek akcyzowy | C54: 0 | D54: =C54 -> 0 | E54: =IF(C54=D54,"-",D54-C54) -> - | F54: =IF(C54=0,"-",D54/C54) -> -
A55: D3.5 | B55: wpłaty na PFRON | C55: 96 | D55: =C55 -> 96 | E55: =IF(C55=D55,"-",D55-C55) -> - | F55: =IF(C55=0,"-",D55/C55) -> 1
A56: D3.6 | B56: inne | C56: 15 | D56: =C56 -> 15 | E56: =IF(C56=D56,"-",D56-C56) -> - | F56: =IF(C56=0,"-",D56/C56) -> 1
A57: D4 | B57: wynagrodzenia, w tym: | C57: 17458 | D57: =C57 -> 17458 | E57: =IF(C57=D57,"-",D57-C57) -> - | F57: =IF(C57=0,"-",D57/C57) -> 1
A58: D4.1 | B58: wynagrodzenia bezosobowe | C58: 0 | D58: =C58 -> 0 | E58: =IF(C58=D58,"-",D58-C58) -> - | F58: =IF(C58=0,"-",D58/C58) -> -
A59: D5 | B59: ubezpieczenie społeczne i inne świadczenia, z tego: | C59: =C60+C61+C62+C63 -> 3902 | D59: =D60+D61+D62+D63 -> 3902 | E59: =IF(C59=D59,"-",D59-C59) -> - | F59: =IF(C59=0,"-",D59/C59) -> 1
A60: D5.1 | B60: składki na Fundusz Ubezpieczeń Społecznych | C60: 2948 | D60: =C60 -> 2948 | E60: =IF(C60=D60,"-",D60-C60) -> - | F60: =IF(C60=0,"-",D60/C60) -> 1
A61: D5.2 | B61: składki na Fundusz Pracy | C61: 420 | D61: =C61 -> 420 | E61: =IF(C61=D61,"-",D61-C61) -> - | F61: =IF(C61=0,"-",D61/C61) -> 1
A62: D5.3 | B62: składki na Fundusz Gwarantowanych Świadczeń Pracowniczych | C62: 0 | D62: =C62 -> 0 | E62: =IF(C62=D62,"-",D62-C62) -> - | F62: =IF(C62=0,"-",D62/C62) -> -
A63: D5.4 | B63: pozostałe świadczenia | C63: 534 | D63: =C63 -> 534 | E63: =IF(C63=D63,"-",D63-C63) -> - | F63: =IF(C63=0,"-",D63/C63) -> 1
A64: D6 | B64: koszty funkcjonowania Rady Funduszu | C64: 0 | D64: =C64 -> 0 | E64: =IF(C64=D64,"-",D64-C64) -> - | F64: =IF(C64=0,"-",D64/C64) -> -
A65: D7 | B65: amortyzacja środków trwałych oraz wartości niematerialnych i prawnych | C65: 8000 | D65: =C65 -> 8000 | E65: =IF(C65=D65,"-",D65-C65) -> - | F65: =IF(C65=0,"-",D65/C65) -> 1
A66: D8 | B66: pozostałe koszty administracyjne | C66: 328 | D66: =C66 -> 328 | E66: =IF(C66=D66,"-",D66-C66) -> - | F66: =IF(C66=0,"-",D66/C66) -> 1
A67: F | B67: Pozostałe koszty (F1+...+F4) | C67: =C68+C69+C70+C71 -> 45477 | D67: =D68+D69+D70+D71 -> 42052 | E67: =IF(C67=D67,"-",D67-C67) -> -3425 | F67: =IF(C67=0,"-",D67/C67) -> 0.9247
A68: F1 | B68: wydanie i utrzymanie kart ubezpieczenia | C68: 0 | D68: =C68 -> 0 | E68: =IF(C68=D68,"-",D68-C68) -> - | F68: =IF(C68=0,"-",D68/C68) -> -
A69: F2 | B69: rezerwa na zobowiązania wynikające z postępowań sądowych | C69: 18305 | D69: =C69-2725 -> 15580 | E69: =IF(C69=D69,"-",D69-C69) -> -2725 | F69: =IF(C69=0,"-",D69/C69) -> 0.8511
A70: F3 | B70: inne rezerwy | C70: 0 | D70: =C70 -> 0 | E70: =IF(C70=D70,"-",D70-C70) -> - | F70: =IF(C70=0,"-",D70/C70) -> -
A71: F4 | B71: inne koszty | C71: 27172 | D71: =C71-23272+22541+31 -> 26472 | E71: =IF(C71=D71,"-",D71-C71) -> -700 | F71: =IF(C71=0,"-",D71/C71) -> 0.9742
A72: H | B72: Koszty finansowe | C72: 5000 | D72: =C72+2070 -> 7070 | E72: =IF(C72=D72,"-",D72-C72) -> 2070 | F72: =IF(C72=0,"-",D72/C72) -> 1.414

Sheet Lubelski
A1: ZMIANA PLANU FINANSOWEGO NARODOWEGO FUNDUSZU ZDROWIA NA 2020 ROK Z DNIA 29 GRUDNIA 2020 R.
A2: Koszty Lubelskiego Oddziału Wojewódzkiego Narodowego Funduszu Zdrowia
E3: w tys. zł
A4: Poz. | B4: Wyszczególnienie | C4: Plan na 2020 rok | D4: Plan po zmianie | E4: Różnica kol.4-kol.3 | F4: Dynamika kol.4/kol.3
A5: 1 | B5: 2 | C5: 3 | D5: 4 | E5: 5 | F5: 6
A6: B2 | B6: Koszty świadczeń opieki zdrowotnej (B2.1+...+B2.22) | C6: =C7+C8+C9+C16+C17+C18+C19+C20+C21+C22+C23+C24+C25+C26+C30+C31+C33+C34+C35+C36+C37+C39 -> 5660513 | D6: =D7+D8+D9+D16+D17+D18+D19+D20+D21+D22+D23+D24+D25+D26+D30+D31+D33+D34+D35+D36+D37+D39 -> 5664260 | E6: =IF(C6=D6,"-",D6-C6) -> 3747 | F6: =IF(C6=0,"-",D6/C6) -> 1.0007
A7: B2.1 | B7: podstawowa opieka zdrowotna | C7: 772741 | D7: =C7 -> 772741 | E7: =IF(C7=D7,"-",D7-C7) -> - | F7: =IF(C7=0,"-",D7/C7) -> 1
A8: B2.2 | B8: ambulatoryjna opieka specjalistyczna | C8: 275955 | D8: =C8 -> 275955 | E8: =IF(C8=D8,"-",D8-C8) -> - | F8: =IF(C8=0,"-",D8/C8) -> 1
A9: B2.3 | B9: leczenie szpitalne, w tym: | C9: 3112911 | D9: =C9+3747 -> 3116658 | E9: =IF(C9=D9,"-",D9-C9) -> 3747 | F9: =IF(C9=0,"-",D9/C9) -> 1.0012
A10: B2.3.1 | B10: programy lekowe, w tym: | C10: 263576 | D10: =C10 -> 263576 | E10: =IF(C10=D10,"-",D10-C10) -> - | F10: =IF(C10=0,"-",D10/C10) -> 1
A11: B2.3.1.1 | B11: leki, środki spożywcze specjalnego przeznaczenia żywieniowego objęte programami lekowymi | C11: 238270 | D11: =C11 -> 238270 | E11: =IF(C11=D11,"-",D11-C11) -> - | F11: =IF(C11=0,"-",D11/C11) -> 1
A12: B2.3.2 | B12: chemioterapia, w tym: | C12: 103466 | D12: =C12 -> 103466 | E12: =IF(C12=D12,"-",D12-C12) -> - | F12: =IF(C12=0,"-",D12/C12) -> 1
A13: B2.3.2.1 | B13: leki stosowane w chemioterapii | C13: 45497 | D13: =C13 -> 45497 | E13: =IF(C13=D13,"-",D13-C13) -> - | F13: =IF(C13=0,"-",D13/C13) -> 1
A14: B2.3.3 | B14: ratunkowy dostęp do technologii lekowej | C14: 738 | D14: =C14 -> 738 | E14: =IF(C14=D14,"-",D14-C14) -> - | F14: =IF(C14=0,"-",D14/C14) -> 1
A15: B2.3.4 | B15: świadczenia wysokospecjalistyczne | C15: 0 | D15: =C15 -> 0 | E15: =IF(C15=D15,"-",D15-C15) -> - | F15: =IF(C15=0,"-",D15/C15) -> -
A16: B2.4 | B16: opieka psychiatryczna i leczenie uzależnień | C16: 199497 | D16: =C16 -> 199497 | E16: =IF(C16=D16,"-",D16-C16) -> - | F16: =IF(C16=0,"-",D16/C16) -> 1
A17: B2.5 | B17: rehabilitacja lecznicza | C17: 158956 | D17: =C17 -> 158956 | E17: =IF(C17=D17,"-",D17-C17) -> - | F17: =IF(C17=0,"-",D17/C17) -> 1
A18: B2.6 | B18: świadczenia pielęgnacyjne i opiekuńcze w ramach opieki długoterminowej | C18: 112410 | D18: =C18 -> 112410 | E18: =IF(C18=D18,"-",D18-C18) -> - | F18: =IF(C18=0,"-",D18/C18) -> 1
A19: B2.7 | B19: opieka paliatywna i hospicyjna | C19: 38644 | D19: =C19 -> 38644 | E19: =IF(C19=D19,"-",D19-C19) -> - | F19: =IF(C19=0,"-",D19/C19) -> 1
A20: B2.8 | B20: leczenie stomatologiczne | C20: 123942 | D20: =C20 -> 123942 | E20: =IF(C20=D20,"-",D20-C20) -> - | F20: =IF(C20=0,"-",D20/C20) -> 1
A21: B2.9 | B21: lecznictwo uzdrowiskowe | C21: 47786 | D21: =C21 -> 47786 | E21: =IF(C21=D21,"-",D21-C21) -> - | F21: =IF(C21=0,"-",D21/C21) -> 1
... A44: B7 | B44: Koszty finansowania leku, zgodnie z art. 43b ust. 7 ustawy | C44: 566 | D44: =C44 -> 566 | E44: =IF(C44=D44,"-",D44-C44) -> - | F44: =IF(C44=0,"-",D44/C44) -> 1
A45: Bn | B45: Całkowity budżet na refundację (B2.3.1.1+B2.3.2.1+B2.3.3+B2.14+B2.16.1+B5+B7) | C45: =C11+C13+C14+C26+C32+C42+C44 -> 798789 | D45: =D11+D13+D14+D26+D32+D42+D44 -> 798789 | E45: =IF(C45=D45,"-",D45-C45) -> - | F45: =IF(C45=0,"-",D45/C45) -> 1
A46: D | B46: Koszty administracyjne ( D1+...+D8 ) | C46: =C47+C48+C49+C57+C59+C65+C66+C64 -> 31309 | D46: =D47+D48+D49+D57+D59+D65+D66+D64 -> 31309 | E46: =IF(C46=D46,"-",D46-C46) -> - | F46: =IF(C46=0,"-",D46/C46) -> 1
A47: D1 | B47: zużycie materiałów i energii | C47: 1224 | D47: =C47 -> 1224 | E47: =IF(C47=D47,"-",D47-C47) -> - | F47: =IF(C47=0,"-",D47/C47) -> 1
A48: D2 | B48: usługi obce | C48: 4030 | D48: =C48 -> 4030 | E48: =IF(C48=D48,"-",D48-C48) -> - | F48: =IF(C48=0,"-",D48/C48) -> 1
A49: D3 | B49: podatki i opłaty, z tego | C49: =C50+C52+C53+C54+C55+C56 -> 161 | D49: =D50+D52+D53+D54+D55+D56 -> 161 | E49: =IF(C49=D49,"-",D49-C49) -> - | F49: =IF(C49=0,"-",D49/C49) -> 1
A50: D3.1 | B50: podatki stanowiące dochody własne jednostek samorządu terytorialnego, w tym: | C50: 34 | D50: =C50 -> 34 | E50: =IF(C50=D50,"-",D50-C50) -> - | F50: =IF(C50=0,"-",D50/C50) -> 1
A51: D3.1.1 | B51: podatek od nieruchomości | C51: 34 | D51: =C51 -> 34 | E51: =IF(C51=D51,"-",D51-C51) -> - | F51: =IF(C51=0,"-",D51/C51) -> 1
A52: D3.2 | B52: opłaty stanowiące dochody własne jednostek samorządu terytorialnego | C52: 0 | D52: =C52 -> 0 | E52: =IF(C52=D52,"-",D52-C52) -> - | F52: =IF(C52=0,"-",D52/C52) -> -
A53: D3.3 | B53: VAT | C53: 0 | D53: =C53 -> 0 | E53: =IF(C53=D53,"-",D53-C53) -> - | F53: =IF(C53=0,"-",D53/C53) -> -
A54: D3.4 | B54: podatek akcyzowy | C54: 0 | D54: =C54 -> 0 | E54: =IF(C54=D54,"-",D54-C54) -> - | F54: =IF(C54=0,"-",D54/C54) -> -
A55: D3.5 | B55: wpłaty na PFRON | C55: 113 | D55: =C55 -> 113 | E55: =IF(C55=D55,"-",D55-C55) -> - | F55: =IF(C55=0,"-",D55/C55) -> 1
A56: D3.6 | B56: inne | C56: 14 | D56: =C56 -> 14 | E56: =IF(C56=D56,"-",D56-C56) -> - | F56: =IF(C56=0,"-",D56/C56) -> 1
A57: D4 | B57: wynagrodzenia, w tym: | C57: 18980 | D57: =C57 -> 18980 | E57: =IF(C57=D57,"-",D57-C57) -> - | F57: =IF(C57=0,"-",D57/C57) -> 1
A58: D4.1 | B58: wynagrodzenia bezosobowe | C58: 144 | D58: =C58 -> 144 | E58: =IF(C58=D58,"-",D58-C58) -> - | F58: =IF(C58=0,"-",D58/C58) -> 1
A59: D5 | B59: ubezpieczenie społeczne i inne świadczenia, z tego: | C59: =C60+C61+C62+C63 -> 4241 | D59: =D60+D61+D62+D63 -> 4241 | E59: =IF(C59=D59,"-",D59-C59) -> - | F59: =IF(C59=0,"-",D59/C59) -> 1
A60: D5.1 | B60: składki na Fundusz Ubezpieczeń Społecznych | C60: 3260 | D60: =C60 -> 3260 | E60: =IF(C60=D60,"-",D60-C60) -> - | F60: =IF(C60=0,"-",D60/C60) -> 1
A61: D5.2 | B61: składki na Fundusz Pracy | C61: 465 | D61: =C61 -> 465 | E61: =IF(C61=D61,"-",D61-C61) -> - | F61: =IF(C61=0,"-",D61/C61) -> 1
A62: D5.3 | B62: składki na Fundusz Gwarantowanych Świadczeń Pracowniczych | C62: 0 | D62: =C62 -> 0 | E62: =IF(C62=D62,"-",D62-C62) -> - | F62: =IF(C62=0,"-",D62/C62) -> -
A63: D5.4 | B63: pozostałe świadczenia | C63: 516 | D63: =C63 -> 516 | E63: =IF(C63=D63,"-",D63-C63) -> - | F63: =IF(C63=0,"-",D63/C63) -> 1
A64: D6 | B64: koszty funkcjonowania Rady Funduszu | C64: 0 | D64: =C64 -> 0 | E64: =IF(C64=D64,"-",D64-C64) -> - | F64: =IF(C64=0,"-",D64/C64) -> -
A65: D7 | B65: amortyzacja środków trwałych oraz wartości niematerialnych i prawnych | C65: 2500 | D65: =C65 -> 2500 | E65: =IF(C65=D65,"-",D65-C65) -> - | F65: =IF(C65=0,"-",D65/C65) -> 1
A66: D8 | B66: pozostałe koszty administracyjne | C66: 173 | D66: =C66 -> 173 | E66: =IF(C66=D66,"-",D66-C66) -> - | F66: =IF(C66=0,"-",D66/C66) -> 1
A67: F | B67: Pozostałe koszty (F1+...+F4) | C67: =C68+C69+C70+C71 -> 34261 | D67: =D68+D69+D70+D71 -> 25861 | E67: =IF(C67=D67,"-",D67-C67) -> -8400 | F67: =IF(C67=0,"-",D67/C67) -> 0.7548
A68: F1 | B68: wydanie i utrzymanie kart ubezpieczenia | C68: 0 | D68: =C68 -> 0 | E68: =IF(C68=D68,"-",D68-C68) -> - | F68: =IF(C68=0,"-",D68/C68) -> -
A69: F2 | B69: rezerwa na zobowiązania wynikające z postępowań sądowych | C69: 15000 | D69: =C69-10000 -> 5000 | E69: =IF(C69=D69,"-",D69-C69) -> -10000 | F69: =IF(C69=0,"-",D69/C69) -> 0.3333
A70: F3 | B70: inne rezerwy | C70: 0 | D70: =C70 -> 0 | E70: =IF(C70=D70,"-",D70-C70) -> - | F70: =IF(C70=0,"-",D70/C70) -> -
A71: F4 | B71: inne koszty | C71: 19261 | D71: =C71-16861+18430+31 -> 20861 | E71: =IF(C71=D71,"-",D71-C71) -> 1600 | F71: =IF(C71=0,"-",D71/C71) -> 1.0831
A72: H | B72: Koszty finansowe | C72: 1000 | D72: =C72-800 -> 200 | E72: =IF(C72=D72,"-",D72-C72) -> -800 | F72: =IF(C72=0,"-",D72/C72) -> 0.2

Sheet Lubuski
A1: ZMIANA PLANU FINANSOWEGO NARODOWEGO FUNDUSZU ZDROWIA NA 2020 ROK Z DNIA 29 GRUDNIA 2020 R.
A2: Koszty Lubuskiego Oddziału Wojewódzkiego Narodowego Funduszu Zdrowia
E3: w tys. zł
A4: Poz. | B4: Wyszczególnienie | C4: Plan na 2020 rok | D4: Plan po zmianie | E4: Różnica kol.4-kol.3 | F4: Dynamika kol.4/kol.3
A5: 1 | B5: 2 | C5: 3 | D5: 4 | E5: 5 | F5: 6
A6: B2 | B6: Koszty świadczeń opieki zdrowotnej (B2.1+...+B2.22) | C6: =C7+C8+C9+C16+C17+C18+C19+C20+C21+C22+C23+C24+C25+C26+C30+C31+C33+C34+C35+C36+C37+C39 -> 2634338 | D6: =D7+D8+D9+D16+D17+D18+D19+D20+D21+D22+D23+D24+D25+D26+D30+D31+D33+D34+D35+D36+D37+D39 -> 2636059 | E6: =IF(C6=D6,"-",D6-C6) -> 1721 | F6: =IF(C6=0,"-",D6/C6) -> 1.0007
A7: B2.1 | B7: podstawowa opieka zdrowotna | C7: 365423 | D7: =C7 -> 365423 | E7: =IF(C7=D7,"-",D7-C7) -> - | F7: =IF(C7=0,"-",D7/C7) -> 1
A8: B2.2 | B8: ambulatoryjna opieka specjalistyczna | C8: 154158 | D8: =C8 -> 154158 | E8: =IF(C8=D8,"-",D8-C8) -> - | F8: =IF(C8=0,"-",D8/C8) -> 1
A9: B2.3 | B9: leczenie szpitalne, w tym: | C9: 1409356 | D9: =C9+1721 -> 1411077 | E9: =IF(C9=D9,"-",D9-C9) -> 1721 | F9: =IF(C9=0,"-",D9/C9) -> 1.0012
A10: B2.3.1 | B10: programy lekowe, w tym: | C10: 115835 | D10: =C10 -> 115835 | E10: =IF(C10=D10,"-",D10-C10) -> - | F10: =IF(C10=0,"-",D10/C10) -> 1
A11: B2.3.1.1 | B11: leki, środki spożywcze specjalnego przeznaczenia żywieniowego objęte programami lekowymi | C11: 104467 | D11: =C11 -> 104467 | E11: =IF(C11=D11,"-",D11-C11) -> - | F11: =IF(C11=0,"-",D11/C11) -> 1
A12: B2.3.2 | B12: chemioterapia, w tym: | C12: 41364 | D12: =C12 -> 41364 | E12: =IF(C12=D12,"-",D12-C12) -> - | F12: =IF(C12=0,"-",D12/C12) -> 1
A13: B2.3.2.1 | B13: leki stosowane w chemioterapii | C13: 16620 | D13: =C13 -> 16620 | E13: =IF(C13=D13,"-",D13-C13) -> - | F13: =IF(C13=0,"-",D13/C13) -> 1
A14: B2.3.3 | B14: ratunkowy dostęp do technologii lekowej | C14: 10 | D14: =C14 -> 10 | E14: =IF(C14=D14,"-",D14-C14) -> - | F14: =IF(C14=0,"-",D14/C14) -> 1
A15: B2.3.4 | B15: świadczenia wysokospecjalistyczne | C15: 0 | D15: =C15 -> 0 | E15: =IF(C15=D15,"-",D15-C15) -> - | F15: =IF(C15=0,"-",D15/C15) -> -
A16: B2.4 | B16: opieka psychiatryczna i leczenie uzależnień | C16: 106747 | D16: =C16 -> 106747 | E16: =IF(C16=D16,"-",D16-C16) -> - | F16: =IF(C16=0,"-",D16/C16) -> 1
A17: B2.5 | B17: rehabilitacja lecznicza | C17: 78101 | D17: =C17 -> 78101 | E17: =IF(C17=D17,"-",D17-C17) -> - | F17: =IF(C17=0,"-",D17/C17) -> 1
A18: B2.6 | B18: świadczenia pielęgnacyjne i opiekuńcze w ramach opieki długoterminowej | C18: 40555 | D18: =C18 -> 40555 | E18: =IF(C18=D18,"-",D18-C18) -> - | F18: =IF(C18=0,"-",D18/C18) -> 1
A19: B2.7 | B19: opieka paliatywna i hospicyjna | C19: 22396 | D19: =C19 -> 22396 | E19: =IF(C19=D19,"-",D19-C19) -> - | F19: =IF(C19=0,"-",D19/C19) -> 1
A20: B2.8 | B20: leczenie stomatologiczne | C20: 40388 | D20: =C20 -> 40388 | E20: =IF(C20=D20,"-",D20-C20) -> - | F20: =IF(C20=0,"-",D20/C20) -> 1
A21: B2.9 | B21: lecznictwo uzdrowiskowe | C21: 15425 | D21: =C21 -> 15425 | E21: =IF(C21=D21,"-",D21-C21) -> - | F21: =IF(C21=0,"-",D21/C21) -> 1
... A44: B7 | B44: Koszty finansowania leku, zgodnie z art. 43b ust. 7 ustawy | C44: 265 | D44: =C44 -> 265 | E44: =IF(C44=D44,"-",D44-C44) -> - | F44: =IF(C44=0,"-",D44/C44) -> 1
A45: Bn | B45: Całkowity budżet na refundację (B2.3.1.1+B2.3.2.1+B2.3.3+B2.14+B2.16.1+B5+B7) | C45: =C11+C13+C14+C26+C32+C42+C44 -> 365558 | D45: =D11+D13+D14+D26+D32+D42+D44 -> 365558 | E45: =IF(C45=D45,"-",D45-C45) -> - | F45: =IF(C45=0,"-",D45/C45) -> 1
A46: D | B46: Koszty administracyjne ( D1+...+D8 ) | C46: =C47+C48+C49+C57+C59+C65+C66+C64 -> 18989 | D46: =D47+D48+D49+D57+D59+D65+D66+D64 -> 18989 | E46: =IF(C46=D46,"-",D46-C46) -> - | F46: =IF(C46=0,"-",D46/C46) -> 1
A47: D1 | B47: zużycie materiałów i energii | C47: 917 | D47: =C47 -> 917 | E47: =IF(C47=D47,"-",D47-C47) -> - | F47: =IF(C47=0,"-",D47/C47) -> 1
A48: D2 | B48: usługi obce | C48: 2537 | D48: =C48 -> 2537 | E48: =IF(C48=D48,"-",D48-C48) -> - | F48: =IF(C48=0,"-",D48/C48) -> 1
A49: D3 | B49: podatki i opłaty, z tego | C49: =C50+C52+C53+C54+C55+C56 -> 39 | D49: =D50+D52+D53+D54+D55+D56 -> 39 | E49: =IF(C49=D49,"-",D49-C49) -> - | F49: =IF(C49=0,"-",D49/C49) -> 1
A50: D3.1 | B50: podatki stanowiące dochody własne jednostek samorządu terytorialnego, w tym: | C50: 15 | D50: =C50 -> 15 | E50: =IF(C50=D50,"-",D50-C50) -> - | F50: =IF(C50=0,"-",D50/C50) -> 1
A51: D3.1.1 | B51: podatek od nieruchomości | C51: 15 | D51: =C51 -> 15 | E51: =IF(C51=D51,"-",D51-C51) -> - | F51: =IF(C51=0,"-",D51/C51) -> 1
A52: D3.2 | B52: opłaty stanowiące dochody własne jednostek samorządu terytorialnego | C52: 0 | D52: =C52 -> 0 | E52: =IF(C52=D52,"-",D52-C52) -> - | F52: =IF(C52=0,"-",D52/C52) -> -
A53: D3.3 | B53: VAT | C53: 0 | D53: =C53 -> 0 | E53: =IF(C53=D53,"-",D53-C53) -> - | F53: =IF(C53=0,"-",D53/C53) -> -
A54: D3.4 | B54: podatek akcyzowy | C54: 0 | D54: =C54 -> 0 | E54: =IF(C54=D54,"-",D54-C54) -> - | F54: =IF(C54=0,"-",D54/C54) -> -
A55: D3.5 | B55: wpłaty na PFRON | C55: 8 | D55: =C55 -> 8 | E55: =IF(C55=D55,"-",D55-C55) -> - | F55: =IF(C55=0,"-",D55/C55) -> 1
A56: D3.6 | B56: inne | C56: 16 | D56: =C56 -> 16 | E56: =IF(C56=D56,"-",D56-C56) -> - | F56: =IF(C56=0,"-",D56/C56) -> 1
A57: D4 | B57: wynagrodzenia, w tym: | C57: 11334 | D57: =C57 -> 11334 | E57: =IF(C57=D57,"-",D57-C57) -> - | F57: =IF(C57=0,"-",D57/C57) -> 1
A58: D4.1 | B58: wynagrodzenia bezosobowe | C58: 0 | D58: =C58 -> 0 | E58: =IF(C58=D58,"-",D58-C58) -> - | F58: =IF(C58=0,"-",D58/C58) -> -
A59: D5 | B59: ubezpieczenie społeczne i inne świadczenia, z tego: | C59: =C60+C61+C62+C63 -> 2533 | D59: =D60+D61+D62+D63 -> 2533 | E59: =IF(C59=D59,"-",D59-C59) -> - | F59: =IF(C59=0,"-",D59/C59) -> 1
A60: D5.1 | B60: składki na Fundusz Ubezpieczeń Społecznych | C60: 1946 | D60: =C60 -> 1946 | E60: =IF(C60=D60,"-",D60-C60) -> - | F60: =IF(C60=0,"-",D60/C60) -> 1
A61: D5.2 | B61: składki na Fundusz Pracy | C61: 278 | D61: =C61 -> 278 | E61: =IF(C61=D61,"-",D61-C61) -> - | F61: =IF(C61=0,"-",D61/C61) -> 1
A62: D5.3 | B62: składki na Fundusz Gwarantowanych Świadczeń Pracowniczych | C62: 0 | D62: =C62 -> 0 | E62: =IF(C62=D62,"-",D62-C62) -> - | F62: =IF(C62=0,"-",D62/C62) -> -
A63: D5.4 | B63: pozostałe świadczenia | C63: 309 | D63: =C63 -> 309 | E63: =IF(C63=D63,"-",D63-C63) -> - | F63: =IF(C63=0,"-",D63/C63) -> 1
A64: D6 | B64: koszty funkcjonowania Rady Funduszu | C64: 0 | D64: =C64 -> 0 | E64: =IF(C64=D64,"-",D64-C64) -> - | F64: =IF(C64=0,"-",D64/C64) -> -
A65: D7 | B65: amortyzacja środków trwałych oraz wartości niematerialnych i prawnych | C65: 1442 | D65: =C65 -> 1442 | E65: =IF(C65=D65,"-",D65-C65) -> - | F65: =IF(C65=0,"-",D65/C65) -> 1
A66: D8 | B66: pozostałe koszty administracyjne | C66: 187 | D66: =C66 -> 187 | E66: =IF(C66=D66,"-",D66-C66) -> - | F66: =IF(C66=0,"-",D66/C66) -> 1
A67: F | B67: Pozostałe koszty (F1+...+F4) | C67: =C68+C69+C70+C71 -> 18613 | D67: =D68+D69+D70+D71 -> 18377 | E67: =IF(C67=D67,"-",D67-C67) -> -236 | F67: =IF(C67=0,"-",D67/C67) -> 0.9873
A68: F1 | B68: wydanie i utrzymanie kart ubezpieczenia | C68: 0 | D68: =C68 -> 0 | E68: =IF(C68=D68,"-",D68-C68) -> - | F68: =IF(C68=0,"-",D68/C68) -> -
A69: F2 | B69: rezerwa na zobowiązania wynikające z postępowań sądowych | C69: 161 | D69: =C69-61 -> 100 | E69: =IF(C69=D69,"-",D69-C69) -> -61 | F69: =IF(C69=0,"-",D69/C69) -> 0.6211
A70: F3 | B70: inne rezerwy | C70: 0 | D70: =C70 -> 0 | E70: =IF(C70=D70,"-",D70-C70) -> - | F70: =IF(C70=0,"-",D70/C70) -> -
A71: F4 | B71: inne koszty | C71: 18452 | D71: =C71-17252+17055+22 -> 18277 | E71: =IF(C71=D71,"-",D71-C71) -> -175 | F71: =IF(C71=0,"-",D71/C71) -> 0.9905
A72: H | B72: Koszty finansowe | C72: 286 | D72: =C72-186 -> 100 | E72: =IF(C72=D72,"-",D72-C72) -> -186 | F72: =IF(C72=0,"-",D72/C72) -> 0.3497

Sheet Łódzki
A1: ZMIANA PLANU FINANSOWEGO NARODOWEGO FUNDUSZU ZDROWIA NA 2020 ROK Z DNIA 29 GRUDNIA 2020 R.
A2: Koszty Łódzkiego Oddziału Wojewódzkiego Narodowego Funduszu Zdrowia
E3: w tys. zł
A4: Poz. | B4: Wyszczególnienie | C4: Plan na 2020 rok | D4: Plan po zmianie | E4: Różnica kol.4-kol.3 | F4: Dynamika kol.4/kol.3
A5: 1 | B5: 2 | C5: 3 | D5: 4 | E5: 5 | F5: 6
A6: B2 | B6: Koszty świadczeń opieki zdrowotnej (B2.1+...+B2.22) | C6: =C7+C8+C9+C16+C17+C18+C19+C20+C21+C22+C23+C24+C25+C26+C30+C31+C33+C34+C35+C36+C37+C39 -> 6979798 | D6: =D7+D8+D9+D16+D17+D18+D19+D20+D21+D22+D23+D24+D25+D26+D30+D31+D33+D34+D35+D36+D37+D39 -> 6984374 | E6: =IF(C6=D6,"-",D6-C6) -> 4576 | F6: =IF(C6=0,"-",D6/C6) -> 1.0007
A7: B2.1 | B7: podstawowa opieka zdrowotna | C7: 917992 | D7: =C7 -> 917992 | E7: =IF(C7=D7,"-",D7-C7) -> - | F7: =IF(C7=0,"-",D7/C7) -> 1
A8: B2.2 | B8: ambulatoryjna opieka specjalistyczna | C8: 346630 | D8: =C8 -> 346630 | E8: =IF(C8=D8,"-",D8-C8) -> - | F8: =IF(C8=0,"-",D8/C8) -> 1
A9: B2.3 | B9: leczenie szpitalne, w tym: | C9: 3971103 | D9: =C9+4576 -> 3975679 | E9: =IF(C9=D9,"-",D9-C9) -> 4576 | F9: =IF(C9=0,"-",D9/C9) -> 1.0012
A10: B2.3.1 | B10: programy lekowe, w tym: | C10: 360970 | D10: =C10 -> 360970 | E10: =IF(C10=D10,"-",D10-C10) -> - | F10: =IF(C10=0,"-",D10/C10) -> 1
A11: B2.3.1.1 | B11: leki, środki spożywcze specjalnego przeznaczenia żywieniowego objęte programami lekowymi | C11: 320374 | D11: =C11 -> 320374 | E11: =IF(C11=D11,"-",D11-C11) -> - | F11: =IF(C11=0,"-",D11/C11) -> 1
A12: B2.3.2 | B12: chemioterapia, w tym: | C12: 112177 | D12: =C12 -> 112177 | E12: =IF(C12=D12,"-",D12-C12) -> - | F12: =IF(C12=0,"-",D12/C12) -> 1
A13: B2.3.2.1 | B13: leki stosowane w chemioterapii | C13: 46006 | D13: =C13 -> 46006 | E13: =IF(C13=D13,"-",D13-C13) -> - | F13: =IF(C13=0,"-",D13/C13) -> 1
A14: B2.3.3 | B14: ratunkowy dostęp do technologii lekowej | C14: 8000 | D14: =C14 -> 8000 | E14: =IF(C14=D14,"-",D14-C14) -> - | F14: =IF(C14=0,"-",D14/C14) -> 1
A15: B2.3.4 | B15: świadczenia wysokospecjalistyczne | C15: 2934 | D15: =C15 -> 2934 | E15: =IF(C15=D15,"-",D15-C15) -> - | F15: =IF(C15=0,"-",D15/C15) -> 1
A16: B2.4 | B16: opieka psychiatryczna i leczenie uzależnień | C16: 183215 | D16: =C16 -> 183215 | E16: =IF(C16=D16,"-",D16-C16) -> - | F16: =IF(C16=0,"-",D16/C16) -> 1
A17: B2.5 | B17: rehabilitacja lecznicza | C17: 184501 | D17: =C17 -> 184501 | E17: =IF(C17=D17,"-",D17-C17) -> - | F17: =IF(C17=0,"-",D17/C17) -> 1
A18: B2.6 | B18: świadczenia pielęgnacyjne i opiekuńcze w ramach opieki długoterminowej | C18: 115190 | D18: =C18 -> 115190 | E18: =IF(C18=D18,"-",D18-C18) -> - | F18: =IF(C18=0,"-",D18/C18) -> 1
A19: B2.7 | B19: opieka paliatywna i hospicyjna | C19: 45354 | D19: =C19 -> 45354 | E19: =IF(C19=D19,"-",D19-C19) -> - | F19: =IF(C19=0,"-",D19/C19) -> 1
A20: B2.8 | B20: leczenie stomatologiczne | C20: 136990 | D20: =C20 -> 136990 | E20: =IF(C20=D20,"-",D20-C20) -> - | F20: =IF(C20=0,"-",D20/C20) -> 1
A21: B2.9 | B21: lecznictwo uzdrowiskowe | C21: 48306 | D21: =C21 -> 48306 | E21: =IF(C21=D21,"-",D21-C21) -> - | F21: =IF(C21=0,"-",D21/C21) -> 1
... A44: B7 | B44: Koszty finansowania leku, zgodnie z art. 43b ust. 7 ustawy | C44: 635 | D44: =C44 -> 635 | E44: =IF(C44=D44,"-",D44-C44) -> - | F44: =IF(C44=0,"-",D44/C44) -> 1
A45: Bn | B45: Całkowity budżet na refundację (B2.3.1.1+B2.3.2.1+B2.3.3+B2.14+B2.16.1+B5+B7) | C45: =C11+C13+C14+C26+C32+C42+C44 -> 1089319 | D45: =D11+D13+D14+D26+D32+D42+D44 -> 1089319 | E45: =IF(C45=D45,"-",D45-C45) -> - | F45: =IF(C45=0,"-",D45/C45) -> 1
A46: D | B46: Koszty administracyjne ( D1+...+D8 ) | C46: =C47+C48+C49+C57+C59+C65+C66+C64 -> 36606 | D46: =D47+D48+D49+D57+D59+D65+D66+D64 -> 36606 | E46: =IF(C46=D46,"-",D46-C46) -> - | F46: =IF(C46=0,"-",D46/C46) -> 1
A47: D1 | B47: zużycie materiałów i energii | C47: 1457 | D47: =C47 -> 1457 | E47: =IF(C47=D47,"-",D47-C47) -> - | F47: =IF(C47=0,"-",D47/C47) -> 1
A48: D2 | B48: usługi obce | C48: 6901 | D48: =C48 -> 6901 | E48: =IF(C48=D48,"-",D48-C48) -> - | F48: =IF(C48=0,"-",D48/C48) -> 1
A49: D3 | B49: podatki i opłaty, z tego | C49: =C50+C52+C53+C54+C55+C56 -> 55 | D49: =D50+D52+D53+D54+D55+D56 -> 55 | E49: =IF(C49=D49,"-",D49-C49) -> - | F49: =IF(C49=0,"-",D49/C49) -> 1
A50: D3.1 | B50: podatki stanowiące dochody własne jednostek samorządu terytorialnego, w tym: | C50: 11 | D50: =C50 -> 11 | E50: =IF(C50=D50,"-",D50-C50) -> - | F50: =IF(C50=0,"-",D50/C50) -> 1
A51: D3.1.1 | B51: podatek od nieruchomości | C51: 11 | D51: =C51 -> 11 | E51: =IF(C51=D51,"-",D51-C51) -> - | F51: =IF(C51=0,"-",D51/C51) -> 1
A52: D3.2 | B52: opłaty stanowiące dochody własne jednostek samorządu terytorialnego | C52: 13 | D52: =C52 -> 13 | E52: =IF(C52=D52,"-",D52-C52) -> - | F52: =IF(C52=0,"-",D52/C52) -> 1
A53: D3.3 | B53: VAT | C53: 0 | D53: =C53 -> 0 | E53: =IF(C53=D53,"-",D53-C53) -> - | F53: =IF(C53=0,"-",D53/C53) -> -
A54: D3.4 | B54: podatek akcyzowy | C54: 0 | D54: =C54 -> 0 | E54: =IF(C54=D54,"-",D54-C54) -> - | F54: =IF(C54=0,"-",D54/C54) -> -
A55: D3.5 | B55: wpłaty na PFRON | C55: 27 | D55: =C55 -> 27 | E55: =IF(C55=D55,"-",D55-C55) -> - | F55: =IF(C55=0,"-",D55/C55) -> 1
A56: D3.6 | B56: inne | C56: 4 | D56: =C56 -> 4 | E56: =IF(C56=D56,"-",D56-C56) -> - | F56: =IF(C56=0,"-",D56/C56) -> 1
A57: D4 | B57: wynagrodzenia, w tym: | C57: 20722 | D57: =C57 -> 20722 | E57: =IF(C57=D57,"-",D57-C57) -> - | F57: =IF(C57=0,"-",D57/C57) -> 1
A58: D4.1 | B58: wynagrodzenia bezosobowe | C58: 90 | D58: =C58 -> 90 | E58: =IF(C58=D58,"-",D58-C58) -> - | F58: =IF(C58=0,"-",D58/C58) -> 1
A59: D5 | B59: ubezpieczenie społeczne i inne świadczenia, z tego: | C59: =C60+C61+C62+C63 -> 4654 | D59: =D60+D61+D62+D63 -> 4654 | E59: =IF(C59=D59,"-",D59-C59) -> - | F59: =IF(C59=0,"-",D59/C59) -> 1
A60: D5.1 | B60: składki na Fundusz Ubezpieczeń Społecznych | C60: 3560 | D60: =C60 -> 3560 | E60: =IF(C60=D60,"-",D60-C60) -> - | F60: =IF(C60=0,"-",D60/C60) -> 1
A61: D5.2 | B61: składki na Fundusz Pracy | C61: 508 | D61: =C61 -> 508 | E61: =IF(C61=D61,"-",D61-C61) -> - | F61: =IF(C61=0,"-",D61/C61) -> 1
A62: D5.3 | B62: składki na Fundusz Gwarantowanych Świadczeń Pracowniczych | C62: 0 | D62: =C62 -> 0 | E62: =IF(C62=D62,"-",D62-C62) -> - | F62: =IF(C62=0,"-",D62/C62) -> -
A63: D5.4 | B63: pozostałe świadczenia | C63: 586 | D63: =C63 -> 586 | E63: =IF(C63=D63,"-",D63-C63) -> - | F63: =IF(C63=0,"-",D63/C63) -> 1
A64: D6 | B64: koszty funkcjonowania Rady Funduszu | C64: 0 | D64: =C64 -> 0 | E64: =IF(C64=D64,"-",D64-C64) -> - | F64: =IF(C64=0,"-",D64/C64) -> -
A65: D7 | B65: amortyzacja środków trwałych oraz wartości niematerialnych i prawnych | C65: 2520 | D65: =C65 -> 2520 | E65: =IF(C65=D65,"-",D65-C65) -> - | F65: =IF(C65=0,"-",D65/C65) -> 1
A66: D8 | B66: pozostałe koszty administracyjne | C66: 297 | D66: =C66 -> 297 | E66: =IF(C66=D66,"-",D66-C66) -> - | F66: =IF(C66=0,"-",D66/C66) -> 1
A67: F | B67: Pozostałe koszty (F1+...+F4) | C67: =C68+C69+C70+C71 -> 71243 | D67: =D68+D69+D70+D71 -> 51993 | E67: =IF(C67=D67,"-",D67-C67) -> -19250 | F67: =IF(C67=0,"-",D67/C67) -> 0.7298
A68: F1 | B68: wydanie i utrzymanie kart ubezpieczenia | C68: 0 | D68: =C68 -> 0 | E68: =IF(C68=D68,"-",D68-C68) -> - | F68: =IF(C68=0,"-",D68/C68) -> -
A69: F2 | B69: rezerwa na zobowiązania wynikające z postępowań sądowych | C69: 31000 | D69: =C69-18800 -> 12200 | E69: =IF(C69=D69,"-",D69-C69) -> -18800 | F69: =IF(C69=0,"-",D69/C69) -> 0.3935
A70: F3 | B70: inne rezerwy | C70: 0 | D70: =C70 -> 0 | E70: =IF(C70=D70,"-",D70-C70) -> - | F70: =IF(C70=0,"-",D70/C70) -> -
A71: F4 | B71: inne koszty | C71: 40243 | D71: =C71-38693+38205+38 -> 39793 | E71: =IF(C71=D71,"-",D71-C71) -> -450 | F71: =IF(C71=0,"-",D71/C71) -> 0.9888
A72: H | B72: Koszty finansowe | C72: 5000 | D72: =C72-2800 -> 2200 | E72: =IF(C72=D72,"-",D72-C72) -> -2800 | F72: =IF(C72=0,"-",D72/C72) -> 0.44

Sheet Małopolski
A1: ZMIANA PLANU FINANSOWEGO NARODOWEGO FUNDUSZU ZDROWIA NA 2020 ROK Z DNIA 29 GRUDNIA 2020 R.
A2: Koszty Małopolskiego Oddziału Wojewódzkiego Narodowego Funduszu Zdrowia
E3: w tys. zł
A4: Poz. | B4: Wyszczególnienie | C4: Plan na 2020 rok | D4: Plan po zmianie | E4: Różnica kol.4-kol.3 | F4: Dynamika kol.4/kol.3
A5: 1 | B5: 2 | C5: 3 | D5: 4 | E5: 5 | F5: 6
A6: B2 | B6: Koszty świadczeń opieki zdrowotnej (B2.1+...+B2.22) | C6: =C7+C8+C9+C16+C17+C18+C19+C20+C21+C22+C23+C24+C25+C26+C30+C31+C33+C34+C35+C36+C37+C39 -> 8857858 | D6: =D7+D8+D9+D16+D17+D18+D19+D20+D21+D22+D23+D24+D25+D26+D30+D31+D33+D34+D35+D36+D37+D39 -> 8863760 | E6: =IF(C6=D6,"-",D6-C6) -> 5902 | F6: =IF(C6=0,"-",D6/C6) -> 1.0007
A7: B2.1 | B7: podstawowa opieka zdrowotna | C7: 1235671 | D7: =C7 -> 1235671 | E7: =IF(C7=D7,"-",D7-C7) -> - | F7: =IF(C7=0,"-",D7/C7) -> 1
A8: B2.2 | B8: ambulatoryjna opieka specjalistyczna | C8: 489171 | D8: =C8 -> 489171 | E8: =IF(C8=D8,"-",D8-C8) -> - | F8: =IF(C8=0,"-",D8/C8) -> 1
A9: B2.3 | B9: leczenie szpitalne, w tym: | C9: 4713138 | D9: =C9+5902 -> 4719040 | E9: =IF(C9=D9,"-",D9-C9) -> 5902 | F9: =IF(C9=0,"-",D9/C9) -> 1.0013
A10: B2.3.1 | B10: programy lekowe, w tym: | C10: 438506 | D10: =C10 -> 438506 | E10: =IF(C10=D10,"-",D10-C10) -> - | F10: =IF(C10=0,"-",D10/C10) -> 1
A11: B2.3.1.1 | B11: leki, środki spożywcze specjalnego przeznaczenia żywieniowego objęte programami lekowymi | C11: 394041 | D11: =C11 -> 394041 | E11: =IF(C11=D11,"-",D11-C11) -> - | F11: =IF(C11=0,"-",D11/C11) -> 1
A12: B2.3.2 | B12: chemioterapia, w tym: | C12: 103002 | D12: =C12 -> 103002 | E12: =IF(C12=D12,"-",D12-C12) -> - | F12: =IF(C12=0,"-",D12/C12) -> 1
A13: B2.3.2.1 | B13: leki stosowane w chemioterapii | C13: 49809 | D13: =C13 -> 49809 | E13: =IF(C13=D13,"-",D13-C13) -> - | F13: =IF(C13=0,"-",D13/C13) -> 1
A14: B2.3.3 | B14: ratunkowy dostęp do technologii lekowej | C14: 2500 | D14: =C14 -> 2500 | E14: =IF(C14=D14,"-",D14-C14) -> - | F14: =IF(C14=0,"-",D14/C14) -> 1
A15: B2.3.4 | B15: świadczenia wysokospecjalistyczne | C15: 18554 | D15: =C15 -> 18554 | E15: =IF(C15=D15,"-",D15-C15) -> - | F15: =IF(C15=0,"-",D15/C15) -> 1
A16: B2.4 | B16: opieka psychiatryczna i leczenie uzależnień | C16: 253591 | D16: =C16 -> 253591 | E16: =IF(C16=D16,"-",D16-C16) -> - | F16: =IF(C16=0,"-",D16/C16) -> 1
A17: B2.5 | B17: rehabilitacja lecznicza | C17: 305253 | D17: =C17 -> 305253 | E17: =IF(C17=D17,"-",D17-C17) -> - | F17: =IF(C17=0,"-",D17/C17) -> 1
A18: B2.6 | B18: świadczenia pielęgnacyjne i opiekuńcze w ramach opieki długoterminowej | C18: 233292 | D18: =C18 -> 233292 | E18: =IF(C18=D18,"-",D18-C18) -> - | F18: =IF(C18=0,"-",D18/C18) -> 1
A19: B2.7 | B19: opieka paliatywna i hospicyjna | C19: 85905 | D19: =C19 -> 85905 | E19: =IF(C19=D19,"-",D19-C19) -> - | F19: =IF(C19=0,"-",D19/C19) -> 1
A20: B2.8 | B20: leczenie stomatologiczne | C20: 218614 | D20: =C20 -> 218614 | E20: =IF(C20=D20,"-",D20-C20) -> - | F20: =IF(C20=0,"-",D20/C20) -> 1
A21: B2.9 | B21: lecznictwo uzdrowiskowe | C21: 63717 | D21: =C21 -> 63717 | E21: =IF(C21=D21,"-",D21-C21) -> - | F21: =IF(C21=0,"-",D21/C21) -> 1
... A44: B7 | B44: Koszty finansowania leku, zgodnie z art. 43b ust. 7 ustawy | C44: 1084 | D44: =C44 -> 1084 | E44: =IF(C44=D44,"-",D44-C44) -> - | F44: =IF(C44=0,"-",D44/C44) -> 1
A45: Bn | B45: Całkowity budżet na refundację (B2.3.1.1+B2.3.2.1+B2.3.3+B2.14+B2.16.1+B5+B7) | C45: =C11+C13+C14+C26+C32+C42+C44 -> 1271742 | D45: =D11+D13+D14+D26+D32+D42+D44 -> 1271742 | E45: =IF(C45=D45,"-",D45-C45) -> - | F45: =IF(C45=0,"-",D45/C45) -> 1
A46: D | B46: Koszty administracyjne ( D1+...+D8 ) | C46: =C47+C48+C49+C57+C59+C65+C66+C64 -> 48247 | D46: =D47+D48+D49+D57+D59+D65+D66+D64 -> 48247 | E46: =IF(C46=D46,"-",D46-C46) -> - | F46: =IF(C46=0,"-",D46/C46) -> 1
A47: D1 | B47: zużycie materiałów i energii | C47: 1965 | D47: =C47 -> 1965 | E47: =IF(C47=D47,"-",D47-C47) -> - | F47: =IF(C47=0,"-",D47/C47) -> 1
A48: D2 | B48: usługi obce | C48: 9916 | D48: =C48 -> 9916 | E48: =IF(C48=D48,"-",D48-C48) -> - | F48: =IF(C48=0,"-",D48/C48) -> 1
A49: D3 | B49: podatki i opłaty, z tego | C49: =C50+C52+C53+C54+C55+C56 -> 229 | D49: =D50+D52+D53+D54+D55+D56 -> 229 | E49: =IF(C49=D49,"-",D49-C49) -> - | F49: =IF(C49=0,"-",D49/C49) -> 1
A50: D3.1 | B50: podatki stanowiące dochody własne jednostek samorządu terytorialnego, w tym: | C50: 27 | D50: =C50 -> 27 | E50: =IF(C50=D50,"-",D50-C50) -> - | F50: =IF(C50=0,"-",D50/C50) -> 1
A51: D3.1.1 | B51: podatek od nieruchomości | C51: 27 | D51: =C51 -> 27 | E51: =IF(C51=D51,"-",D51-C51) -> - | F51: =IF(C51=0,"-",D51/C51) -> 1
A52: D3.2 | B52: opłaty stanowiące dochody własne jednostek samorządu terytorialnego | C52: 57 | D52: =C52 -> 57 | E52: =IF(C52=D52,"-",D52-C52) -> - | F52: =IF(C52=0,"-",D52/C52) -> 1
A53: D3.3 | B53: VAT | C53: 0 | D53: =C53 -> 0 | E53: =IF(C53=D53,"-",D53-C53) -> - | F53: =IF(C53=0,"-",D53/C53) -> -
A54: D3.4 | B54: podatek akcyzowy | C54: 0 | D54: =C54 -> 0 | E54: =IF(C54=D54,"-",D54-C54) -> - | F54: =IF(C54=0,"-",D54/C54) -> -
A55: D3.5 | B55: wpłaty na PFRON | C55: 0 | D55: =C55 -> 0 | E55: =IF(C55=D55,"-",D55-C55) -> - | F55: =IF(C55=0,"-",D55/C55) -> -
A56: D3.6 | B56: inne | C56: 145 | D56: =C56 -> 145 | E56: =IF(C56=D56,"-",D56-C56) -> - | F56: =IF(C56=0,"-",D56/C56) -> 1
A57: D4 | B57: wynagrodzenia, w tym: | C57: 25278 | D57: =C57 -> 25278 | E57: =IF(C57=D57,"-",D57-C57) -> - | F57: =IF(C57=0,"-",D57/C57) -> 1
A58: D4.1 | B58: wynagrodzenia bezosobowe | C58: 0 | D58: =C58 -> 0 | E58: =IF(C58=D58,"-",D58-C58) -> - | F58: =IF(C58=0,"-",D58/C58) -> -
A59: D5 | B59: ubezpieczenie społeczne i inne świadczenia, z tego: | C59: =C60+C61+C62+C63 -> 5659 | D59: =D60+D61+D62+D63 -> 5659 | E59: =IF(C59=D59,"-",D59-C59) -> - | F59: =IF(C59=0,"-",D59/C59) -> 1
A60: D5.1 | B60: składki na Fundusz Ubezpieczeń Społecznych | C60: 4339 | D60: =C60 -> 4339 | E60: =IF(C60=D60,"-",D60-C60) -> - | F60: =IF(C60=0,"-",D60/C60) -> 1
A61: D5.2 | B61: składki na Fundusz Pracy | C61: 620 | D61: =C61 -> 620 | E61: =IF(C61=D61,"-",D61-C61) -> - | F61: =IF(C61=0,"-",D61/C61) -> 1
A62: D5.3 | B62: składki na Fundusz Gwarantowanych Świadczeń Pracowniczych | C62: 0 | D62: =C62 -> 0 | E62: =IF(C62=D62,"-",D62-C62) -> - | F62: =IF(C62=0,"-",D62/C62) -> -
A63: D5.4 | B63: pozostałe świadczenia | C63: 700 | D63: =C63 -> 700 | E63: =IF(C63=D63,"-",D63-C63) -> - | F63: =IF(C63=0,"-",D63/C63) -> 1
A64: D6 | B64: koszty funkcjonowania Rady Funduszu | C64: 0 | D64: =C64 -> 0 | E64: =IF(C64=D64,"-",D64-C64) -> - | F64: =IF(C64=0,"-",D64/C64) -> -
A65: D7 | B65: amortyzacja środków trwałych oraz wartości niematerialnych i prawnych | C65: 4900 | D65: =C65 -> 4900 | E65: =IF(C65=D65,"-",D65-C65) -> - | F65: =IF(C65=0,"-",D65/C65) -> 1
A66: D8 | B66: pozostałe koszty administracyjne | C66: 300 | D66: =C66 -> 300 | E66: =IF(C66=D66,"-",D66-C66) -> - | F66: =IF(C66=0,"-",D66/C66) -> 1
A67: F | B67: Pozostałe koszty (F1+...+F4) | C67: =C68+C69+C70+C71 -> 22133 | D67: =D68+D69+D70+D71 -> 22133 | E67: =IF(C67=D67,"-",D67-C67) -> - | F67: =IF(C67=0,"-",D67/C67) -> 1
A68: F1 | B68: wydanie i utrzymanie kart ubezpieczenia | C68: 0 | D68: =C68 -> 0 | E68: =IF(C68=D68,"-",D68-C68) -> - | F68: =IF(C68=0,"-",D68/C68) -> -
A69: F2 | B69: rezerwa na zobowiązania wynikające z postępowań sądowych | C69: 11150 | D69: =C69 -> 11150 | E69: =IF(C69=D69,"-",D69-C69) -> - | F69: =IF(C69=0,"-",D69/C69) -> 1
A70: F3 | B70: inne rezerwy | C70: 0 | D70: =C70 -> 0 | E70: =IF(C70=D70,"-",D70-C70) -> - | F70: =IF(C70=0,"-",D70/C70) -> -
A71: F4 | B71: inne koszty | C71: 10983 | D71: =C71-7718+7675+43 -> 10983 | E71: =IF(C71=D71,"-",D71-C71) -> - | F71: =IF(C71=0,"-",D71/C71) -> 1
A72: H | B72: Koszty finansowe | C72: 300 | D72: =C72+4500 -> 4800 | E72: =IF(C72=D72,"-",D72-C72) -> 4500 | F72: =IF(C72=0,"-",D72/C72) -> 16

Sheet Mazowiecki
A1: ZMIANA PLANU FINANSOWEGO NARODOWEGO FUNDUSZU ZDROWIA NA 2020 ROK Z DNIA 29 GRUDNIA 2020 R.
A2: Koszty Mazowieckiego Oddziału Wojewódzkiego Narodowego Funduszu Zdrowia
E3: w tys. zł
A4: Poz. | B4: Wyszczególnienie | C4: Plan na 2020 rok | D4: Plan po zmianie | E4: Różnica kol.4-kol.3 | F4: Dynamika kol.4/kol.3
A5: 1 | B5: 2 | C5: 3 | D5: 4 | E5: 5 | F5: 6
A6: B2 | B6: Koszty świadczeń opieki zdrowotnej (B2.1+...+B2.22) | C6: =C7+C8+C9+C16+C17+C18+C19+C20+C21+C22+C23+C24+C25+C26+C30+C31+C33+C34+C35+C36+C37+C39 -> 15037038 | D6: =D7+D8+D9+D16+D17+D18+D19+D20+D21+D22+D23+D24+D25+D26+D30+D31+D33+D34+D35+D36+D37+D39 -> 15046894 | E6: =IF(C6=D6,"-",D6-C6) -> 9856 | F6: =IF(C6=0,"-",D6/C6) -> 1.0007
A7: B2.1 | B7: podstawowa opieka zdrowotna | C7: 2047494 | D7: =C7 -> 2047494 | E7: =IF(C7=D7,"-",D7-C7) -> - | F7: =IF(C7=0,"-",D7/C7) -> 1
A8: B2.2 | B8: ambulatoryjna opieka specjalistyczna | C8: 809964 | D8: =C8 -> 809964 | E8: =IF(C8=D8,"-",D8-C8) -> - | F8: =IF(C8=0,"-",D8/C8) -> 1
A9: B2.3 | B9: leczenie szpitalne, w tym: | C9: 8594085 | D9: =C9+9856 -> 8603941 | E9: =IF(C9=D9,"-",D9-C9) -> 9856 | F9: =IF(C9=0,"-",D9/C9) -> 1.0011
A10: B2.3.1 | B10: programy lekowe, w tym: | C10: 814923 | D10: =C10 -> 814923 | E10: =IF(C10=D10,"-",D10-C10) -> - | F10: =IF(C10=0,"-",D10/C10) -> 1
A11: B2.3.1.1 | B11: leki, środki spożywcze specjalnego przeznaczenia żywieniowego objęte programami lekowymi | C11: 733588 | D11: =C11 -> 733588 | E11: =IF(C11=D11,"-",D11-C11) -> - | F11: =IF(C11=0,"-",D11/C11) -> 1
A12: B2.3.2 | B12: chemioterapia, w tym: | C12: 230452 | D12: =C12 -> 230452 | E12: =IF(C12=D12,"-",D12-C12) -> - | F12: =IF(C12=0,"-",D12/C12) -> 1
A13: B2.3.2.1 | B13: leki stosowane w chemioterapii | C13: 88266 | D13: =C13 -> 88266 | E13: =IF(C13=D13,"-",D13-C13) -> - | F13: =IF(C13=0,"-",D13/C13) -> 1
A14: B2.3.3 | B14: ratunkowy dostęp do technologii lekowej | C14: 4600 | D14: =C14 -> 4600 | E14: =IF(C14=D14,"-",D14-C14) -> - | F14: =IF(C14=0,"-",D14/C14) -> 1
A15: B2.3.4 | B15: świadczenia wysokospecjalistyczne | C15: 75231 | D15: =C15 -> 75231 | E15: =IF(C15=D15,"-",D15-C15) -> - | F15: =IF(C15=0,"-",D15/C15) -> 1
A16: B2.4 | B16: opieka psychiatryczna i leczenie uzależnień | C16: 464306 | D16: =C16 -> 464306 | E16: =IF(C16=D16,"-",D16-C16) -> - | F16: =IF(C16=0,"-",D16/C16) -> 1
A17: B2.5 | B17: rehabilitacja lecznicza | C17: 573977 | D17: =C17 -> 573977 | E17: =IF(C17=D17,"-",D17-C17) -> - | F17: =IF(C17=0,"-",D17/C17) -> 1
A18: B2.6 | B18: świadczenia pielęgnacyjne i opiekuńcze w ramach opieki długoterminowej | C18: 264541 | D18: =C18 -> 264541 | E18: =IF(C18=D18,"-",D18-C18) -> - | F18: =IF(C18=0,"-",D18/C18) -> 1
A19: B2.7 | B19: opieka paliatywna i hospicyjna | C19: 96641 | D19: =C19 -> 96641 | E19: =IF(C19=D19,"-",D19-C19) -> - | F19: =IF(C19=0,"-",D19/C19) -> 1
A20: B2.8 | B20: leczenie stomatologiczne | C20: 242026 | D20: =C20 -> 242026 | E20: =IF(C20=D20,"-",D20-C20) -> - | F20: =IF(C20=0,"-",D20/C20) -> 1
A21: B2.9 | B21: lecznictwo uzdrowiskowe | C21: 115509 | D21: =C21 -> 115509 | E21: =IF(C21=D21,"-",D21-C21) -> - | F21: =IF(C21=0,"-",D21/C21) -> 1
... A44: B7 | B44: Koszty finansowania leku, zgodnie z art. 43b ust. 7 ustawy | C44: 1747 | D44: =C44 -> 1747 | E44: =IF(C44=D44,"-",D44-C44) -> - | F44: =IF(C44=0,"-",D44/C44) -> 1
A45: Bn | B45: Całkowity budżet na refundację (B2.3.1.1+B2.3.2.1+B2.3.3+B2.14+B2.16.1+B5+B7) | C45: =C11+C13+C14+C26+C32+C42+C44 -> 2132704 | D45: =D11+D13+D14+D26+D32+D42+D44 -> 2132704 | E45: =IF(C45=D45,"-",D45-C45) -> - | F45: =IF(C45=0,"-",D45/C45) -> 1
A46: D | B46: Koszty administracyjne ( D1+...+D8 ) | C46: =C47+C48+C49+C57+C59+C65+C66+C64 -> 75636 | D46: =D47+D48+D49+D57+D59+D65+D66+D64 -> 75636 | E46: =IF(C46=D46,"-",D46-C46) -> - | F46: =IF(C46=0,"-",D46/C46) -> 1
A47: D1 | B47: zużycie materiałów i energii | C47: 2181 | D47: =C47 -> 2181 | E47: =IF(C47=D47,"-",D47-C47) -> - | F47: =IF(C47=0,"-",D47/C47) -> 1
A48: D2 | B48: usługi obce | C48: 12981 | D48: =C48 -> 12981 | E48: =IF(C48=D48,"-",D48-C48) -> - | F48: =IF(C48=0,"-",D48/C48) -> 1
A49: D3 | B49: podatki i opłaty, z tego | C49: =C50+C52+C53+C54+C55+C56 -> 250 | D49: =D50+D52+D53+D54+D55+D56 -> 250 | E49: =IF(C49=D49,"-",D49-C49) -> - | F49: =IF(C49=0,"-",D49/C49) -> 1
A50: D3.1 | B50: podatki stanowiące dochody własne jednostek samorządu terytorialnego, w tym: | C50: 21 | D50: =C50 -> 21 | E50: =IF(C50=D50,"-",D50-C50) -> - | F50: =IF(C50=0,"-",D50/C50) -> 1
A51: D3.1.1 | B51: podatek od nieruchomości | C51: 21 | D51: =C51 -> 21 | E51: =IF(C51=D51,"-",D51-C51) -> - | F51: =IF(C51=0,"-",D51/C51) -> 1
A52: D3.2 | B52: opłaty stanowiące dochody własne jednostek samorządu terytorialnego | C52: 12 | D52: =C52 -> 12 | E52: =IF(C52=D52,"-",D52-C52) -> - | F52: =IF(C52=0,"-",D52/C52) -> 1
A53: D3.3 | B53: VAT | C53: 0 | D53: =C53 -> 0 | E53: =IF(C53=D53,"-",D53-C53) -> - | F53: =IF(C53=0,"-",D53/C53) -> -
A54: D3.4 | B54: podatek akcyzowy | C54: 0 | D54: =C54 -> 0 | E54: =IF(C54=D54,"-",D54-C54) -> - | F54: =IF(C54=0,"-",D54/C54) -> -
A55: D3.5 | B55: wpłaty na PFRON | C55: 206 | D55: =C55 -> 206 | E55: =IF(C55=D55,"-",D55-C55) -> - | F55: =IF(C55=0,"-",D55/C55) -> 1
A56: D3.6 | B56: inne | C56: 11 | D56: =C56 -> 11 | E56: =IF(C56=D56,"-",D56-C56) -> - | F56: =IF(C56=0,"-",D56/C56) -> 1
A57: D4 | B57: wynagrodzenia, w tym: | C57: 46665 | D57: =C57 -> 46665 | E57: =IF(C57=D57,"-",D57-C57) -> - | F57: =IF(C57=0,"-",D57/C57) -> 1
A58: D4.1 | B58: wynagrodzenia bezosobowe | C58: 0 | D58: =C58 -> 0 | E58: =IF(C58=D58,"-",D58-C58) -> - | F58: =IF(C58=0,"-",D58/C58) -> -
A59: D5 | B59: ubezpieczenie społeczne i inne świadczenia, z tego: | C59: =C60+C61+C62+C63 -> 10412 | D59: =D60+D61+D62+D63 -> 10412 | E59: =IF(C59=D59,"-",D59-C59) -> - | F59: =IF(C59=0,"-",D59/C59) -> 1
A60: D5.1 | B60: składki na Fundusz Ubezpieczeń Społecznych | C60: 8012 | D60: =C60 -> 8012 | E60: =IF(C60=D60,"-",D60-C60) -> - | F60: =IF(C60=0,"-",D60/C60) -> 1
A61: D5.2 | B61: składki na Fundusz Pracy | C61: 1144 | D61: =C61 -> 1144 | E61: =IF(C61=D61,"-",D61-C61) -> - | F61: =IF(C61=0,"-",D61/C61) -> 1
A62: D5.3 | B62: składki na Fundusz Gwarantowanych Świadczeń Pracowniczych | C62: 0 | D62: =C62 -> 0 | E62: =IF(C62=D62,"-",D62-C62) -> - | F62: =IF(C62=0,"-",D62/C62) -> -
A63: D5.4 | B63: pozostałe świadczenia | C63: 1256 | D63: =C63 -> 1256 | E63: =IF(C63=D63,"-",D63-C63) -> - | F63: =IF(C63=0,"-",D63/C63) -> 1
A64: D6 | B64: koszty funkcjonowania Rady Funduszu | C64: 0 | D64: =C64 -> 0 | E64: =IF(C64=D64,"-",D64-C64) -> - | F64: =IF(C64=0,"-",D64/C64) -> -
A65: D7 | B65: amortyzacja środków trwałych oraz wartości niematerialnych i prawnych | C65: 2732 | D65: =C65 -> 2732 | E65: =IF(C65=D65,"-",D65-C65) -> - | F65: =IF(C65=0,"-",D65/C65) -> 1
A66: D8 | B66: pozostałe koszty administracyjne | C66: 415 | D66: =C66 -> 415 | E66: =IF(C66=D66,"-",D66-C66) -> - | F66: =IF(C66=0,"-",D66/C66) -> 1
A67: F | B67: Pozostałe koszty (F1+...+F4) | C67: =C68+C69+C70+C71 -> 137008 | D67: =D68+D69+D70+D71 -> 138091 | E67: =IF(C67=D67,"-",D67-C67) -> 1083 | F67: =IF(C67=0,"-",D67/C67) -> 1.0079
A68: F1 | B68: wydanie i utrzymanie kart ubezpieczenia | C68: 0 | D68: =C68 -> 0 | E68: =IF(C68=D68,"-",D68-C68) -> - | F68: =IF(C68=0,"-",D68/C68) -> -
A69: F2 | B69: rezerwa na zobowiązania wynikające z postępowań sądowych | C69: 8645 | D69: =C69-3510 -> 5135 | E69: =IF(C69=D69,"-",D69-C69) -> -3510 | F69: =IF(C69=0,"-",D69/C69) -> 0.594
A70: F3 | B70: inne rezerwy | C70: 0 | D70: =C70 -> 0 | E70: =IF(C70=D70,"-",D70-C70) -> - | F70: =IF(C70=0,"-",D70/C70) -> -
A71: F4 | B71: inne koszty | C71: 128363 | D71: =C71-116063+117853+2755+48 -> 132956 | E71: =IF(C71=D71,"-",D71-C71) -> 4593 | F71: =IF(C71=0,"-",D71/C71) -> 1.0358
A72: H | B72: Koszty finansowe | C72: 5617 | D72: =C72+1104 -> 6721 | E72: =IF(C72=D72,"-",D72-C72) -> 1104 | F72: =IF(C72=0,"-",D72/C72) -> 1.1965

Sheet Opolski
A1: ZMIANA PLANU FINANSOWEGO NARODOWEGO FUNDUSZU ZDROWIA NA 2020 ROK Z DNIA 29 GRUDNIA 2020 R.
A2: Koszty Opolskiego Oddziału Wojewódzkiego Narodowego Funduszu Zdrowia
E3: w tys. zł
A4: Poz. | B4: Wyszczególnienie | C4: Plan na 2020 rok | D4: Plan po zmianie | E4: Różnica kol.4-kol.3 | F4: Dynamika kol.4/kol.3
A5: 1 | B5: 2 | C5: 3 | D5: 4 | E5: 5 | F5: 6
A6: B2 | B6: Koszty świadczeń opieki zdrowotnej (B2.1+...+B2.22) | C6: =C7+C8+C9+C16+C17+C18+C19+C20+C21+C22+C23+C24+C25+C26+C30+C31+C33+C34+C35+C36+C37+C39 -> 2470040 | D6: =D7+D8+D9+D16+D17+D18+D19+D20+D21+D22+D23+D24+D25+D26+D30+D31+D33+D34+D35+D36+D37+D39 -> 2471661 | E6: =IF(C6=D6,"-",D6-C6) -> 1621 | F6: =IF(C6=0,"-",D6/C6) -> 1.0007
A7: B2.1 | B7: podstawowa opieka zdrowotna | C7: 331616 | D7: =C7 -> 331616 | E7: =IF(C7=D7,"-",D7-C7) -> - | F7: =IF(C7=0,"-",D7/C7) -> 1
A8: B2.2 | B8: ambulatoryjna opieka specjalistyczna | C8: 130198 | D8: =C8 -> 130198 | E8: =IF(C8=D8,"-",D8-C8) -> - | F8: =IF(C8=0,"-",D8/C8) -> 1
A9: B2.3 | B9: leczenie szpitalne, w tym: | C9: 1317734 | D9: =C9+1621 -> 1319355 | E9: =IF(C9=D9,"-",D9-C9) -> 1621 | F9: =IF(C9=0,"-",D9/C9) -> 1.0012
A10: B2.3.1 | B10: programy lekowe, w tym: | C10: 96702 | D10: =C10 -> 96702 | E10: =IF(C10=D10,"-",D10-C10) -> - | F10: =IF(C10=0,"-",D10/C10) -> 1
A11: B2.3.1.1 | B11: leki, środki spożywcze specjalnego przeznaczenia żywieniowego objęte programami lekowymi | C11: 88212 | D11: =C11 -> 88212 | E11: =IF(C11=D11,"-",D11-C11) -> - | F11: =IF(C11=0,"-",D11/C11) -> 1
A12: B2.3.2 | B12: chemioterapia, w tym: | C12: 33443 | D12: =C12 -> 33443 | E12: =IF(C12=D12,"-",D12-C12) -> - | F12: =IF(C12=0,"-",D12/C12) -> 1
A13: B2.3.2.1 | B13: leki stosowane w chemioterapii | C13: 15754 | D13: =C13 -> 15754 | E13: =IF(C13=D13,"-",D13-C13) -> - | F13: =IF(C13=0,"-",D13/C13) -> 1
A14: B2.3.3 | B14: ratunkowy dostęp do technologii lekowej | C14: 3100 | D14: =C14 -> 3100 | E14: =IF(C14=D14,"-",D14-C14) -> - | F14: =IF(C14=0,"-",D14/C14) -> 1
A15: B2.3.4 | B15: świadczenia wysokospecjalistyczne | C15: 0 | D15: =C15 -> 0 | E15: =IF(C15=D15,"-",D15-C15) -> - | F15: =IF(C15=0,"-",D15/C15) -> -
A16: B2.4 | B16: opieka psychiatryczna i leczenie uzależnień | C16: 87525 | D16: =C16 -> 87525 | E16: =IF(C16=D16,"-",D16-C16) -> - | F16: =IF(C16=0,"-",D16/C16) -> 1
A17: B2.5 | B17: rehabilitacja lecznicza | C17: 82246 | D17: =C17 -> 82246 | E17: =IF(C17=D17,"-",D17-C17) -> - | F17: =IF(C17=0,"-",D17/C17) -> 1
A18: B2.6 | B18: świadczenia pielęgnacyjne i opiekuńcze w ramach opieki długoterminowej | C18: 77617 | D18: =C18 -> 77617 | E18: =IF(C18=D18,"-",D18-C18) -> - | F18: =IF(C18=0,"-",D18/C18) -> 1
A19: B2.7 | B19: opieka paliatywna i hospicyjna | C19: 28328 | D19: =C19 -> 28328 | E19: =IF(C19=D19,"-",D19-C19) -> - | F19: =IF(C19=0,"-",D19/C19) -> 1
A20: B2.8 | B20: leczenie stomatologiczne | C20: 40515 | D20: =C20 -> 40515 | E20: =IF(C20=D20,"-",D20-C20) -> - | F20: =IF(C20=0,"-",D20/C20) -> 1
A21: B2.9 | B21: lecznictwo uzdrowiskowe | C21: 14175 | D21: =C21 -> 14175 | E21: =IF(C21=D21,"-",D21-C21) -> - | F21: =IF(C21=0,"-",D21/C21) -> 1
... A44: B7 | B44: Koszty finansowania leku, zgodnie z art. 43b ust. 7 ustawy | C44: 249 | D44: =C44 -> 249 | E44: =IF(C44=D44,"-",D44-C44) -> - | F44: =IF(C44=0,"-",D44/C44) -> 1
A45: Bn | B45: Całkowity budżet na refundację (B2.3.1.1+B2.3.2.1+B2.3.3+B2.14+B2.16.1+B5+B7) | C45: =C11+C13+C14+C26+C32+C42+C44 -> 346349 | D45: =D11+D13+D14+D26+D32+D42+D44 -> 346349 | E45: =IF(C45=D45,"-",D45-C45) -> - | F45: =IF(C45=0,"-",D45/C45) -> 1
A46: D | B46: Koszty administracyjne ( D1+...+D8 ) | C46: =C47+C48+C49+C57+C59+C65+C66+C64 -> 21319 | D46: =D47+D48+D49+D57+D59+D65+D66+D64 -> 21319 | E46: =IF(C46=D46,"-",D46-C46) -> - | F46: =IF(C46=0,"-",D46/C46) -> 1
A47: D1 | B47: zużycie materiałów i energii | C47: 592 | D47: =C47 -> 592 | E47: =IF(C47=D47,"-",D47-C47) -> - | F47: =IF(C47=0,"-",D47/C47) -> 1
A48: D2 | B48: usługi obce | C48: 4943 | D48: =C48 -> 4943 | E48: =IF(C48=D48,"-",D48-C48) -> - | F48: =IF(C48=0,"-",D48/C48) -> 1
A49: D3 | B49: podatki i opłaty, z tego | C49: =C50+C52+C53+C54+C55+C56 -> 145 | D49: =D50+D52+D53+D54+D55+D56 -> 145 | E49: =IF(C49=D49,"-",D49-C49) -> - | F49: =IF(C49=0,"-",D49/C49) -> 1
A50: D3.1 | B50: podatki stanowiące dochody własne jednostek samorządu terytorialnego, w tym: | C50: 0 | D50: =C50 -> 0 | E50: =IF(C50=D50,"-",D50-C50) -> - | F50: =IF(C50=0,"-",D50/C50) -> -
A51: D3.1.1 | B51: podatek od nieruchomości | C51: 0 | D51: =C51 -> 0 | E51: =IF(C51=D51,"-",D51-C51) -> - | F51: =IF(C51=0,"-",D51/C51) -> -
A52: D3.2 | B52: opłaty stanowiące dochody własne jednostek samorządu terytorialnego | C52: 8 | D52: =C52 -> 8 | E52: =IF(C52=D52,"-",D52-C52) -> - | F52: =IF(C52=0,"-",D52/C52) -> 1
A53: D3.3 | B53: VAT | C53: 0 | D53: =C53 -> 0 | E53: =IF(C53=D53,"-",D53-C53) -> - | F53: =IF(C53=0,"-",D53/C53) -> -
A54: D3.4 | B54: podatek akcyzowy | C54: 0 | D54: =C54 -> 0 | E54: =IF(C54=D54,"-",D54-C54) -> - | F54: =IF(C54=0,"-",D54/C54) -> -
A55: D3.5 | B55: wpłaty na PFRON | C55: 131 | D55: =C55 -> 131 | E55: =IF(C55=D55,"-",D55-C55) -> - | F55: =IF(C55=0,"-",D55/C55) -> 1
A56: D3.6 | B56: inne | C56: 6 | D56: =C56 -> 6 | E56: =IF(C56=D56,"-",D56-C56) -> - | F56: =IF(C56=0,"-",D56/C56) -> 1
A57: D4 | B57: wynagrodzenia, w tym: | C57: 11130 | D57: =C57 -> 11130 | E57: =IF(C57=D57,"-",D57-C57) -> - | F57: =IF(C57=0,"-",D57/C57) -> 1
A58: D4.1 | B58: wynagrodzenia bezosobowe | C58: 7 | D58: =C58 -> 7 | E58: =IF(C58=D58,"-",D58-C58) -> - | F58: =IF(C58=0,"-",D58/C58) -> 1
A59: D5 | B59: ubezpieczenie społeczne i inne świadczenia, z tego: | C59: =C60+C61+C62+C63 -> 2566 | D59: =D60+D61+D62+D63 -> 2566 | E59: =IF(C59=D59,"-",D59-C59) -> - | F59: =IF(C59=0,"-",D59/C59) -> 1
A60: D5.1 | B60: składki na Fundusz Ubezpieczeń Społecznych | C60: 1910 | D60: =C60 -> 1910 | E60: =IF(C60=D60,"-",D60-C60) -> - | F60: =IF(C60=0,"-",D60/C60) -> 1
A61: D5.2 | B61: składki na Fundusz Pracy | C61: 272 | D61: =C61 -> 272 | E61: =IF(C61=D61,"-",D61-C61) -> - | F61: =IF(C61=0,"-",D61/C61) -> 1
A62: D5.3 | B62: składki na Fundusz Gwarantowanych Świadczeń Pracowniczych | C62: 0 | D62: =C62 -> 0 | E62: =IF(C62=D62,"-",D62-C62) -> - | F62: =IF(C62=0,"-",D62/C62) -> -
A63: D5.4 | B63: pozostałe świadczenia | C63: 384 | D63: =C63 -> 384 | E63: =IF(C63=D63,"-",D63-C63) -> - | F63: =IF(C63=0,"-",D63/C63) -> 1
A64: D6 | B64: koszty funkcjonowania Rady Funduszu | C64: 0 | D64: =C64 -> 0 | E64: =IF(C64=D64,"-",D64-C64) -> - | F64: =IF(C64=0,"-",D64/C64) -> -
A65: D7 | B65: amortyzacja środków trwałych oraz wartości niematerialnych i prawnych | C65: 1620 | D65: =C65 -> 1620 | E65: =IF(C65=D65,"-",D65-C65) -> - | F65: =IF(C65=0,"-",D65/C65) -> 1
A66: D8 | B66: pozostałe koszty administracyjne | C66: 323 | D66: =C66 -> 323 | E66: =IF(C66=D66,"-",D66-C66) -> - | F66: =IF(C66=0,"-",D66/C66) -> 1
A67: F | B67: Pozostałe koszty (F1+...+F4) | C67: =C68+C69+C70+C71 -> 11906 | D67: =D68+D69+D70+D71 -> 12218 | E67: =IF(C67=D67,"-",D67-C67) -> 312 | F67: =IF(C67=0,"-",D67/C67) -> 1.0262
A68: F1 | B68: wydanie i utrzymanie kart ubezpieczenia | C68: 0 | D68: =C68 -> 0 | E68: =IF(C68=D68,"-",D68-C68) -> - | F68: =IF(C68=0,"-",D68/C68) -> -
A69: F2 | B69: rezerwa na zobowiązania wynikające z postępowań sądowych | C69: 1148 | D69: =C69+269 -> 1417 | E69: =IF(C69=D69,"-",D69-C69) -> 269 | F69: =IF(C69=0,"-",D69/C69) -> 1.2343
A70: F3 | B70: inne rezerwy | C70: 0 | D70: =C70 -> 0 | E70: =IF(C70=D70,"-",D70-C70) -> - | F70: =IF(C70=0,"-",D70/C70) -> -
A71: F4 | B71: inne koszty | C71: 10758 | D71: =C71-10107+10140+10 -> 10801 | E71: =IF(C71=D71,"-",D71-C71) -> 43 | F71: =IF(C71=0,"-",D71/C71) -> 1.004
A72: H | B72: Koszty finansowe | C72: 1238 | D72: =C72-471 -> 767 | E72: =IF(C72=D72,"-",D72-C72) -> -471 | F72: =IF(C72=0,"-",D72/C72) -> 0.6195

Sheet Podkarpacki
A1: ZMIANA PLANU FINANSOWEGO NARODOWEGO FUNDUSZU ZDROWIA NA 2020 ROK Z DNIA 29 GRUDNIA 2020 R.
A2: Koszty Podkarpackiego Oddziału Wojewódzkiego Narodowego Funduszu Zdrowia
E3: w tys. zł
A4: Poz. | B4: Wyszczególnienie | C4: Plan na 2020 rok | D4: Plan po zmianie | E4: Różnica kol.4-kol.3 | F4: Dynamika kol.4/kol.3
A5: 1 | B5: 2 | C5: 3 | D5: 4 | E5: 5 | F5: 6
A6: B2 | B6: Koszty świadczeń opieki zdrowotnej (B2.1+...+B2.22) | C6: =C7+C8+C9+C16+C17+C18+C19+C20+C21+C22+C23+C24+C25+C26+C30+C31+C33+C34+C35+C36+C37+C39 -> 5345147 | D6: =D7+D8+D9+D16+D17+D18+D19+D20+D21+D22+D23+D24+D25+D26+D30+D31+D33+D34+D35+D36+D37+D39 -> 5348708 | E6: =IF(C6=D6,"-",D6-C6) -> 3561 | F6: =IF(C6=0,"-",D6/C6) -> 1.0007
A7: B2.1 | B7: podstawowa opieka zdrowotna | C7: 749818 | D7: =C7 -> 749818 | E7: =IF(C7=D7,"-",D7-C7) -> - | F7: =IF(C7=0,"-",D7/C7) -> 1
A8: B2.2 | B8: ambulatoryjna opieka specjalistyczna | C8: 295415 | D8: =C8 -> 295415 | E8: =IF(C8=D8,"-",D8-C8) -> - | F8: =IF(C8=0,"-",D8/C8) -> 1
A9: B2.3 | B9: leczenie szpitalne, w tym: | C9: 2842775 | D9: =C9+3561 -> 2846336 | E9: =IF(C9=D9,"-",D9-C9) -> 3561 | F9: =IF(C9=0,"-",D9/C9) -> 1.0013
A10: B2.3.1 | B10: programy lekowe, w tym: | C10: 270770 | D10: =C10 -> 270770 | E10: =IF(C10=D10,"-",D10-C10) -> - | F10: =IF(C10=0,"-",D10/C10) -> 1
A11: B2.3.1.1 | B11: leki, środki spożywcze specjalnego przeznaczenia żywieniowego objęte programami lekowymi | C11: 247439 | D11: =C11 -> 247439 | E11: =IF(C11=D11,"-",D11-C11) -> - | F11: =IF(C11=0,"-",D11/C11) -> 1
A12: B2.3.2 | B12: chemioterapia, w tym: | C12: 71352 | D12: =C12 -> 71352 | E12: =IF(C12=D12,"-",D12-C12) -> - | F12: =IF(C12=0,"-",D12/C12) -> 1
A13: B2.3.2.1 | B13: leki stosowane w chemioterapii | C13: 27952 | D13: =C13 -> 27952 | E13: =IF(C13=D13,"-",D13-C13) -> - | F13: =IF(C13=0,"-",D13/C13) -> 1
A14: B2.3.3 | B14: ratunkowy dostęp do technologii lekowej | C14: 1500 | D14: =C14 -> 1500 | E14: =IF(C14=D14,"-",D14-C14) -> - | F14: =IF(C14=0,"-",D14/C14) -> 1
A15: B2.3.4 | B15: świadczenia wysokospecjalistyczne | C15: 0 | D15: =C15 -> 0 | E15: =IF(C15=D15,"-",D15-C15) -> - | F15: =IF(C15=0,"-",D15/C15) -> -
A16: B2.4 | B16: opieka psychiatryczna i leczenie uzależnień | C16: 150021 | D16: =C16 -> 150021 | E16: =IF(C16=D16,"-",D16-C16) -> - | F16: =IF(C16=0,"-",D16/C16) -> 1
A17: B2.5 | B17: rehabilitacja lecznicza | C17: 215370 | D17: =C17 -> 215370 | E17: =IF(C17=D17,"-",D17-C17) -> - | F17: =IF(C17=0,"-",D17/C17) -> 1
A18: B2.6 | B18: świadczenia pielęgnacyjne i opiekuńcze w ramach opieki długoterminowej | C18: 170452 | D18: =C18 -> 170452 | E18: =IF(C18=D18,"-",D18-C18) -> - | F18: =IF(C18=0,"-",D18/C18) -> 1
A19: B2.7 | B19: opieka paliatywna i hospicyjna | C19: 61646 | D19: =C19 -> 61646 | E19: =IF(C19=D19,"-",D19-C19) -> - | F19: =IF(C19=0,"-",D19/C19) -> 1
A20: B2.8 | B20: leczenie stomatologiczne | C20: 118188 | D20: =C20 -> 118188 | E20: =IF(C20=D20,"-",D20-C20) -> - | F20: =IF(C20=0,"-",D20/C20) -> 1
A21: B2.9 | B21: lecznictwo uzdrowiskowe | C21: 42087 | D21: =C21 -> 42087 | E21: =IF(C21=D21,"-",D21-C21) -> - | F21: =IF(C21=0,"-",D21/C21) -> 1
... A44: B7 | B44: Koszty finansowania leku, zgodnie z art. 43b ust. 7 ustawy | C44: 605 | D44: =C44 -> 605 | E44: =IF(C44=D44,"-",D44-C44) -> - | F44: =IF(C44=0,"-",D44/C44) -> 1
A45: Bn | B45: Całkowity budżet na refundację (B2.3.1.1+B2.3.2.1+B2.3.3+B2.14+B2.16.1+B5+B7) | C45: =C11+C13+C14+C26+C32+C42+C44 -> 737448 | D45: =D11+D13+D14+D26+D32+D42+D44 -> 737448 | E45: =IF(C45=D45,"-",D45-C45) -> - | F45: =IF(C45=0,"-",D45/C45) -> 1
A46: D | B46: Koszty administracyjne ( D1+...+D8 ) | C46: =C47+C48+C49+C57+C59+C65+C66+C64 -> 28262 | D46: =D47+D48+D49+D57+D59+D65+D66+D64 -> 28262 | E46: =IF(C46=D46,"-",D46-C46) -> - | F46: =IF(C46=0,"-",D46/C46) -> 1
A47: D1 | B47: zużycie materiałów i energii | C47: 1306 | D47: =C47 -> 1306 | E47: =IF(C47=D47,"-",D47-C47) -> - | F47: =IF(C47=0,"-",D47/C47) -> 1
A48: D2 | B48: usługi obce | C48: 3189 | D48: =C48 -> 3189 | E48: =IF(C48=D48,"-",D48-C48) -> - | F48: =IF(C48=0,"-",D48/C48) -> 1
A49: D3 | B49: podatki i opłaty, z tego | C49: =C50+C52+C53+C54+C55+C56 -> 82 | D49: =D50+D52+D53+D54+D55+D56 -> 82 | E49: =IF(C49=D49,"-",D49-C49) -> - | F49: =IF(C49=0,"-",D49/C49) -> 1
A50: D3.1 | B50: podatki stanowiące dochody własne jednostek samorządu terytorialnego, w tym: | C50: 31 | D50: =C50 -> 31 | E50: =IF(C50=D50,"-",D50-C50) -> - | F50: =IF(C50=0,"-",D50/C50) -> 1
A51: D3.1.1 | B51: podatek od nieruchomości | C51: 31 | D51: =C51 -> 31 | E51: =IF(C51=D51,"-",D51-C51) -> - | F51: =IF(C51=0,"-",D51/C51) -> 1
A52: D3.2 | B52: opłaty stanowiące dochody własne jednostek samorządu terytorialnego | C52: 13 | D52: =C52 -> 13 | E52: =IF(C52=D52,"-",D52-C52) -> - | F52: =IF(C52=0,"-",D52/C52) -> 1
A53: D3.3 | B53: VAT | C53: 0 | D53: =C53 -> 0 | E53: =IF(C53=D53,"-",D53-C53) -> - | F53: =IF(C53=0,"-",D53/C53) -> -
A54: D3.4 | B54: podatek akcyzowy | C54: 0 | D54: =C54 -> 0 | E54: =IF(C54=D54,"-",D54-C54) -> - | F54: =IF(C54=0,"-",D54/C54) -> -
A55: D3.5 | B55: wpłaty na PFRON | C55: 0 | D55: =C55 -> 0 | E55: =IF(C55=D55,"-",D55-C55) -> - | F55: =IF(C55=0,"-",D55/C55) -> -
A56: D3.6 | B56: inne | C56: 38 | D56: =C56 -> 38 | E56: =IF(C56=D56,"-",D56-C56) -> - | F56: =IF(C56=0,"-",D56/C56) -> 1
A57: D4 | B57: wynagrodzenia, w tym: | C57: 16671 | D57: =C57 -> 16671 | E57: =IF(C57=D57,"-",D57-C57) -> - | F57: =IF(C57=0,"-",D57/C57) -> 1
A58: D4.1 | B58: wynagrodzenia bezosobowe | C58: 0 | D58: =C58 -> 0 | E58: =IF(C58=D58,"-",D58-C58) -> - | F58: =IF(C58=0,"-",D58/C58) -> -
A59: D5 | B59: ubezpieczenie społeczne i inne świadczenia, z tego: | C59: =C60+C61+C62+C63 -> 3728 | D59: =D60+D61+D62+D63 -> 3728 | E59: =IF(C59=D59,"-",D59-C59) -> - | F59: =IF(C59=0,"-",D59/C59) -> 1
A60: D5.1 | B60: składki na Fundusz Ubezpieczeń Społecznych | C60: 2863 | D60: =C60 -> 2863 | E60: =IF(C60=D60,"-",D60-C60) -> - | F60: =IF(C60=0,"-",D60/C60) -> 1
A61: D5.2 | B61: składki na Fundusz Pracy | C61: 409 | D61: =C61 -> 409 | E61: =IF(C61=D61,"-",D61-C61) -> - | F61: =IF(C61=0,"-",D61/C61) -> 1
A62: D5.3 | B62: składki na Fundusz Gwarantowanych Świadczeń Pracowniczych | C62: 0 | D62: =C62 -> 0 | E62: =IF(C62=D62,"-",D62-C62) -> - | F62: =IF(C62=0,"-",D62/C62) -> -
A63: D5.4 | B63: pozostałe świadczenia | C63: 456 | D63: =C63 -> 456 | E63: =IF(C63=D63,"-",D63-C63) -> - | F63: =IF(C63=0,"-",D63/C63) -> 1
A64: D6 | B64: koszty funkcjonowania Rady Funduszu | C64: 0 | D64: =C64 -> 0 | E64: =IF(C64=D64,"-",D64-C64) -> - | F64: =IF(C64=0,"-",D64/C64) -> -
A65: D7 | B65: amortyzacja środków trwałych oraz wartości niematerialnych i prawnych | C65: 3000 | D65: =C65 -> 3000 | E65: =IF(C65=D65,"-",D65-C65) -> - | F65: =IF(C65=0,"-",D65/C65) -> 1
A66: D8 | B66: pozostałe koszty administracyjne | C66: 286 | D66: =C66 -> 286 | E66: =IF(C66=D66,"-",D66-C66) -> - | F66: =IF(C66=0,"-",D66/C66) -> 1
A67: F | B67: Pozostałe koszty (F1+...+F4) | C67: =C68+C69+C70+C71 -> 25453 | D67: =D68+D69+D70+D71 -> 23653 | E67: =IF(C67=D67,"-",D67-C67) -> -1800 | F67: =IF(C67=0,"-",D67/C67) -> 0.9293
A68: F1 | B68: wydanie i utrzymanie kart ubezpieczenia | C68: 0 | D68: =C68 -> 0 | E68: =IF(C68=D68,"-",D68-C68) -> - | F68: =IF(C68=0,"-",D68/C68) -> -
A69: F2 | B69: rezerwa na zobowiązania wynikające z postępowań sądowych | C69: 3300 | D69: =C69-300 -> 3000 | E69: =IF(C69=D69,"-",D69-C69) -> -300 | F69: =IF(C69=0,"-",D69/C69) -> 0.9091
A70: F3 | B70: inne rezerwy | C70: 0 | D70: =C70 -> 0 | E70: =IF(C70=D70,"-",D70-C70) -> - | F70: =IF(C70=0,"-",D70/C70) -> -
A71: F4 | B71: inne koszty | C71: 22153 | D71: =C71-21153+19627+26 -> 20653 | E71: =IF(C71=D71,"-",D71-C71) -> -1500 | F71: =IF(C71=0,"-",D71/C71) -> 0.9323
A72: H | B72: Koszty finansowe | C72: 400 | D72: =C72+1000 -> 1400 | E72: =IF(C72=D72,"-",D72-C72) -> 1000 | F72: =IF(C72=0,"-",D72/C72) -> 3.5

Sheet Podlaski
A1: ZMIANA PLANU FINANSOWEGO NARODOWEGO FUNDUSZU ZDROWIA NA 2020 ROK Z DNIA 29 GRUDNIA 2020 R.
A2: Koszty Podlaskiego Oddziału Wojewódzkiego Narodowego Funduszu Zdrowia
E3: w tys. zł
A4: Poz. | B4: Wyszczególnienie | C4: Plan na 2020 rok | D4: Plan po zmianie | E4: Różnica kol.4-kol.3 | F4: Dynamika kol.4/kol.3
A5: 1 | B5: 2 | C5: 3 | D5: 4 | E5: 5 | F5: 6
A6: B2 | B6: Koszty świadczeń opieki zdrowotnej (B2.1+...+B2.22) | C6: =C7+C8+C9+C16+C17+C18+C19+C20+C21+C22+C23+C24+C25+C26+C30+C31+C33+C34+C35+C36+C37+C39 -> 3094723 | D6: =D7+D8+D9+D16+D17+D18+D19+D20+D21+D22+D23+D24+D25+D26+D30+D31+D33+D34+D35+D36+D37+D39 -> 3096747 | E6: =IF(C6=D6,"-",D6-C6) -> 2024 | F6: =IF(C6=0,"-",D6/C6) -> 1.0007
A7: B2.1 | B7: podstawowa opieka zdrowotna | C7: 408866 | D7: =C7 -> 408866 | E7: =IF(C7=D7,"-",D7-C7) -> - | F7: =IF(C7=0,"-",D7/C7) -> 1
A8: B2.2 | B8: ambulatoryjna opieka specjalistyczna | C8: 190607 | D8: =C8 -> 190607 | E8: =IF(C8=D8,"-",D8-C8) -> - | F8: =IF(C8=0,"-",D8/C8) -> 1
A9: B2.3 | B9: leczenie szpitalne, w tym: | C9: 1728768 | D9: =C9+2024 -> 1730792 | E9: =IF(C9=D9,"-",D9-C9) -> 2024 | F9: =IF(C9=0,"-",D9/C9) -> 1.0012
A10: B2.3.1 | B10: programy lekowe, w tym: | C10: 153220 | D10: =C10 -> 153220 | E10: =IF(C10=D10,"-",D10-C10) -> - | F10: =IF(C10=0,"-",D10/C10) -> 1
A11: B2.3.1.1 | B11: leki, środki spożywcze specjalnego przeznaczenia żywieniowego objęte programami lekowymi | C11: 137200 | D11: =C11 -> 137200 | E11: =IF(C11=D11,"-",D11-C11) -> - | F11: =IF(C11=0,"-",D11/C11) -> 1
A12: B2.3.2 | B12: chemioterapia, w tym: | C12: 52260 | D12: =C12 -> 52260 | E12: =IF(C12=D12,"-",D12-C12) -> - | F12: =IF(C12=0,"-",D12/C12) -> 1
A13: B2.3.2.1 | B13: leki stosowane w chemioterapii | C13: 23350 | D13: =C13 -> 23350 | E13: =IF(C13=D13,"-",D13-C13) -> - | F13: =IF(C13=0,"-",D13/C13) -> 1
A14: B2.3.3 | B14: ratunkowy dostęp do technologii lekowej | C14: 1250 | D14: =C14 -> 1250 | E14: =IF(C14=D14,"-",D14-C14) -> - | F14: =IF(C14=0,"-",D14/C14) -> 1
A15: B2.3.4 | B15: świadczenia wysokospecjalistyczne | C15: 0 | D15: =C15 -> 0 | E15: =IF(C15=D15,"-",D15-C15) -> - | F15: =IF(C15=0,"-",D15/C15) -> -
A16: B2.4 | B16: opieka psychiatryczna i leczenie uzależnień | C16: 95436 | D16: =C16 -> 95436 | E16: =IF(C16=D16,"-",D16-C16) -> - | F16: =IF(C16=0,"-",D16/C16) -> 1
A17: B2.5 | B17: rehabilitacja lecznicza | C17: 77725 | D17: =C17 -> 77725 | E17: =IF(C17=D17,"-",D17-C17) -> - | F17: =IF(C17=0,"-",D17/C17) -> 1
A18: B2.6 | B18: świadczenia pielęgnacyjne i opiekuńcze w ramach opieki długoterminowej | C18: 53162 | D18: =C18 -> 53162 | E18: =IF(C18=D18,"-",D18-C18) -> - | F18: =IF(C18=0,"-",D18/C18) -> 1
A19: B2.7 | B19: opieka paliatywna i hospicyjna | C19: 24846 | D19: =C19 -> 24846 | E19: =IF(C19=D19,"-",D19-C19) -> - | F19: =IF(C19=0,"-",D19/C19) -> 1
A20: B2.8 | B20: leczenie stomatologiczne | C20: 67380 | D20: =C20 -> 67380 | E20: =IF(C20=D20,"-",D20-C20) -> - | F20: =IF(C20=0,"-",D20/C20) -> 1
A21: B2.9 | B21: lecznictwo uzdrowiskowe | C21: 22495 | D21: =C21 -> 22495 | E21: =IF(C21=D21,"-",D21-C21) -> - | F21: =IF(C21=0,"-",D21/C21) -> 1
... A44: B7 | B44: Koszty finansowania leku, zgodnie z art. 43b ust. 7 ustawy | C44: 333 | D44: =C44 -> 333 | E44: =IF(C44=D44,"-",D44-C44) -> - | F44: =IF(C44=0,"-",D44/C44) -> 1
A45: Bn | B45: Całkowity budżet na refundację (B2.3.1.1+B2.3.2.1+B2.3.3+B2.14+B2.16.1+B5+B7) | C45: =C11+C13+C14+C26+C32+C42+C44 -> 427639 | D45: =D11+D13+D14+D26+D32+D42+D44 -> 427639 | E45: =IF(C45=D45,"-",D45-C45) -> - | F45: =IF(C45=0,"-",D45/C45) -> 1
A46: D | B46: Koszty administracyjne ( D1+...+D8 ) | C46: =C47+C48+C49+C57+C59+C65+C66+C64 -> 18608 | D46: =D47+D48+D49+D57+D59+D65+D66+D64 -> 18608 | E46: =IF(C46=D46,"-",D46-C46) -> - | F46: =IF(C46=0,"-",D46/C46) -> 1
A47: D1 | B47: zużycie materiałów i energii | C47: 756 | D47: =C47 -> 756 | E47: =IF(C47=D47,"-",D47-C47) -> - | F47: =IF(C47=0,"-",D47/C47) -> 1
A48: D2 | B48: usługi obce | C48: 1556 | D48: =C48 -> 1556 | E48: =IF(C48=D48,"-",D48-C48) -> - | F48: =IF(C48=0,"-",D48/C48) -> 1
A49: D3 | B49: podatki i opłaty, z tego | C49: =C50+C52+C53+C54+C55+C56 -> 120 | D49: =D50+D52+D53+D54+D55+D56 -> 120 | E49: =IF(C49=D49,"-",D49-C49) -> - | F49: =IF(C49=0,"-",D49/C49) -> 1
A50: D3.1 | B50: podatki stanowiące dochody własne jednostek samorządu terytorialnego, w tym: | C50: 19 | D50: =C50 -> 19 | E50: =IF(C50=D50,"-",D50-C50) -> - | F50: =IF(C50=0,"-",D50/C50) -> 1
A51: D3.1.1 | B51: podatek od nieruchomości | C51: 19 | D51: =C51 -> 19 | E51: =IF(C51=D51,"-",D51-C51) -> - | F51: =IF(C51=0,"-",D51/C51) -> 1
A52: D3.2 | B52: opłaty stanowiące dochody własne jednostek samorządu terytorialnego | C52: 92 | D52: =C52 -> 92 | E52: =IF(C52=D52,"-",D52-C52) -> - | F52: =IF(C52=0,"-",D52/C52) -> 1
A53: D3.3 | B53: VAT | C53: 0 | D53: =C53 -> 0 | E53: =IF(C53=D53,"-",D53-C53) -> - | F53: =IF(C53=0,"-",D53/C53) -> -
A54: D3.4 | B54: podatek akcyzowy | C54: 0 | D54: =C54 -> 0 | E54: =IF(C54=D54,"-",D54-C54) -> - | F54: =IF(C54=0,"-",D54/C54) -> -
A55: D3.5 | B55: wpłaty na PFRON | C55: 3 | D55: =C55 -> 3 | E55: =IF(C55=D55,"-",D55-C55) -> - | F55: =IF(C55=0,"-",D55/C55) -> 1
A56: D3.6 | B56: inne | C56: 6 | D56: =C56 -> 6 | E56: =IF(C56=D56,"-",D56-C56) -> - | F56: =IF(C56=0,"-",D56/C56) -> 1
A57: D4 | B57: wynagrodzenia, w tym: | C57: 11572 | D57: =C57 -> 11572 | E57: =IF(C57=D57,"-",D57-C57) -> - | F57: =IF(C57=0,"-",D57/C57) -> 1
A58: D4.1 | B58: wynagrodzenia bezosobowe | C58: 0 | D58: =C58 -> 0 | E58: =IF(C58=D58,"-",D58-C58) -> - | F58: =IF(C58=0,"-",D58/C58) -> -
A59: D5 | B59: ubezpieczenie społeczne i inne świadczenia, z tego: | C59: =C60+C61+C62+C63 -> 2595 | D59: =D60+D61+D62+D63 -> 2595 | E59: =IF(C59=D59,"-",D59-C59) -> - | F59: =IF(C59=0,"-",D59/C59) -> 1
A60: D5.1 | B60: składki na Fundusz Ubezpieczeń Społecznych | C60: 1988 | D60: =C60 -> 1988 | E60: =IF(C60=D60,"-",D60-C60) -> - | F60: =IF(C60=0,"-",D60/C60) -> 1
A61: D5.2 | B61: składki na Fundusz Pracy | C61: 284 | D61: =C61 -> 284 | E61: =IF(C61=D61,"-",D61-C61) -> - | F61: =IF(C61=0,"-",D61/C61) -> 1
A62: D5.3 | B62: składki na Fundusz Gwarantowanych Świadczeń Pracowniczych | C62: 0 | D62: =C62 -> 0 | E62: =IF(C62=D62,"-",D62-C62) -> - | F62: =IF(C62=0,"-",D62/C62) -> -
A63: D5.4 | B63: pozostałe świadczenia | C63: 323 | D63: =C63 -> 323 | E63: =IF(C63=D63,"-",D63-C63) -> - | F63: =IF(C63=0,"-",D63/C63) -> 1
A64: D6 | B64: koszty funkcjonowania Rady Funduszu | C64: 0 | D64: =C64 -> 0 | E64: =IF(C64=D64,"-",D64-C64) -> - | F64: =IF(C64=0,"-",D64/C64) -> -
A65: D7 | B65: amortyzacja środków trwałych oraz wartości niematerialnych i prawnych | C65: 1852 | D65: =C65 -> 1852 | E65: =IF(C65=D65,"-",D65-C65) -> - | F65: =IF(C65=0,"-",D65/C65) -> 1
A66: D8 | B66: pozostałe koszty administracyjne | C66: 157 | D66: =C66 -> 157 | E66: =IF(C66=D66,"-",D66-C66) -> - | F66: =IF(C66=0,"-",D66/C66) -> 1
A67: F | B67: Pozostałe koszty (F1+...+F4) | C67: =C68+C69+C70+C71 -> 24795 | D67: =D68+D69+D70+D71 -> 24537 | E67: =IF(C67=D67,"-",D67-C67) -> -258 | F67: =IF(C67=0,"-",D67/C67) -> 0.9896
A68: F1 | B68: wydanie i utrzymanie kart ubezpieczenia | C68: 0 | D68: =C68 -> 0 | E68: =IF(C68=D68,"-",D68-C68) -> - | F68: =IF(C68=0,"-",D68/C68) -> -
A69: F2 | B69: rezerwa na zobowiązania wynikające z postępowań sądowych | C69: 300 | D69: =C69-180 -> 120 | E69: =IF(C69=D69,"-",D69-C69) -> -180 | F69: =IF(C69=0,"-",D69/C69) -> 0.4
A70: F3 | B70: inne rezerwy | C70: 0 | D70: =C70 -> 0 | E70: =IF(C70=D70,"-",D70-C70) -> - | F70: =IF(C70=0,"-",D70/C70) -> -
A71: F4 | B71: inne koszty | C71: 24495 | D71: =C71-23865+23774+13 -> 24417 | E71: =IF(C71=D71,"-",D71-C71) -> -78 | F71: =IF(C71=0,"-",D71/C71) -> 0.9968
A72: H | B72: Koszty finansowe | C72: 204 | D72: =C72-54 -> 150 | E72: =IF(C72=D72,"-",D72-C72) -> -54 | F72: =IF(C72=0,"-",D72/C72) -> 0.7353

Sheet Pomorski
A1: ZMIANA PLANU FINANSOWEGO NARODOWEGO FUNDUSZU ZDROWIA NA 2020 ROK Z DNIA 29 GRUDNIA 2020 R.
A2: Koszty Pomorskiego Oddziału Wojewódzkiego Narodowego Funduszu Zdrowia
E3: w tys. zł
A4: Poz. | B4: Wyszczególnienie | C4: Plan na 2020 rok | D4: Plan po zmianie | E4: Różnica kol.4-kol.3 | F4: Dynamika kol.4/kol.3
A5: 1 | B5: 2 | C5: 3 | D5: 4 | E5: 5 | F5: 6
A6: B2 | B6: Koszty świadczeń opieki zdrowotnej (B2.1+...+B2.22) | C6: =C7+C8+C9+C16+C17+C18+C19+C20+C21+C22+C23+C24+C25+C26+C30+C31+C33+C34+C35+C36+C37+C39 -> 5813972 | D6: =D7+D8+D9+D16+D17+D18+D19+D20+D21+D22+D23+D24+D25+D26+D30+D31+D33+D34+D35+D36+D37+D39 -> 5817912 | E6: =IF(C6=D6,"-",D6-C6) -> 3940 | F6: =IF(C6=0,"-",D6/C6) -> 1.0007
A7: B2.1 | B7: podstawowa opieka zdrowotna | C7: 841079 | D7: =C7 -> 841079 | E7: =IF(C7=D7,"-",D7-C7) -> - | F7: =IF(C7=0,"-",D7/C7) -> 1
A8: B2.2 | B8: ambulatoryjna opieka specjalistyczna | C8: 361428 | D8: =C8 -> 361428 | E8: =IF(C8=D8,"-",D8-C8) -> - | F8: =IF(C8=0,"-",D8/C8) -> 1
A9: B2.3 | B9: leczenie szpitalne, w tym: | C9: 3083515 | D9: =C9+3940 -> 3087455 | E9: =IF(C9=D9,"-",D9-C9) -> 3940 | F9: =IF(C9=0,"-",D9/C9) -> 1.0013
A10: B2.3.1 | B10: programy lekowe, w tym: | C10: 319567 | D10: =C10 -> 319567 | E10: =IF(C10=D10,"-",D10-C10) -> - | F10: =IF(C10=0,"-",D10/C10) -> 1
A11: B2.3.1.1 | B11: leki, środki spożywcze specjalnego przeznaczenia żywieniowego objęte programami lekowymi | C11: 293023 | D11: =C11 -> 293023 | E11: =IF(C11=D11,"-",D11-C11) -> - | F11: =IF(C11=0,"-",D11/C11) -> 1
A12: B2.3.2 | B12: chemioterapia, w tym: | C12: 82562 | D12: =C12 -> 82562 | E12: =IF(C12=D12,"-",D12-C12) -> - | F12: =IF(C12=0,"-",D12/C12) -> 1
A13: B2.3.2.1 | B13: leki stosowane w chemioterapii | C13: 43298 | D13: =C13 -> 43298 | E13: =IF(C13=D13,"-",D13-C13) -> - | F13: =IF(C13=0,"-",D13/C13) -> 1
A14: B2.3.3 | B14: ratunkowy dostęp do technologii lekowej | C14: 1640 | D14: =C14 -> 1640 | E14: =IF(C14=D14,"-",D14-C14) -> - | F14: =IF(C14=0,"-",D14/C14) -> 1
A15: B2.3.4 | B15: świadczenia wysokospecjalistyczne | C15: 23160 | D15: =C15 -> 23160 | E15: =IF(C15=D15,"-",D15-C15) -> - | F15: =IF(C15=0,"-",D15/C15) -> 1
A16: B2.4 | B16: opieka psychiatryczna i leczenie uzależnień | C16: 217551 | D16: =C16 -> 217551 | E16: =IF(C16=D16,"-",D16-C16) -> - | F16: =IF(C16=0,"-",D16/C16) -> 1
A17: B2.5 | B17: rehabilitacja lecznicza | C17: 164236 | D17: =C17 -> 164236 | E17: =IF(C17=D17,"-",D17-C17) -> - | F17: =IF(C17=0,"-",D17/C17) -> 1
A18: B2.6 | B18: świadczenia pielęgnacyjne i opiekuńcze w ramach opieki długoterminowej | C18: 76591 | D18: =C18 -> 76591 | E18: =IF(C18=D18,"-",D18-C18) -> - | F18: =IF(C18=0,"-",D18/C18) -> 1
A19: B2.7 | B19: opieka paliatywna i hospicyjna | C19: 54230 | D19: =C19 -> 54230 | E19: =IF(C19=D19,"-",D19-C19) -> - | F19: =IF(C19=0,"-",D19/C19) -> 1
A20: B2.8 | B20: leczenie stomatologiczne | C20: 117050 | D20: =C20 -> 117050 | E20: =IF(C20=D20,"-",D20-C20) -> - | F20: =IF(C20=0,"-",D20/C20) -> 1
A21: B2.9 | B21: lecznictwo uzdrowiskowe | C21: 40622 | D21: =C21 -> 40622 | E21: =IF(C21=D21,"-",D21-C21) -> - | F21: =IF(C21=0,"-",D21/C21) -> 1
... A44: B7 | B44: Koszty finansowania leku, zgodnie z art. 43b ust. 7 ustawy | C44: 764 | D44: =C44 -> 764 | E44: =IF(C44=D44,"-",D44-C44) -> - | F44: =IF(C44=0,"-",D44/C44) -> 1
A45: Bn | B45: Całkowity budżet na refundację (B2.3.1.1+B2.3.2.1+B2.3.3+B2.14+B2.16.1+B5+B7) | C45: =C11+C13+C14+C26+C32+C42+C44 -> 959145 | D45: =D11+D13+D14+D26+D32+D42+D44 -> 959145 | E45: =IF(C45=D45,"-",D45-C45) -> - | F45: =IF(C45=0,"-",D45/C45) -> 1
A46: D | B46: Koszty administracyjne ( D1+...+D8 ) | C46: =C47+C48+C49+C57+C59+C65+C66+C64 -> 38177 | D46: =D47+D48+D49+D57+D59+D65+D66+D64 -> 38177 | E46: =IF(C46=D46,"-",D46-C46) -> - | F46: =IF(C46=0,"-",D46/C46) -> 1
A47: D1 | B47: zużycie materiałów i energii | C47: 1723 | D47: =C47 -> 1723 | E47: =IF(C47=D47,"-",D47-C47) -> - | F47: =IF(C47=0,"-",D47/C47) -> 1
A48: D2 | B48: usługi obce | C48: 4222 | D48: =C48 -> 4222 | E48: =IF(C48=D48,"-",D48-C48) -> - | F48: =IF(C48=0,"-",D48/C48) -> 1
A49: D3 | B49: podatki i opłaty, z tego | C49: =C50+C52+C53+C54+C55+C56 -> 115 | D49: =D50+D52+D53+D54+D55+D56 -> 115 | E49: =IF(C49=D49,"-",D49-C49) -> - | F49: =IF(C49=0,"-",D49/C49) -> 1
A50: D3.1 | B50: podatki stanowiące dochody własne jednostek samorządu terytorialnego, w tym: | C50: 53 | D50: =C50 -> 53 | E50: =IF(C50=D50,"-",D50-C50) -> - | F50: =IF(C50=0,"-",D50/C50) -> 1
A51: D3.1.1 | B51: podatek od nieruchomości | C51: 53 | D51: =C51 -> 53 | E51: =IF(C51=D51,"-",D51-C51) -> - | F51: =IF(C51=0,"-",D51/C51) -> 1
A52: D3.2 | B52: opłaty stanowiące dochody własne jednostek samorządu terytorialnego | C52: 41 | D52: =C52 -> 41 | E52: =IF(C52=D52,"-",D52-C52) -> - | F52: =IF(C52=0,"-",D52/C52) -> 1
A53: D3.3 | B53: VAT | C53: 0 | D53: =C53 -> 0 | E53: =IF(C53=D53,"-",D53-C53) -> - | F53: =IF(C53=0,"-",D53/C53) -> -
A54: D3.4 | B54: podatek akcyzowy | C54: 0 | D54: =C54 -> 0 | E54: =IF(C54=D54,"-",D54-C54) -> - | F54: =IF(C54=0,"-",D54/C54) -> -
A55: D3.5 | B55: wpłaty na PFRON | C55: 0 | D55: =C55 -> 0 | E55: =IF(C55=D55,"-",D55-C55) -> - | F55: =IF(C55=0,"-",D55/C55) -> -
A56: D3.6 | B56: inne | C56: 21 | D56: =C56 -> 21 | E56: =IF(C56=D56,"-",D56-C56) -> - | F56: =IF(C56=0,"-",D56/C56) -> 1
A57: D4 | B57: wynagrodzenia, w tym: | C57: 22722 | D57: =C57 -> 22722 | E57: =IF(C57=D57,"-",D57-C57) -> - | F57: =IF(C57=0,"-",D57/C57) -> 1
A58: D4.1 | B58: wynagrodzenia bezosobowe | C58: 100 | D58: =C58 -> 100 | E58: =IF(C58=D58,"-",D58-C58) -> - | F58: =IF(C58=0,"-",D58/C58) -> 1
A59: D5 | B59: ubezpieczenie społeczne i inne świadczenia, z tego: | C59: =C60+C61+C62+C63 -> 5133 | D59: =D60+D61+D62+D63 -> 5133 | E59: =IF(C59=D59,"-",D59-C59) -> - | F59: =IF(C59=0,"-",D59/C59) -> 1
A60: D5.1 | B60: składki na Fundusz Ubezpieczeń Społecznych | C60: 3905 | D60: =C60 -> 3905 | E60: =IF(C60=D60,"-",D60-C60) -> - | F60: =IF(C60=0,"-",D60/C60) -> 1
A61: D5.2 | B61: składki na Fundusz Pracy | C61: 558 | D61: =C61 -> 558 | E61: =IF(C61=D61,"-",D61-C61) -> - | F61: =IF(C61=0,"-",D61/C61) -> 1
A62: D5.3 | B62: składki na Fundusz Gwarantowanych Świadczeń Pracowniczych | C62: 0 | D62: =C62 -> 0 | E62: =IF(C62=D62,"-",D62-C62) -> - | F62: =IF(C62=0,"-",D62/C62) -> -
A63: D5.4 | B63: pozostałe świadczenia | C63: 670 | D63: =C63 -> 670 | E63: =IF(C63=D63,"-",D63-C63) -> - | F63: =IF(C63=0,"-",D63/C63) -> 1
A64: D6 | B64: koszty funkcjonowania Rady Funduszu | C64: 0 | D64: =C64 -> 0 | E64: =IF(C64=D64,"-",D64-C64) -> - | F64: =IF(C64=0,"-",D64/C64) -> -
A65: D7 | B65: amortyzacja środków trwałych oraz wartości niematerialnych i prawnych | C65: 3998 | D65: =C65 -> 3998 | E65: =IF(C65=D65,"-",D65-C65) -> - | F65: =IF(C65=0,"-",D65/C65) -> 1
A66: D8 | B66: pozostałe koszty administracyjne | C66: 264 | D66: =C66 -> 264 | E66: =IF(C66=D66,"-",D66-C66) -> - | F66: =IF(C66=0,"-",D66/C66) -> 1
A67: F | B67: Pozostałe koszty (F1+...+F4) | C67: =C68+C69+C70+C71 -> 11548 | D67: =D68+D69+D70+D71 -> 11724 | E67: =IF(C67=D67,"-",D67-C67) -> 176 | F67: =IF(C67=0,"-",D67/C67) -> 1.0152
A68: F1 | B68: wydanie i utrzymanie kart ubezpieczenia | C68: 0 | D68: =C68 -> 0 | E68: =IF(C68=D68,"-",D68-C68) -> - | F68: =IF(C68=0,"-",D68/C68) -> -
A69: F2 | B69: rezerwa na zobowiązania wynikające z postępowań sądowych | C69: 957 | D69: =C69+528 -> 1485 | E69: =IF(C69=D69,"-",D69-C69) -> 528 | F69: =IF(C69=0,"-",D69/C69) -> 1.5517
A70: F3 | B70: inne rezerwy | C70: 0 | D70: =C70 -> 0 | E70: =IF(C70=D70,"-",D70-C70) -> - | F70: =IF(C70=0,"-",D70/C70) -> -
A71: F4 | B71: inne koszty | C71: 10591 | D71: =C71-9641+9259+30 -> 10239 | E71: =IF(C71=D71,"-",D71-C71) -> -352 | F71: =IF(C71=0,"-",D71/C71) -> 0.9668
A72: H | B72: Koszty finansowe | C72: 1000 | D72: =C72 -> 1000 | E72: =IF(C72=D72,"-",D72-C72) -> - | F72: =IF(C72=0,"-",D72/C72) -> 1

Sheet Śląski
A1: ZMIANA PLANU FINANSOWEGO NARODOWEGO FUNDUSZU ZDROWIA NA 2020 ROK Z DNIA 29 GRUDNIA 2020 R.
A2: Koszty Śląskiego Oddziału Wojewódzkiego Narodowego Funduszu Zdrowia
E3: w tys. zł
A4: Poz. | B4: Wyszczególnienie | C4: Plan na 2020 rok | D4: Plan po zmianie | E4: Różnica kol.4-kol.3 | F4: Dynamika kol.4/kol.3
A5: 1 | B5: 2 | C5: 3 | D5: 4 | E5: 5 | F5: 6
A6: B2 | B6: Koszty świadczeń opieki zdrowotnej (B2.1+...+B2.22) | C6: =C7+C8+C9+C16+C17+C18+C19+C20+C21+C22+C23+C24+C25+C26+C30+C31+C33+C34+C35+C36+C37+C39 -> 12146765 | D6: =D7+D8+D9+D16+D17+D18+D19+D20+D21+D22+D23+D24+D25+D26+D30+D31+D33+D34+D35+D36+D37+D39 -> 12154840 | E6: =IF(C6=D6,"-",D6-C6) -> 8075 | F6: =IF(C6=0,"-",D6/C6) -> 1.0007
A7: B2.1 | B7: podstawowa opieka zdrowotna | C7: 1631994 | D7: =C7 -> 1631994 | E7: =IF(C7=D7,"-",D7-C7) -> - | F7: =IF(C7=0,"-",D7/C7) -> 1
A8: B2.2 | B8: ambulatoryjna opieka specjalistyczna | C8: 789242 | D8: =C8 -> 789242 | E8: =IF(C8=D8,"-",D8-C8) -> - | F8: =IF(C8=0,"-",D8/C8) -> 1
A9: B2.3 | B9: leczenie szpitalne, w tym: | C9: 6445192 | D9: =C9+8075 -> 6453267 | E9: =IF(C9=D9,"-",D9-C9) -> 8075 | F9: =IF(C9=0,"-",D9/C9) -> 1.0013
A10: B2.3.1 | B10: programy lekowe, w tym: | C10: 572828 | D10: =C10 -> 572828 | E10: =IF(C10=D10,"-",D10-C10) -> - | F10: =IF(C10=0,"-",D10/C10) -> 1
A11: B2.3.1.1 | B11: leki, środki spożywcze specjalnego przeznaczenia żywieniowego objęte programami lekowymi | C11: 509742 | D11: =C11 -> 509742 | E11: =IF(C11=D11,"-",D11-C11) -> - | F11: =IF(C11=0,"-",D11/C11) -> 1
A12: B2.3.2 | B12: chemioterapia, w tym: | C12: 168688 | D12: =C12 -> 168688 | E12: =IF(C12=D12,"-",D12-C12) -> - | F12: =IF(C12=0,"-",D12/C12) -> 1
A13: B2.3.2.1 | B13: leki stosowane w chemioterapii | C13: 71080 | D13: =C13 -> 71080 | E13: =IF(C13=D13,"-",D13-C13) -> - | F13: =IF(C13=0,"-",D13/C13) -> 1
A14: B2.3.3 | B14: ratunkowy dostęp do technologii lekowej | C14: 1000 | D14: =C14 -> 1000 | E14: =IF(C14=D14,"-",D14-C14) -> - | F14: =IF(C14=0,"-",D14/C14) -> 1
A15: B2.3.4 | B15: świadczenia wysokospecjalistyczne | C15: 46414 | D15: =C15 -> 46414 | E15: =IF(C15=D15,"-",D15-C15) -> - | F15: =IF(C15=0,"-",D15/C15) -> 1
A16: B2.4 | B16: opieka psychiatryczna i leczenie uzależnień | C16: 399506 | D16: =C16 -> 399506 | E16: =IF(C16=D16,"-",D16-C16) -> - | F16: =IF(C16=0,"-",D16/C16) -> 1
A17: B2.5 | B17: rehabilitacja lecznicza | C17: 401142 | D17: =C17 -> 401142 | E17: =IF(C17=D17,"-",D17-C17) -> - | F17: =IF(C17=0,"-",D17/C17) -> 1
A18: B2.6 | B18: świadczenia pielęgnacyjne i opiekuńcze w ramach opieki długoterminowej | C18: 353047 | D18: =C18 -> 353047 | E18: =IF(C18=D18,"-",D18-C18) -> - | F18: =IF(C18=0,"-",D18/C18) -> 1
A19: B2.7 | B19: opieka paliatywna i hospicyjna | C19: 107260 | D19: =C19 -> 107260 | E19: =IF(C19=D19,"-",D19-C19) -> - | F19: =IF(C19=0,"-",D19/C19) -> 1
A20: B2.8 | B20: leczenie stomatologiczne | C20: 194687 | D20: =C20 -> 194687 | E20: =IF(C20=D20,"-",D20-C20) -> - | F20: =IF(C20=0,"-",D20/C20) -> 1
A21: B2.9 | B21: lecznictwo uzdrowiskowe | C21: 99472 | D21: =C21 -> 99472 | E21: =IF(C21=D21,"-",D21-C21) -> - | F21: =IF(C21=0,"-",D21/C21) -> 1
... A44: B7 | B44: Koszty finansowania leku, zgodnie z art. 43b ust. 7 ustawy | C44: 1188 | D44: =C44 -> 1188 | E44: =IF(C44=D44,"-",D44-C44) -> - | F44: =IF(C44=0,"-",D44/C44) -> 1
A45: Bn | B45: Całkowity budżet na refundację (B2.3.1.1+B2.3.2.1+B2.3.3+B2.14+B2.16.1+B5+B7) | C45: =C11+C13+C14+C26+C32+C42+C44 -> 1799423 | D45: =D11+D13+D14+D26+D32+D42+D44 -> 1799423 | E45: =IF(C45=D45,"-",D45-C45) -> - | F45: =IF(C45=0,"-",D45/C45) -> 1
A46: D | B46: Koszty administracyjne ( D1+...+D8 ) | C46: =C47+C48+C49+C57+C59+C65+C66+C64 -> 73685 | D46: =D47+D48+D49+D57+D59+D65+D66+D64 -> 73685 | E46: =IF(C46=D46,"-",D46-C46) -> - | F46: =IF(C46=0,"-",D46/C46) -> 1
A47: D1 | B47: zużycie materiałów i energii | C47: 2723 | D47: =C47 -> 2723 | E47: =IF(C47=D47,"-",D47-C47) -> - | F47: =IF(C47=0,"-",D47/C47) -> 1
A48: D2 | B48: usługi obce | C48: 10482 | D48: =C48 -> 10482 | E48: =IF(C48=D48,"-",D48-C48) -> - | F48: =IF(C48=0,"-",D48/C48) -> 1
A49: D3 | B49: podatki i opłaty, z tego | C49: =C50+C52+C53+C54+C55+C56 -> 304 | D49: =D50+D52+D53+D54+D55+D56 -> 304 | E49: =IF(C49=D49,"-",D49-C49) -> - | F49: =IF(C49=0,"-",D49/C49) -> 1
A50: D3.1 | B50: podatki stanowiące dochody własne jednostek samorządu terytorialnego, w tym: | C50: 130 | D50: =C50 -> 130 | E50: =IF(C50=D50,"-",D50-C50) -> - | F50: =IF(C50=0,"-",D50/C50) -> 1
A51: D3.1.1 | B51: podatek od nieruchomości | C51: 130 | D51: =C51 -> 130 | E51: =IF(C51=D51,"-",D51-C51) -> - | F51: =IF(C51=0,"-",D51/C51) -> 1
A52: D3.2 | B52: opłaty stanowiące dochody własne jednostek samorządu terytorialnego | C52: 10 | D52: =C52 -> 10 | E52: =IF(C52=D52,"-",D52-C52) -> - | F52: =IF(C52=0,"-",D52/C52) -> 1
A53: D3.3 | B53: VAT | C53: 7 | D53: =C53 -> 7 | E53: =IF(C53=D53,"-",D53-C53) -> - | F53: =IF(C53=0,"-",D53/C53) -> 1
A54: D3.4 | B54: podatek akcyzowy | C54: 0 | D54: =C54 -> 0 | E54: =IF(C54=D54,"-",D54-C54) -> - | F54: =IF(C54=0,"-",D54/C54) -> -
A55: D3.5 | B55: wpłaty na PFRON | C55: 131 | D55: =C55 -> 131 | E55: =IF(C55=D55,"-",D55-C55) -> - | F55: =IF(C55=0,"-",D55/C55) -> 1
A56: D3.6 | B56: inne | C56: 26 | D56: =C56 -> 26 | E56: =IF(C56=D56,"-",D56-C56) -> - | F56: =IF(C56=0,"-",D56/C56) -> 1
A57: D4 | B57: wynagrodzenia, w tym: | C57: 44509 | D57: =C57 -> 44509 | E57: =IF(C57=D57,"-",D57-C57) -> - | F57: =IF(C57=0,"-",D57/C57) -> 1
A58: D4.1 | B58: wynagrodzenia bezosobowe | C58: 168 | D58: =C58 -> 168 | E58: =IF(C58=D58,"-",D58-C58) -> - | F58: =IF(C58=0,"-",D58/C58) -> 1
A59: D5 | B59: ubezpieczenie społeczne i inne świadczenia, z tego: | C59: =C60+C61+C62+C63 -> 9943 | D59: =D60+D61+D62+D63 -> 9943 | E59: =IF(C59=D59,"-",D59-C59) -> - | F59: =IF(C59=0,"-",D59/C59) -> 1
A60: D5.1 | B60: składki na Fundusz Ubezpieczeń Społecznych | C60: 7640 | D60: =C60 -> 7640 | E60: =IF(C60=D60,"-",D60-C60) -> - | F60: =IF(C60=0,"-",D60/C60) -> 1
A61: D5.2 | B61: składki na Fundusz Pracy | C61: 1091 | D61: =C61 -> 1091 | E61: =IF(C61=D61,"-",D61-C61) -> - | F61: =IF(C61=0,"-",D61/C61) -> 1
A62: D5.3 | B62: składki na Fundusz Gwarantowanych Świadczeń Pracowniczych | C62: 0 | D62: =C62 -> 0 | E62: =IF(C62=D62,"-",D62-C62) -> - | F62: =IF(C62=0,"-",D62/C62) -> -
A63: D5.4 | B63: pozostałe świadczenia | C63: 1212 | D63: =C63 -> 1212 | E63: =IF(C63=D63,"-",D63-C63) -> - | F63: =IF(C63=0,"-",D63/C63) -> 1
A64: D6 | B64: koszty funkcjonowania Rady Funduszu | C64: 0 | D64: =C64 -> 0 | E64: =IF(C64=D64,"-",D64-C64) -> - | F64: =IF(C64=0,"-",D64/C64) -> -
A65: D7 | B65: amortyzacja środków trwałych oraz wartości niematerialnych i prawnych | C65: 5400 | D65: =C65 -> 5400 | E65: =IF(C65=D65,"-",D65-C65) -> - | F65: =IF(C65=0,"-",D65/C65) -> 1
A66: D8 | B66: pozostałe koszty administracyjne | C66: 324 | D66: =C66 -> 324 | E66: =IF(C66=D66,"-",D66-C66) -> - | F66: =IF(C66=0,"-",D66/C66) -> 1
A67: F | B67: Pozostałe koszty (F1+...+F4) | C67: =C68+C69+C70+C71 -> 33458 | D67: =D68+D69+D70+D71 -> 39694 | E67: =IF(C67=D67,"-",D67-C67) -> 6236 | F67: =IF(C67=0,"-",D67/C67) -> 1.1864
A68: F1 | B68: wydanie i utrzymanie kart ubezpieczenia | C68: 250 | D68: =C68-205 -> 45 | E68: =IF(C68=D68,"-",D68-C68) -> -205 | F68: =IF(C68=0,"-",D68/C68) -> 0.18
A69: F2 | B69: rezerwa na zobowiązania wynikające z postępowań sądowych | C69: 726 | D69: =C69+4052 -> 4778 | E69: =IF(C69=D69,"-",D69-C69) -> 4052 | F69: =IF(C69=0,"-",D69/C69) -> 6.5813
A70: F3 | B70: inne rezerwy | C70: 0 | D70: =C70 -> 0 | E70: =IF(C70=D70,"-",D70-C70) -> - | F70: =IF(C70=0,"-",D70/C70) -> -
A71: F4 | B71: inne koszty | C71: 32482 | D71: =C71-28755+31087+57 -> 34871 | E71: =IF(C71=D71,"-",D71-C71) -> 2389 | F71: =IF(C71=0,"-",D71/C71) -> 1.0735
A72: H | B72: Koszty finansowe | C72: 460 | D72: =C72+555 -> 1015 | E72: =IF(C72=D72,"-",D72-C72) -> 555 | F72: =IF(C72=0,"-",D72/C72) -> 2.2065

Sheet Świętokrzyski
A1: ZMIANA PLANU FINANSOWEGO NARODOWEGO FUNDUSZU ZDROWIA NA 2020 ROK Z DNIA 29 GRUDNIA 2020 R.
A2: Koszty Świętokrzyskiego Oddziału Wojewódzkiego Narodowego Funduszu Zdrowia
E3: w tys. zł
A4: Poz. | B4: Wyszczególnienie | C4: Plan na 2020 rok | D4: Plan po zmianie | E4: Różnica kol.4-kol.3 | F4: Dynamika kol.4/kol.3
A5: 1 | B5: 2 | C5: 3 | D5: 4 | E5: 5 | F5: 6
A6: B2 | B6: Koszty świadczeń opieki zdrowotnej (B2.1+...+B2.22) | C6: =C7+C8+C9+C16+C17+C18+C19+C20+C21+C22+C23+C24+C25+C26+C30+C31+C33+C34+C35+C36+C37+C39 -> 3451703 | D6: =D7+D8+D9+D16+D17+D18+D19+D20+D21+D22+D23+D24+D25+D26+D30+D31+D33+D34+D35+D36+D37+D39 -> 3453932 | E6: =IF(C6=D6,"-",D6-C6) -> 2229 | F6: =IF(C6=0,"-",D6/C6) -> 1.0006
A7: B2.1 | B7: podstawowa opieka zdrowotna | C7: 430251 | D7: =C7 -> 430251 | E7: =IF(C7=D7,"-",D7-C7) -> - | F7: =IF(C7=0,"-",D7/C7) -> 1
A8: B2.2 | B8: ambulatoryjna opieka specjalistyczna | C8: 186961 | D8: =C8 -> 186961 | E8: =IF(C8=D8,"-",D8-C8) -> - | F8: =IF(C8=0,"-",D8/C8) -> 1
A9: B2.3 | B9: leczenie szpitalne, w tym: | C9: 1939070 | D9: =C9+2229 -> 1941299 | E9: =IF(C9=D9,"-",D9-C9) -> 2229 | F9: =IF(C9=0,"-",D9/C9) -> 1.0011
A10: B2.3.1 | B10: programy lekowe, w tym: | C10: 145543 | D10: =C10 -> 145543 | E10: =IF(C10=D10,"-",D10-C10) -> - | F10: =IF(C10=0,"-",D10/C10) -> 1
A11: B2.3.1.1 | B11: leki, środki spożywcze specjalnego przeznaczenia żywieniowego objęte programami lekowymi | C11: 129774 | D11: =C11 -> 129774 | E11: =IF(C11=D11,"-",D11-C11) -> - | F11: =IF(C11=0,"-",D11/C11) -> 1
A12: B2.3.2 | B12: chemioterapia, w tym: | C12: 58305 | D12: =C12 -> 58305 | E12: =IF(C12=D12,"-",D12-C12) -> - | F12: =IF(C12=0,"-",D12/C12) -> 1
A13: B2.3.2.1 | B13: leki stosowane w chemioterapii | C13: 25844 | D13: =C13 -> 25844 | E13: =IF(C13=D13,"-",D13-C13) -> - | F13: =IF(C13=0,"-",D13/C13) -> 1
A14: B2.3.3 | B14: ratunkowy dostęp do technologii lekowej | C14: 700 | D14: =C14 -> 700 | E14: =IF(C14=D14,"-",D14-C14) -> - | F14: =IF(C14=0,"-",D14/C14) -> 1
A15: B2.3.4 | B15: świadczenia wysokospecjalistyczne | C15: 0 | D15: =C15 -> 0 | E15: =IF(C15=D15,"-",D15-C15) -> - | F15: =IF(C15=0,"-",D15/C15) -> -
A16: B2.4 | B16: opieka psychiatryczna i leczenie uzależnień | C16: 106712 | D16: =C16 -> 106712 | E16: =IF(C16=D16,"-",D16-C16) -> - | F16: =IF(C16=0,"-",D16/C16) -> 1
A17: B2.5 | B17: rehabilitacja lecznicza | C17: 113795 | D17: =C17 -> 113795 | E17: =IF(C17=D17,"-",D17-C17) -> - | F17: =IF(C17=0,"-",D17/C17) -> 1
A18: B2.6 | B18: świadczenia pielęgnacyjne i opiekuńcze w ramach opieki długoterminowej | C18: 76766 | D18: =C18 -> 76766 | E18: =IF(C18=D18,"-",D18-C18) -> - | F18: =IF(C18=0,"-",D18/C18) -> 1
A19: B2.7 | B19: opieka paliatywna i hospicyjna | C19: 34590 | D19: =C19 -> 34590 | E19: =IF(C19=D19,"-",D19-C19) -> - | F19: =IF(C19=0,"-",D19/C19) -> 1
A20: B2.8 | B20: leczenie stomatologiczne | C20: 66336 | D20: =C20 -> 66336 | E20: =IF(C20=D20,"-",D20-C20) -> - | F20: =IF(C20=0,"-",D20/C20) -> 1
A21: B2.9 | B21: lecznictwo uzdrowiskowe | C21: 33653 | D21: =C21 -> 33653 | E21: =IF(C21=D21,"-",D21-C21) -> - | F21: =IF(C21=0,"-",D21/C21) -> 1
... A44: B7 | B44: Koszty finansowania leku, zgodnie z art. 43b ust. 7 ustawy | C44: 300 | D44: =C44 -> 300 | E44: =IF(C44=D44,"-",D44-C44) -> - | F44: =IF(C44=0,"-",D44/C44) -> 1
A45: Bn | B45: Całkowity budżet na refundację (B2.3.1.1+B2.3.2.1+B2.3.3+B2.14+B2.16.1+B5+B7) | C45: =C11+C13+C14+C26+C32+C42+C44 -> 465191 | D45: =D11+D13+D14+D26+D32+D42+D44 -> 465191 | E45: =IF(C45=D45,"-",D45-C45) -> - | F45: =IF(C45=0,"-",D45/C45) -> 1
A46: D | B46: Koszty administracyjne ( D1+...+D8 ) | C46: =C47+C48+C49+C57+C59+C65+C66+C64 -> 21200 | D46: =D47+D48+D49+D57+D59+D65+D66+D64 -> 21200 | E46: =IF(C46=D46,"-",D46-C46) -> - | F46: =IF(C46=0,"-",D46/C46) -> 1
A47: D1 | B47: zużycie materiałów i energii | C47: 666 | D47: =C47 -> 666 | E47: =IF(C47=D47,"-",D47-C47) -> - | F47: =IF(C47=0,"-",D47/C47) -> 1
A48: D2 | B48: usługi obce | C48: 2568 | D48: =C48 -> 2568 | E48: =IF(C48=D48,"-",D48-C48) -> - | F48: =IF(C48=0,"-",D48/C48) -> 1
A49: D3 | B49: podatki i opłaty, z tego | C49: =C50+C52+C53+C54+C55+C56 -> 52 | D49: =D50+D52+D53+D54+D55+D56 -> 52 | E49: =IF(C49=D49,"-",D49-C49) -> - | F49: =IF(C49=0,"-",D49/C49) -> 1
A50: D3.1 | B50: podatki stanowiące dochody własne jednostek samorządu terytorialnego, w tym: | C50: 7 | D50: =C50 -> 7 | E50: =IF(C50=D50,"-",D50-C50) -> - | F50: =IF(C50=0,"-",D50/C50) -> 1
A51: D3.1.1 | B51: podatek od nieruchomości | C51: 7 | D51: =C51 -> 7 | E51: =IF(C51=D51,"-",D51-C51) -> - | F51: =IF(C51=0,"-",D51/C51) -> 1
A52: D3.2 | B52: opłaty stanowiące dochody własne jednostek samorządu terytorialnego | C52: 17 | D52: =C52 -> 17 | E52: =IF(C52=D52,"-",D52-C52) -> - | F52: =IF(C52=0,"-",D52/C52) -> 1
A53: D3.3 | B53: VAT | C53: 0 | D53: =C53 -> 0 | E53: =IF(C53=D53,"-",D53-C53) -> - | F53: =IF(C53=0,"-",D53/C53) -> -
A54: D3.4 | B54: podatek akcyzowy | C54: 0 | D54: =C54 -> 0 | E54: =IF(C54=D54,"-",D54-C54) -> - | F54: =IF(C54=0,"-",D54/C54) -> -
A55: D3.5 | B55: wpłaty na PFRON | C55: 0 | D55: =C55 -> 0 | E55: =IF(C55=D55,"-",D55-C55) -> - | F55: =IF(C55=0,"-",D55/C55) -> -
A56: D3.6 | B56: inne | C56: 28 | D56: =C56 -> 28 | E56: =IF(C56=D56,"-",D56-C56) -> - | F56: =IF(C56=0,"-",D56/C56) -> 1
A57: D4 | B57: wynagrodzenia, w tym: | C57: 12630 | D57: =C57 -> 12630 | E57: =IF(C57=D57,"-",D57-C57) -> - | F57: =IF(C57=0,"-",D57/C57) -> 1
A58: D4.1 | B58: wynagrodzenia bezosobowe | C58: 40 | D58: =C58 -> 40 | E58: =IF(C58=D58,"-",D58-C58) -> - | F58: =IF(C58=0,"-",D58/C58) -> 1
A59: D5 | B59: ubezpieczenie społeczne i inne świadczenia, z tego: | C59: =C60+C61+C62+C63 -> 2833 | D59: =D60+D61+D62+D63 -> 2833 | E59: =IF(C59=D59,"-",D59-C59) -> - | F59: =IF(C59=0,"-",D59/C59) -> 1
A60: D5.1 | B60: składki na Fundusz Ubezpieczeń Społecznych | C60: 2173 | D60: =C60 -> 2173 | E60: =IF(C60=D60,"-",D60-C60) -> - | F60: =IF(C60=0,"-",D60/C60) -> 1
A61: D5.2 | B61: składki na Fundusz Pracy | C61: 311 | D61: =C61 -> 311 | E61: =IF(C61=D61,"-",D61-C61) -> - | F61: =IF(C61=0,"-",D61/C61) -> 1
A62: D5.3 | B62: składki na Fundusz Gwarantowanych Świadczeń Pracowniczych | C62: 0 | D62: =C62 -> 0 | E62: =IF(C62=D62,"-",D62-C62) -> - | F62: =IF(C62=0,"-",D62/C62) -> -
A63: D5.4 | B63: pozostałe świadczenia | C63: 349 | D63: =C63 -> 349 | E63: =IF(C63=D63,"-",D63-C63) -> - | F63: =IF(C63=0,"-",D63/C63) -> 1
A64: D6 | B64: koszty funkcjonowania Rady Funduszu | C64: 0 | D64: =C64 -> 0 | E64: =IF(C64=D64,"-",D64-C64) -> - | F64: =IF(C64=0,"-",D64/C64) -> -
A65: D7 | B65: amortyzacja środków trwałych oraz wartości niematerialnych i prawnych | C65: 2257 | D65: =C65 -> 2257 | E65: =IF(C65=D65,"-",D65-C65) -> - | F65: =IF(C65=0,"-",D65/C65) -> 1
A66: D8 | B66: pozostałe koszty administracyjne | C66: 194 | D66: =C66 -> 194 | E66: =IF(C66=D66,"-",D66-C66) -> - | F66: =IF(C66=0,"-",D66/C66) -> 1
A67: F | B67: Pozostałe koszty (F1+...+F4) | C67: =C68+C69+C70+C71 -> 36086 | D67: =D68+D69+D70+D71 -> 20907 | E67: =IF(C67=D67,"-",D67-C67) -> -15179 | F67: =IF(C67=0,"-",D67/C67) -> 0.5794
A68: F1 | B68: wydanie i utrzymanie kart ubezpieczenia | C68: 0 | D68: =C68 -> 0 | E68: =IF(C68=D68,"-",D68-C68) -> - | F68: =IF(C68=0,"-",D68/C68) -> -
A69: F2 | B69: rezerwa na zobowiązania wynikające z postępowań sądowych | C69: 22078 | D69: =C69-20674 -> 1404 | E69: =IF(C69=D69,"-",D69-C69) -> -20674 | F69: =IF(C69=0,"-",D69/C69) -> 0.0636
A70: F3 | B70: inne rezerwy | C70: 0 | D70: =C70 -> 0 | E70: =IF(C70=D70,"-",D70-C70) -> - | F70: =IF(C70=0,"-",D70/C70) -> -
A71: F4 | B71: inne koszty | C71: 14008 | D71: =C71-8008+13487+16 -> 19503 | E71: =IF(C71=D71,"-",D71-C71) -> 5495 | F71: =IF(C71=0,"-",D71/C71) -> 1.3923
A72: H | B72: Koszty finansowe | C72: 1712 | D72: =C72-1492 -> 220 | E72: =IF(C72=D72,"-",D72-C72) -> -1492 | F72: =IF(C72=0,"-",D72/C72) -> 0.1285

Sheet WarmińskoMazurski
A1: ZMIANA PLANU FINANSOWEGO NARODOWEGO FUNDUSZU ZDROWIA NA 2020 ROK Z DNIA 29 GRUDNIA 2020 R.
A2: Koszty Warmińsko-Mazurskiego Oddziału Wojewódzkiego Narodowego Funduszu Zdrowia
E3: w tys. zł
A4: Poz. | B4: Wyszczególnienie | C4: Plan na 2020 rok | D4: Plan po zmianie | E4: Różnica kol.4-kol.3 | F4: Dynamika kol.4/kol.3
A5: 1 | B5: 2 | C5: 3 | D5: 4 | E5: 5 | F5: 6
A6: B2 | B6: Koszty świadczeń opieki zdrowotnej (B2.1+...+B2.22) | C6: =C7+C8+C9+C16+C17+C18+C19+C20+C21+C22+C23+C24+C25+C26+C30+C31+C33+C34+C35+C36+C37+C39 -> 3495410 | D6: =D7+D8+D9+D16+D17+D18+D19+D20+D21+D22+D23+D24+D25+D26+D30+D31+D33+D34+D35+D36+D37+D39 -> 3497748 | E6: =IF(C6=D6,"-",D6-C6) -> 2338 | F6: =IF(C6=0,"-",D6/C6) -> 1.0007
A7: B2.1 | B7: podstawowa opieka zdrowotna | C7: 483441 | D7: =C7 -> 483441 | E7: =IF(C7=D7,"-",D7-C7) -> - | F7: =IF(C7=0,"-",D7/C7) -> 1
A8: B2.2 | B8: ambulatoryjna opieka specjalistyczna | C8: 207337 | D8: =C8 -> 207337 | E8: =IF(C8=D8,"-",D8-C8) -> - | F8: =IF(C8=0,"-",D8/C8) -> 1
A9: B2.3 | B9: leczenie szpitalne, w tym: | C9: 1892743 | D9: =C9+2338 -> 1895081 | E9: =IF(C9=D9,"-",D9-C9) -> 2338 | F9: =IF(C9=0,"-",D9/C9) -> 1.0012
A10: B2.3.1 | B10: programy lekowe, w tym: | C10: 154749 | D10: =C10 -> 154749 | E10: =IF(C10=D10,"-",D10-C10) -> - | F10: =IF(C10=0,"-",D10/C10) -> 1
A11: B2.3.1.1 | B11: leki, środki spożywcze specjalnego przeznaczenia żywieniowego objęte programami lekowymi | C11: 139444 | D11: =C11 -> 139444 | E11: =IF(C11=D11,"-",D11-C11) -> - | F11: =IF(C11=0,"-",D11/C11) -> 1
A12: B2.3.2 | B12: chemioterapia, w tym: | C12: 53507 | D12: =C12 -> 53507 | E12: =IF(C12=D12,"-",D12-C12) -> - | F12: =IF(C12=0,"-",D12/C12) -> 1
A13: B2.3.2.1 | B13: leki stosowane w chemioterapii | C13: 24670 | D13: =C13 -> 24670 | E13: =IF(C13=D13,"-",D13-C13) -> - | F13: =IF(C13=0,"-",D13/C13) -> 1
A14: B2.3.3 | B14: ratunkowy dostęp do technologii lekowej | C14: 0 | D14: =C14 -> 0 | E14: =IF(C14=D14,"-",D14-C14) -> - | F14: =IF(C14=0,"-",D14/C14) -> -
A15: B2.3.4 | B15: świadczenia wysokospecjalistyczne | C15: 0 | D15: =C15 -> 0 | E15: =IF(C15=D15,"-",D15-C15) -> - | F15: =IF(C15=0,"-",D15/C15) -> -
A16: B2.4 | B16: opieka psychiatryczna i leczenie uzależnień | C16: 120149 | D16: =C16 -> 120149 | E16: =IF(C16=D16,"-",D16-C16) -> - | F16: =IF(C16=0,"-",D16/C16) -> 1
A17: B2.5 | B17: rehabilitacja lecznicza | C17: 103322 | D17: =C17 -> 103322 | E17: =IF(C17=D17,"-",D17-C17) -> - | F17: =IF(C17=0,"-",D17/C17) -> 1
A18: B2.6 | B18: świadczenia pielęgnacyjne i opiekuńcze w ramach opieki długoterminowej | C18: 60621 | D18: =C18 -> 60621 | E18: =IF(C18=D18,"-",D18-C18) -> - | F18: =IF(C18=0,"-",D18/C18) -> 1
A19: B2.7 | B19: opieka paliatywna i hospicyjna | C19: 26695 | D19: =C19 -> 26695 | E19: =IF(C19=D19,"-",D19-C19) -> - | F19: =IF(C19=0,"-",D19/C19) -> 1
A20: B2.8 | B20: leczenie stomatologiczne | C20: 82762 | D20: =C20 -> 82762 | E20: =IF(C20=D20,"-",D20-C20) -> - | F20: =IF(C20=0,"-",D20/C20) -> 1
A21: B2.9 | B21: lecznictwo uzdrowiskowe | C21: 25815 | D21: =C21 -> 25815 | E21: =IF(C21=D21,"-",D21-C21) -> - | F21: =IF(C21=0,"-",D21/C21) -> 1
... A44: B7 | B44: Koszty finansowania leku, zgodnie z art. 43b ust. 7 ustawy | C44: 379 | D44: =C44 -> 379 | E44: =IF(C44=D44,"-",D44-C44) -> - | F44: =IF(C44=0,"-",D44/C44) -> 1
A45: Bn | B45: Całkowity budżet na refundację (B2.3.1.1+B2.3.2.1+B2.3.3+B2.14+B2.16.1+B5+B7) | C45: =C11+C13+C14+C26+C32+C42+C44 -> 493855 | D45: =D11+D13+D14+D26+D32+D42+D44 -> 493855 | E45: =IF(C45=D45,"-",D45-C45) -> - | F45: =IF(C45=0,"-",D45/C45) -> 1
A46: D | B46: Koszty administracyjne ( D1+...+D8 ) | C46: =C47+C48+C49+C57+C59+C65+C66+C64 -> 23670 | D46: =D47+D48+D49+D57+D59+D65+D66+D64 -> 23670 | E46: =IF(C46=D46,"-",D46-C46) -> - | F46: =IF(C46=0,"-",D46/C46) -> 1
A47: D1 | B47: zużycie materiałów i energii | C47: 922 | D47: =C47 -> 922 | E47: =IF(C47=D47,"-",D47-C47) -> - | F47: =IF(C47=0,"-",D47/C47) -> 1
A48: D2 | B48: usługi obce | C48: 3483 | D48: =C48 -> 3483 | E48: =IF(C48=D48,"-",D48-C48) -> - | F48: =IF(C48=0,"-",D48/C48) -> 1
A49: D3 | B49: podatki i opłaty, z tego | C49: =C50+C52+C53+C54+C55+C56 -> 145 | D49: =D50+D52+D53+D54+D55+D56 -> 145 | E49: =IF(C49=D49,"-",D49-C49) -> - | F49: =IF(C49=0,"-",D49/C49) -> 1
A50: D3.1 | B50: podatki stanowiące dochody własne jednostek samorządu terytorialnego, w tym: | C50: 33 | D50: =C50 -> 33 | E50: =IF(C50=D50,"-",D50-C50) -> - | F50: =IF(C50=0,"-",D50/C50) -> 1
A51: D3.1.1 | B51: podatek od nieruchomości | C51: 30 | D51: =C51 -> 30 | E51: =IF(C51=D51,"-",D51-C51) -> - | F51: =IF(C51=0,"-",D51/C51) -> 1
A52: D3.2 | B52: opłaty stanowiące dochody własne jednostek samorządu terytorialnego | C52: 13 | D52: =C52 -> 13 | E52: =IF(C52=D52,"-",D52-C52) -> - | F52: =IF(C52=0,"-",D52/C52) -> 1
A53: D3.3 | B53: VAT | C53: 0 | D53: =C53 -> 0 | E53: =IF(C53=D53,"-",D53-C53) -> - | F53: =IF(C53=0,"-",D53/C53) -> -
A54: D3.4 | B54: podatek akcyzowy | C54: 0 | D54: =C54 -> 0 | E54: =IF(C54=D54,"-",D54-C54) -> - | F54: =IF(C54=0,"-",D54/C54) -> -
A55: D3.5 | B55: wpłaty na PFRON | C55: 96 | D55: =C55 -> 96 | E55: =IF(C55=D55,"-",D55-C55) -> - | F55: =IF(C55=0,"-",D55/C55) -> 1
A56: D3.6 | B56: inne | C56: 3 | D56: =C56 -> 3 | E56: =IF(C56=D56,"-",D56-C56) -> - | F56: =IF(C56=0,"-",D56/C56) -> 1
A57: D4 | B57: wynagrodzenia, w tym: | C57: 13716 | D57: =C57 -> 13716 | E57: =IF(C57=D57,"-",D57-C57) -> - | F57: =IF(C57=0,"-",D57/C57) -> 1
A58: D4.1 | B58: wynagrodzenia bezosobowe | C58: 0 | D58: =C58 -> 0 | E58: =IF(C58=D58,"-",D58-C58) -> - | F58: =IF(C58=0,"-",D58/C58) -> -
A59: D5 | B59: ubezpieczenie społeczne i inne świadczenia, z tego: | C59: =C60+C61+C62+C63 -> 3063 | D59: =D60+D61+D62+D63 -> 3063 | E59: =IF(C59=D59,"-",D59-C59) -> - | F59: =IF(C59=0,"-",D59/C59) -> 1
A60: D5.1 | B60: składki na Fundusz Ubezpieczeń Społecznych | C60: 2357 | D60: =C60 -> 2357 | E60: =IF(C60=D60,"-",D60-C60) -> - | F60: =IF(C60=0,"-",D60/C60) -> 1
A61: D5.2 | B61: składki na Fundusz Pracy | C61: 338 | D61: =C61 -> 338 | E61: =IF(C61=D61,"-",D61-C61) -> - | F61: =IF(C61=0,"-",D61/C61) -> 1
A62: D5.3 | B62: składki na Fundusz Gwarantowanych Świadczeń Pracowniczych | C62: 0 | D62: =C62 -> 0 | E62: =IF(C62=D62,"-",D62-C62) -> - | F62: =IF(C62=0,"-",D62/C62) -> -
A63: D5.4 | B63: pozostałe świadczenia | C63: 368 | D63: =C63 -> 368 | E63: =IF(C63=D63,"-",D63-C63) -> - | F63: =IF(C63=0,"-",D63/C63) -> 1
A64: D6 | B64: koszty funkcjonowania Rady Funduszu | C64: 0 | D64: =C64 -> 0 | E64: =IF(C64=D64,"-",D64-C64) -> - | F64: =IF(C64=0,"-",D64/C64) -> -
A65: D7 | B65: amortyzacja środków trwałych oraz wartości niematerialnych i prawnych | C65: 2162 | D65: =C65 -> 2162 | E65: =IF(C65=D65,"-",D65-C65) -> - | F65: =IF(C65=0,"-",D65/C65) -> 1
A66: D8 | B66: pozostałe koszty administracyjne | C66: 179 | D66: =C66 -> 179 | E66: =IF(C66=D66,"-",D66-C66) -> - | F66: =IF(C66=0,"-",D66/C66) -> 1
A67: F | B67: Pozostałe koszty (F1+...+F4) | C67: =C68+C69+C70+C71 -> 9375 | D67: =D68+D69+D70+D71 -> 9251 | E67: =IF(C67=D67,"-",D67-C67) -> -124 | F67: =IF(C67=0,"-",D67/C67) -> 0.9868
A68: F1 | B68: wydanie i utrzymanie kart ubezpieczenia | C68: 0 | D68: =C68 -> 0 | E68: =IF(C68=D68,"-",D68-C68) -> - | F68: =IF(C68=0,"-",D68/C68) -> -
A69: F2 | B69: rezerwa na zobowiązania wynikające z postępowań sądowych | C69: 0 | D69: =C69+1 -> 1 | E69: =IF(C69=D69,"-",D69-C69) -> 1 | F69: =IF(C69=0,"-",D69/C69) -> -
A70: F3 | B70: inne rezerwy | C70: 0 | D70: =C70 -> 0 | E70: =IF(C70=D70,"-",D70-C70) -> - | F70: =IF(C70=0,"-",D70/C70) -> -
A71: F4 | B71: inne koszty | C71: 9375 | D71: =C71-8675+8528+22 -> 9250 | E71: =IF(C71=D71,"-",D71-C71) -> -125 | F71: =IF(C71=0,"-",D71/C71) -> 0.9867
A72: H | B72: Koszty finansowe | C72: 45 | D72: =C72+75 -> 120 | E72: =IF(C72=D72,"-",D72-C72) -> 75 | F72: =IF(C72=0,"-",D72/C72) -> 2.6667

Sheet Wielkopolski
A1: ZMIANA PLANU FINANSOWEGO NARODOWEGO FUNDUSZU ZDROWIA NA 2020 ROK Z DNIA 29 GRUDNIA 2020 R.
A2: Koszty Wielkopolskiego Oddziału Wojewódzkiego Narodowego Funduszu Zdrowia
E3: w tys. zł
A4: Poz. | B4: Wyszczególnienie | C4: Plan na 2020 rok | D4: Plan po zmianie | E4: Różnica kol.4-kol.3 | F4: Dynamika kol.4/kol.3
A5: 1 | B5: 2 | C5: 3 | D5: 4 | E5: 5 | F5: 6
A6: B2 | B6: Koszty świadczeń opieki zdrowotnej (B2.1+...+B2.22) | C6: =C7+C8+C9+C16+C17+C18+C19+C20+C21+C22+C23+C24+C25+C26+C30+C31+C33+C34+C35+C36+C37+C39 -> 8971145 | D6: =D7+D8+D9+D16+D17+D18+D19+D20+D21+D22+D23+D24+D25+D26+D30+D31+D33+D34+D35+D36+D37+D39 -> 8977211 | E6: =IF(C6=D6,"-",D6-C6) -> 6066 | F6: =IF(C6=0,"-",D6/C6) -> 1.0007
A7: B2.1 | B7: podstawowa opieka zdrowotna | C7: 1274169 | D7: =C7 -> 1274169 | E7: =IF(C7=D7,"-",D7-C7) -> - | F7: =IF(C7=0,"-",D7/C7) -> 1
A8: B2.2 | B8: ambulatoryjna opieka specjalistyczna | C8: 554623 | D8: =C8 -> 554623 | E8: =IF(C8=D8,"-",D8-C8) -> - | F8: =IF(C8=0,"-",D8/C8) -> 1
A9: B2.3 | B9: leczenie szpitalne, w tym: | C9: 4838962 | D9: =C9+6066 -> 4845028 | E9: =IF(C9=D9,"-",D9-C9) -> 6066 | F9: =IF(C9=0,"-",D9/C9) -> 1.0013
A10: B2.3.1 | B10: programy lekowe, w tym: | C10: 457706 | D10: =C10 -> 457706 | E10: =IF(C10=D10,"-",D10-C10) -> - | F10: =IF(C10=0,"-",D10/C10) -> 1
A11: B2.3.1.1 | B11: leki, środki spożywcze specjalnego przeznaczenia żywieniowego objęte programami lekowymi | C11: 413299 | D11: =C11 -> 413299 | E11: =IF(C11=D11,"-",D11-C11) -> - | F11: =IF(C11=0,"-",D11/C11) -> 1
A12: B2.3.2 | B12: chemioterapia, w tym: | C12: 142131 | D12: =C12 -> 142131 | E12: =IF(C12=D12,"-",D12-C12) -> - | F12: =IF(C12=0,"-",D12/C12) -> 1
A13: B2.3.2.1 | B13: leki stosowane w chemioterapii | C13: 68259 | D13: =C13 -> 68259 | E13: =IF(C13=D13,"-",D13-C13) -> - | F13: =IF(C13=0,"-",D13/C13) -> 1
A14: B2.3.3 | B14: ratunkowy dostęp do technologii lekowej | C14: 1000 | D14: =C14 -> 1000 | E14: =IF(C14=D14,"-",D14-C14) -> - | F14: =IF(C14=0,"-",D14/C14) -> 1
A15: B2.3.4 | B15: świadczenia wysokospecjalistyczne | C15: 7095 | D15: =C15 -> 7095 | E15: =IF(C15=D15,"-",D15-C15) -> - | F15: =IF(C15=0,"-",D15/C15) -> 1
A16: B2.4 | B16: opieka psychiatryczna i leczenie uzależnień | C16: 294669 | D16: =C16 -> 294669 | E16: =IF(C16=D16,"-",D16-C16) -> - | F16: =IF(C16=0,"-",D16/C16) -> 1
A17: B2.5 | B17: rehabilitacja lecznicza | C17: 245169 | D17: =C17 -> 245169 | E17: =IF(C17=D17,"-",D17-C17) -> - | F17: =IF(C17=0,"-",D17/C17) -> 1
A18: B2.6 | B18: świadczenia pielęgnacyjne i opiekuńcze w ramach opieki długoterminowej | C18: 118473 | D18: =C18 -> 118473 | E18: =IF(C18=D18,"-",D18-C18) -> - | F18: =IF(C18=0,"-",D18/C18) -> 1
A19: B2.7 | B19: opieka paliatywna i hospicyjna | C19: 78059 | D19: =C19 -> 78059 | E19: =IF(C19=D19,"-",D19-C19) -> - | F19: =IF(C19=0,"-",D19/C19) -> 1
A20: B2.8 | B20: leczenie stomatologiczne | C20: 162415 | D20: =C20 -> 162415 | E20: =IF(C20=D20,"-",D20-C20) -> - | F20: =IF(C20=0,"-",D20/C20) -> 1
A21: B2.9 | B21: lecznictwo uzdrowiskowe | C21: 80000 | D21: =C21 -> 80000 | E21: =IF(C21=D21,"-",D21-C21) -> - | F21: =IF(C21=0,"-",D21/C21) -> 1
... A44: B7 | B44: Koszty finansowania leku, zgodnie z art. 43b ust. 7 ustawy | C44: 1099 | D44: =C44 -> 1099 | E44: =IF(C44=D44,"-",D44-C44) -> - | F44: =IF(C44=0,"-",D44/C44) -> 1
A45: Bn | B45: Całkowity budżet na refundację (B2.3.1.1+B2.3.2.1+B2.3.3+B2.14+B2.16.1+B5+B7) | C45: =C11+C13+C14+C26+C32+C42+C44 -> 1395357 | D45: =D11+D13+D14+D26+D32+D42+D44 -> 1395357 | E45: =IF(C45=D45,"-",D45-C45) -> - | F45: =IF(C45=0,"-",D45/C45) -> 1
A46: D | B46: Koszty administracyjne ( D1+...+D8 ) | C46: =C47+C48+C49+C57+C59+C65+C66+C64 -> 50421 | D46: =D47+D48+D49+D57+D59+D65+D66+D64 -> 50421 | E46: =IF(C46=D46,"-",D46-C46) -> - | F46: =IF(C46=0,"-",D46/C46) -> 1
A47: D1 | B47: zużycie materiałów i energii | C47: 2698 | D47: =C47 -> 2698 | E47: =IF(C47=D47,"-",D47-C47) -> - | F47: =IF(C47=0,"-",D47/C47) -> 1
A48: D2 | B48: usługi obce | C48: 9509 | D48: =C48 -> 9509 | E48: =IF(C48=D48,"-",D48-C48) -> - | F48: =IF(C48=0,"-",D48/C48) -> 1
A49: D3 | B49: podatki i opłaty, z tego | C49: =C50+C52+C53+C54+C55+C56 -> 371 | D49: =D50+D52+D53+D54+D55+D56 -> 371 | E49: =IF(C49=D49,"-",D49-C49) -> - | F49: =IF(C49=0,"-",D49/C49) -> 1
A50: D3.1 | B50: podatki stanowiące dochody własne jednostek samorządu terytorialnego, w tym: | C50: 55 | D50: =C50 -> 55 | E50: =IF(C50=D50,"-",D50-C50) -> - | F50: =IF(C50=0,"-",D50/C50) -> 1
A51: D3.1.1 | B51: podatek od nieruchomości | C51: 55 | D51: =C51 -> 55 | E51: =IF(C51=D51,"-",D51-C51) -> - | F51: =IF(C51=0,"-",D51/C51) -> 1
A52: D3.2 | B52: opłaty stanowiące dochody własne jednostek samorządu terytorialnego | C52: 258 | D52: =C52 -> 258 | E52: =IF(C52=D52,"-",D52-C52) -> - | F52: =IF(C52=0,"-",D52/C52) -> 1
A53: D3.3 | B53: VAT | C53: 0 | D53: =C53 -> 0 | E53: =IF(C53=D53,"-",D53-C53) -> - | F53: =IF(C53=0,"-",D53/C53) -> -
A54: D3.4 | B54: podatek akcyzowy | C54: 0 | D54: =C54 -> 0 | E54: =IF(C54=D54,"-",D54-C54) -> - | F54: =IF(C54=0,"-",D54/C54) -> -
A55: D3.5 | B55: wpłaty na PFRON | C55: 52 | D55: =C55 -> 52 | E55: =IF(C55=D55,"-",D55-C55) -> - | F55: =IF(C55=0,"-",D55/C55) -> 1
A56: D3.6 | B56: inne | C56: 6 | D56: =C56 -> 6 | E56: =IF(C56=D56,"-",D56-C56) -> - | F56: =IF(C56=0,"-",D56/C56) -> 1
A57: D4 | B57: wynagrodzenia, w tym: | C57: 26540 | D57: =C57 -> 26540 | E57: =IF(C57=D57,"-",D57-C57) -> - | F57: =IF(C57=0,"-",D57/C57) -> 1
A58: D4.1 | B58: wynagrodzenia bezosobowe | C58: 123 | D58: =C58 -> 123 | E58: =IF(C58=D58,"-",D58-C58) -> - | F58: =IF(C58=0,"-",D58/C58) -> 1
A59: D5 | B59: ubezpieczenie społeczne i inne świadczenia, z tego: | C59: =C60+C61+C62+C63 -> 5931 | D59: =D60+D61+D62+D63 -> 5931 | E59: =IF(C59=D59,"-",D59-C59) -> - | F59: =IF(C59=0,"-",D59/C59) -> 1
A60: D5.1 | B60: składki na Fundusz Ubezpieczeń Społecznych | C60: 4561 | D60: =C60 -> 4561 | E60: =IF(C60=D60,"-",D60-C60) -> - | F60: =IF(C60=0,"-",D60/C60) -> 1
A61: D5.2 | B61: składki na Fundusz Pracy | C61: 650 | D61: =C61 -> 650 | E61: =IF(C61=D61,"-",D61-C61) -> - | F61: =IF(C61=0,"-",D61/C61) -> 1
A62: D5.3 | B62: składki na Fundusz Gwarantowanych Świadczeń Pracowniczych | C62: 0 | D62: =C62 -> 0 | E62: =IF(C62=D62,"-",D62-C62) -> - | F62: =IF(C62=0,"-",D62/C62) -> -
A63: D5.4 | B63: pozostałe świadczenia | C63: 720 | D63: =C63 -> 720 | E63: =IF(C63=D63,"-",D63-C63) -> - | F63: =IF(C63=0,"-",D63/C63) -> 1
A64: D6 | B64: koszty funkcjonowania Rady Funduszu | C64: 0 | D64: =C64 -> 0 | E64: =IF(C64=D64,"-",D64-C64) -> - | F64: =IF(C64=0,"-",D64/C64) -> -
A65: D7 | B65: amortyzacja środków trwałych oraz wartości niematerialnych i prawnych | C65: 4974 | D65: =C65 -> 4974 | E65: =IF(C65=D65,"-",D65-C65) -> - | F65: =IF(C65=0,"-",D65/C65) -> 1
A66: D8 | B66: pozostałe koszty administracyjne | C66: 398 | D66: =C66 -> 398 | E66: =IF(C66=D66,"-",D66-C66) -> - | F66: =IF(C66=0,"-",D66/C66) -> 1
A67: F | B67: Pozostałe koszty (F1+...+F4) | C67: =C68+C69+C70+C71 -> 132590 | D67: =D68+D69+D70+D71 -> 120508 | E67: =IF(C67=D67,"-",D67-C67) -> -12082 | F67: =IF(C67=0,"-",D67/C67) -> 0.9089
A68: F1 | B68: wydanie i utrzymanie kart ubezpieczenia | C68: 0 | D68: =C68 -> 0 | E68: =IF(C68=D68,"-",D68-C68) -> - | F68: =IF(C68=0,"-",D68/C68) -> -
A69: F2 | B69: rezerwa na zobowiązania wynikające z postępowań sądowych | C69: 13300 | D69: =C69-12482 -> 818 | E69: =IF(C69=D69,"-",D69-C69) -> -12482 | F69: =IF(C69=0,"-",D69/C69) -> 0.0615
A70: F3 | B70: inne rezerwy | C70: 0 | D70: =C70 -> 0 | E70: =IF(C70=D70,"-",D70-C70) -> - | F70: =IF(C70=0,"-",D70/C70) -> -
A71: F4 | B71: inne koszty | C71: 119290 | D71: =C71-117890+118239+51 -> 119690 | E71: =IF(C71=D71,"-",D71-C71) -> 400 | F71: =IF(C71=0,"-",D71/C71) -> 1.0034
A72: H | B72: Koszty finansowe | C72: 950 | D72: =C72 -> 950 | E72: =IF(C72=D72,"-",D72-C72) -> - | F72: =IF(C72=0,"-",D72/C72) -> 1

Sheet Zachodniopomorski
A1: ZMIANA PLANU FINANSOWEGO NARODOWEGO FUNDUSZU ZDROWIA NA 2020 ROK Z DNIA 29 GRUDNIA 2020 R.
A2: Koszty Zachodniopomorskiego Oddziału Wojewódzkiego Narodowego Funduszu Zdrowia
E3: w tys. zł
A4: Poz. | B4: Wyszczególnienie | C4: Plan na 2020 rok | D4: Plan po zmianie | E4: Różnica kol.4-kol.3 | F4: Dynamika kol.4/kol.3
A5: 1 | B5: 2 | C5: 3 | D5: 4 | E5: 5 | F5: 6
A6: B2 | B6: Koszty świadczeń opieki zdrowotnej (B2.1+...+B2.22) | C6: =C7+C8+C9+C16+C17+C18+C19+C20+C21+C22+C23+C24+C25+C26+C30+C31+C33+C34+C35+C36+C37+C39 -> 4334213 | D6: =D7+D8+D9+D16+D17+D18+D19+D20+D21+D22+D23+D24+D25+D26+D30+D31+D33+D34+D35+D36+D37+D39 -> 4337115 | E6: =IF(C6=D6,"-",D6-C6) -> 2902 | F6: =IF(C6=0,"-",D6/C6) -> 1.0007
A7: B2.1 | B7: podstawowa opieka zdrowotna | C7: 600167 | D7: =C7 -> 600167 | E7: =IF(C7=D7,"-",D7-C7) -> - | F7: =IF(C7=0,"-",D7/C7) -> 1
A8: B2.2 | B8: ambulatoryjna opieka specjalistyczna | C8: 261037 | D8: =C8 -> 261037 | E8: =IF(C8=D8,"-",D8-C8) -> - | F8: =IF(C8=0,"-",D8/C8) -> 1
A9: B2.3 | B9: leczenie szpitalne, w tym: | C9: 2317341 | D9: =C9+2902 -> 2320243 | E9: =IF(C9=D9,"-",D9-C9) -> 2902 | F9: =IF(C9=0,"-",D9/C9) -> 1.0013
A10: B2.3.1 | B10: programy lekowe, w tym: | C10: 188822 | D10: =C10 -> 188822 | E10: =IF(C10=D10,"-",D10-C10) -> - | F10: =IF(C10=0,"-",D10/C10) -> 1
A11: B2.3.1.1 | B11: leki, środki spożywcze specjalnego przeznaczenia żywieniowego objęte programami lekowymi | C11: 170243 | D11: =C11 -> 170243 | E11: =IF(C11=D11,"-",D11-C11) -> - | F11: =IF(C11=0,"-",D11/C11) -> 1
A12: B2.3.2 | B12: chemioterapia, w tym: | C12: 64894 | D12: =C12 -> 64894 | E12: =IF(C12=D12,"-",D12-C12) -> - | F12: =IF(C12=0,"-",D12/C12) -> 1
A13: B2.3.2.1 | B13: leki stosowane w chemioterapii | C13: 28050 | D13: =C13 -> 28050 | E13: =IF(C13=D13,"-",D13-C13) -> - | F13: =IF(C13=0,"-",D13/C13) -> 1
A14: B2.3.3 | B14: ratunkowy dostęp do technologii lekowej | C14: 4500 | D14: =C14 -> 4500 | E14: =IF(C14=D14,"-",D14-C14) -> - | F14: =IF(C14=0,"-",D14/C14) -> 1
A15: B2.3.4 | B15: świadczenia wysokospecjalistyczne | C15: 10636 | D15: =C15 -> 10636 | E15: =IF(C15=D15,"-",D15-C15) -> - | F15: =IF(C15=0,"-",D15/C15) -> 1
A16: B2.4 | B16: opieka psychiatryczna i leczenie uzależnień | C16: 132097 | D16: =C16 -> 132097 | E16: =IF(C16=D16,"-",D16-C16) -> - | F16: =IF(C16=0,"-",D16/C16) -> 1
A17: B2.5 | B17: rehabilitacja lecznicza | C17: 125888 | D17: =C17 -> 125888 | E17: =IF(C17=D17,"-",D17-C17) -> - | F17: =IF(C17=0,"-",D17/C17) -> 1
A18: B2.6 | B18: świadczenia pielęgnacyjne i opiekuńcze w ramach opieki długoterminowej | C18: 66958 | D18: =C18 -> 66958 | E18: =IF(C18=D18,"-",D18-C18) -> - | F18: =IF(C18=0,"-",D18/C18) -> 1
A19: B2.7 | B19: opieka paliatywna i hospicyjna | C19: 27999 | D19: =C19 -> 27999 | E19: =IF(C19=D19,"-",D19-C19) -> - | F19: =IF(C19=0,"-",D19/C19) -> 1
A20: B2.8 | B20: leczenie stomatologiczne | C20: 86601 | D20: =C20 -> 86601 | E20: =IF(C20=D20,"-",D20-C20) -> - | F20: =IF(C20=0,"-",D20/C20) -> 1
A21: B2.9 | B21: lecznictwo uzdrowiskowe | C21: 36512 | D21: =C21 -> 36512 | E21: =IF(C21=D21,"-",D21-C21) -> - | F21: =IF(C21=0,"-",D21/C21) -> 1
... A44: B7 | B44: Koszty finansowania leku, zgodnie z art. 43b ust. 7 ustawy | C44: 429 | D44: =C44 -> 429 | E44: =IF(C44=D44,"-",D44-C44) -> - | F44: =IF(C44=0,"-",D44/C44) -> 1
A45: Bn | B45: Całkowity budżet na refundację (B2.3.1.1+B2.3.2.1+B2.3.3+B2.14+B2.16.1+B5+B7) | C45: =C11+C13+C14+C26+C32+C42+C44 -> 632349 | D45: =D11+D13+D14+D26+D32+D42+D44 -> 632349 | E45: =IF(C45=D45,"-",D45-C45) -> - | F45: =IF(C45=0,"-",D45/C45) -> 1
A46: D | B46: Koszty administracyjne ( D1+...+D8 ) | C46: =C47+C48+C49+C57+C59+C65+C66+C64 -> 26845 | D46: =D47+D48+D49+D57+D59+D65+D66+D64 -> 26845 | E46: =IF(C46=D46,"-",D46-C46) -> - | F46: =IF(C46=0,"-",D46/C46) -> 1
A47: D1 | B47: zużycie materiałów i energii | C47: 929 | D47: =C47 -> 929 | E47: =IF(C47=D47,"-",D47-C47) -> - | F47: =IF(C47=0,"-",D47/C47) -> 1
A48: D2 | B48: usługi obce | C48: 3089 | D48: =C48 -> 3089 | E48: =IF(C48=D48,"-",D48-C48) -> - | F48: =IF(C48=0,"-",D48/C48) -> 1
A49: D3 | B49: podatki i opłaty, z tego | C49: =C50+C52+C53+C54+C55+C56 -> 208 | D49: =D50+D52+D53+D54+D55+D56 -> 208 | E49: =IF(C49=D49,"-",D49-C49) -> - | F49: =IF(C49=0,"-",D49/C49) -> 1
A50: D3.1 | B50: podatki stanowiące dochody własne jednostek samorządu terytorialnego, w tym: | C50: 28 | D50: =C50 -> 28 | E50: =IF(C50=D50,"-",D50-C50) -> - | F50: =IF(C50=0,"-",D50/C50) -> 1
A51: D3.1.1 | B51: podatek od nieruchomości | C51: 28 | D51: =C51 -> 28 | E51: =IF(C51=D51,"-",D51-C51) -> - | F51: =IF(C51=0,"-",D51/C51) -> 1
A52: D3.2 | B52: opłaty stanowiące dochody własne jednostek samorządu terytorialnego | C52: 26 | D52: =C52 -> 26 | E52: =IF(C52=D52,"-",D52-C52) -> - | F52: =IF(C52=0,"-",D52/C52) -> 1
A53: D3.3 | B53: VAT | C53: 0 | D53: =C53 -> 0 | E53: =IF(C53=D53,"-",D53-C53) -> - | F53: =IF(C53=0,"-",D53/C53) -> -
A54: D3.4 | B54: podatek akcyzowy | C54: 0 | D54: =C54 -> 0 | E54: =IF(C54=D54,"-",D54-C54) -> - | F54: =IF(C54=0,"-",D54/C54) -> -
A55: D3.5 | B55: wpłaty na PFRON | C55: 111 | D55: =C55 -> 111 | E55: =IF(C55=D55,"-",D55-C55) -> - | F55: =IF(C55=0,"-",D55/C55) -> 1
A56: D3.6 | B56: inne | C56: 43 | D56: =C56 -> 43 | E56: =IF(C56=D56,"-",D56-C56) -> - | F56: =IF(C56=0,"-",D56/C56) -> 1
A57: D4 | B57: wynagrodzenia, w tym: | C57: 16282 | D57: =C57 -> 16282 | E57: =IF(C57=D57,"-",D57-C57) -> - | F57: =IF(C57=0,"-",D57/C57) -> 1
A58: D4.1 | B58: wynagrodzenia bezosobowe | C58: 50 | D58: =C58 -> 50 | E58: =IF(C58=D58,"-",D58-C58) -> - | F58: =IF(C58=0,"-",D58/C58) -> 1
A59: D5 | B59: ubezpieczenie społeczne i inne świadczenia, z tego: | C59: =C60+C61+C62+C63 -> 3643 | D59: =D60+D61+D62+D63 -> 3643 | E59: =IF(C59=D59,"-",D59-C59) -> - | F59: =IF(C59=0,"-",D59/C59) -> 1
A60: D5.1 | B60: składki na Fundusz Ubezpieczeń Społecznych | C60: 2795 | D60: =C60 -> 2795 | E60: =IF(C60=D60,"-",D60-C60) -> - | F60: =IF(C60=0,"-",D60/C60) -> 1
A61: D5.2 | B61: składki na Fundusz Pracy | C61: 399 | D61: =C61 -> 399 | E61: =IF(C61=D61,"-",D61-C61) -> - | F61: =IF(C61=0,"-",D61/C61) -> 1
A62: D5.3 | B62: składki na Fundusz Gwarantowanych Świadczeń Pracowniczych | C62: 0 | D62: =C62 -> 0 | E62: =IF(C62=D62,"-",D62-C62) -> - | F62: =IF(C62=0,"-",D62/C62) -> -
A63: D5.4 | B63: pozostałe świadczenia | C63: 449 | D63: =C63 -> 449 | E63: =IF(C63=D63,"-",D63-C63) -> - | F63: =IF(C63=0,"-",D63/C63) -> 1
A64: D6 | B64: koszty funkcjonowania Rady Funduszu | C64: 0 | D64: =C64 -> 0 | E64: =IF(C64=D64,"-",D64-C64) -> - | F64: =IF(C64=0,"-",D64/C64) -> -
A65: D7 | B65: amortyzacja środków trwałych oraz wartości niematerialnych i prawnych | C65: 2537 | D65: =C65 -> 2537 | E65: =IF(C65=D65,"-",D65-C65) -> - | F65: =IF(C65=0,"-",D65/C65) -> 1
A66: D8 | B66: pozostałe koszty administracyjne | C66: 157 | D66: =C66 -> 157 | E66: =IF(C66=D66,"-",D66-C66) -> - | F66: =IF(C66=0,"-",D66/C66) -> 1
A67: F | B67: Pozostałe koszty (F1+...+F4) | C67: =C68+C69+C70+C71 -> 6942 | D67: =D68+D69+D70+D71 -> 6918 | E67: =IF(C67=D67,"-",D67-C67) -> -24 | F67: =IF(C67=0,"-",D67/C67) -> 0.9965
A68: F1 | B68: wydanie i utrzymanie kart ubezpieczenia | C68: 0 | D68: =C68 -> 0 | E68: =IF(C68=D68,"-",D68-C68) -> - | F68: =IF(C68=0,"-",D68/C68) -> -
A69: F2 | B69: rezerwa na zobowiązania wynikające z postępowań sądowych | C69: 0 | D69: =C69 -> 0 | E69: =IF(C69=D69,"-",D69-C69) -> - | F69: =IF(C69=0,"-",D69/C69) -> -
A70: F3 | B70: inne rezerwy | C70: 0 | D70: =C70 -> 0 | E70: =IF(C70=D70,"-",D70-C70) -> - | F70: =IF(C70=0,"-",D70/C70) -> -
A71: F4 | B71: inne koszty | C71: 6942 | D71: =C71-6385+6340+21 -> 6918 | E71: =IF(C71=D71,"-",D71-C71) -> -24 | F71: =IF(C71=0,"-",D71/C71) -> 0.9965
A72: H | B72: Koszty finansowe | C72: 57 | D72: =C72-32 -> 25 | E72: =IF(C72=D72,"-",D72-C72) -> -32 | F72: =IF(C72=0,"-",D72/C72) -> 0.4386
