Workbook
Name ___C: [0]!___C
Name __C: [0]!__C
Name _1_0_0kos: [1]plan!#REF!
Name _2_0_0ra: [1]plan!#REF!
Name _C: 'Razem OW'!_C
Name _C: Zachodniopomorski!_C
Name _C: 'Razem OW'!_C
Name A: 'Razem OW'!A
Name A: Zachodniopomorski!A
Name A: 'Razem OW'!A
Name A_2: [0]!A_2
Name aa: 'Razem OW'!aa
Name aa: Zachodniopomorski!aa
Name aa: 'Razem OW'!aa
Name aa_2: [0]!aa_2
Name B: [0]!B
Name BILANS: [2]plan!#REF!
Name BILANSSPZ: [2]plan!#REF!
Name BV: 'Razem OW'!BV
Name BV: Zachodniopomorski!BV
Name BV: 'Razem OW'!BV
Name cr: 'Razem OW'!cr
Name cr: Zachodniopomorski!cr
Name cr: 'Razem OW'!cr
Name d: 'Razem OW'!d
Name d: Zachodniopomorski!d
Name d: 'Razem OW'!d
Name depozyty: #REF!
Name g: [0]!g
Name koszty: [1]plan!#REF!
Name licznikn: #REF!
Name licznikr: #REF!
Name licznikz: #REF!
Name mn: 'Razem OW'!mn
Name mn: Zachodniopomorski!mn
Name mn: 'Razem OW'!mn
Name mon: 'Razem OW'!mon
Name mon: Zachodniopomorski!mon
Name mon: 'Razem OW'!mon
Name naleznosci: #REF!
Name PETLA: [3]!PETLA
Name rach1: #REF!
Name rach2: #REF!
Name rach3: #REF!
Name rgds: 'Razem OW'!rgds
Name rgds: Zachodniopomorski!rgds
Name rgds: 'Razem OW'!rgds
Name wybkosz1: #REF!
Name wybkosz2: #REF!
Name za: 'Razem OW'!za
Name za: Zachodniopomorski!za
Name za: 'Razem OW'!za

Sheet NFZ
A1: ZMIANA PLANU FINANSOWEGO NARODOWEGO FUNDUSZU ZDROWIA NA 2020 ROK Z DNIA 29 GRUDNIA 2020 R.
A2: Przychody i koszty Narodowego Funduszu Zdrowia - łącznie
E3: w tys. zł
A4: Poz. | B4: Wyszczególnienie | C4: Plan na 2020 rok | D4: Plan po zmianie | E4: Różnica kol.4-kol.3 | F4: Dynamika kol.4/kol.3
A5: 1 | B5: 2 | C5: 3 | D5: 4 | E5: 5 | F5: 6
A6: 1 | B6: Składka należna brutto w roku planowania równa przypisowi składki (1.1 + 1.2) | C6: =C7+C8 -> 93157823 | D6: =D7+D8 -> 93157823 | E6: =IF(C6=D6,"-",D6-C6) -> - | F6: =IF(C6=0,"-",D6/C6) -> 1
A7: 1.1 | B7: od ZUS | C7: 89819705 | D7: =C7 -> 89819705 | E7: =IF(C7=D7,"-",D7-C7) -> - | F7: =IF(C7=0,"-",D7/C7) -> 1
A8: 1.2 | B8: od KRUS | C8: 3338118 | D8: =C8 -> 3338118 | E8: =IF(C8=D8,"-",D8-C8) -> - | F8: =IF(C8=0,"-",D8/C8) -> 1
A9: 2 | B9: Planowany odpis aktualizujący składkę należną (2.1 + 2.2) | C9: =C10+C11 -> 0 | D9: =D10+D11 -> 0 | E9: =IF(C9=D9,"-",D9-C9) -> - | F9: =IF(C9=0,"-",D9/C9) -> -
A10: 2.1 | B10: w stosunku do ZUS | C10: 0 | D10: =C10 -> 0 | E10: =IF(C10=D10,"-",D10-C10) -> - | F10: =IF(C10=0,"-",D10/C10) -> -
A11: 2.2 | B11: w stosunku do KRUS | C11: 0 | D11: =C11 -> 0 | E11: =IF(C11=D11,"-",D11-C11) -> - | F11: =IF(C11=0,"-",D11/C11) -> -
A12: 3 | B12: Przychody ze składek z lat ubiegłych (3.1+3.2) | C12: =C13+C14 -> 115000 | D12: =D13+D14 -> 115000 | E12: =IF(C12=D12,"-",D12-C12) -> - | F12: =IF(C12=0,"-",D12/C12) -> 1
A13: 3.1 | B13: od ZUS | C13: 115000 | D13: =C13 -> 115000 | E13: =IF(C13=D13,"-",D13-C13) -> - | F13: =IF(C13=0,"-",D13/C13) -> 1
A14: 3.2 | B14: od KRUS | C14: 0 | D14: =C14 -> 0 | E14: =IF(C14=D14,"-",D14-C14) -> - | F14: =IF(C14=0,"-",D14/C14) -> -
A15: 4 | B15: Koszt poboru i ewidencjonowania składek (4.1 + 4.2) | C15: =C16+C17 -> 182821 | D15: =D16+D17 -> 182821 | E15: =IF(C15=D15,"-",D15-C15) -> - | F15: =IF(C15=0,"-",D15/C15) -> 1
A16: 4.1 | B16: koszty poboru i ewidencjonowania składek przez ZUS | C16: 179869 | D16: =C16 -> 179869 | E16: =IF(C16=D16,"-",D16-C16) -> - | F16: =IF(C16=0,"-",D16/C16) -> 1
A17: 4.2 | B17: koszty poboru i ewidencjonowania składek przez KRUS | C17: 2952 | D17: =C17 -> 2952 | E17: =IF(C17=D17,"-",D17-C17) -> - | F17: =IF(C17=0,"-",D17/C17) -> 1
A18: 5 | B18: Odpis dla Agencji Oceny Technologii Medycznych i Taryfikacji, o którym mowa w art. 31t ust. 5-9 ustawy | C18: 41848 | D18: =C18 -> 41848 | E18: =IF(C18=D18,"-",D18-C18) -> - | F18: =IF(C18=0,"-",D18/C18) -> 1
A19: A | B19: Przychody netto z działalności (1-2+3-4-5) + A1 + A2 + A3 + A4 + A5 | C19: =(C6-C9+C12-C15-C18)+C20+C21+C22+C23+C24 -> 96065167 | D19: =(D6-D9+D12-D15-D18)+D20+D21+D22+D23+D24 -> 96065167 | E19: =IF(C19=D19,"-",D19-C19) -> - | F19: =IF(C19=0,"-",D19/C19) -> 1
A20: A1 | B20: przychody wynikające z przepisów o koordynacji | C20: 305450 | D20: =C20 -> 305450 | E20: =IF(C20=D20,"-",D20-C20) -> - | F20: =IF(C20=0,"-",D20/C20) -> 1
A21: A2 | B21: przychody z tytułu realizacji zadań zleconych | C21: 107099 | D21: =C21 -> 107099 | E21: =IF(C21=D21,"-",D21-C21) -> - | F21: =IF(C21=0,"-",D21/C21) -> 1
A22: A3 | B22: dotacje z budżetu państwa na finansowanie zadań, o których mowa w art. 97 ust. 3 pkt 2b, 2c i 2e ustawy | C22: 202878 | D22: =C22 -> 202878 | E22: =IF(C22=D22,"-",D22-C22) -> - | F22: =IF(C22=0,"-",D22/C22) -> 1
A23: A4 | B23: dotacja z budżetu państwa na realizację zadań zespołów ratownictwa medycznego | C23: 2401586 | D23: =C23 -> 2401586 | E23: =IF(C23=D23,"-",D23-C23) -> - | F23: =IF(C23=0,"-",D23/C23) -> 1
A24: A5 | B24: dotacja podmiotowa z budżetu państwa, o której mowa w art. 97 ust. 8a ustawy | C24: 0 | D24: =C24 -> 0 | E24: =IF(C24=D24,"-",D24-C24) -> - | F24: =IF(C24=0,"-",D24/C24) -> -
A25: B | B25: Koszty realizacji zadań (B1 + B2 + B3 + B4 + B5 + B6 + B7) | C25: =C26+C27+C61+C62+C63+C64+C65 -> 105490758 | D25: =D26+D27+D61+D62+D63+D64+D65 -> 105557960 | E25: =IF(C25=D25,"-",D25-C25) -> 67202 | F25: =IF(C25=0,"-",D25/C25) -> 1
A26: B1 | B26: Obowiazkowy odpis na rezerwę ogólną | C26: 0 | D26: =C26 -> 0 | E26: =IF(C26=D26,"-",D26-C26) -> - | F26: =IF(C26=0,"-",D26/C26) -> -
A27: B2 | B27: Koszty świadczeń opieki zdrowotnej (B2.1 + … + B2.22) | C27: =C28+C29+C30+C37+C38+C39+C40+C41+C42+C43+C44+C45+C46+C47+C51+C52+C54+C55+C56+C57+C58+C60 -> 102183253 | D27: =D28+D29+D30+D37+D38+D39+D40+D41+D42+D43+D44+D45+D46+D47+D51+D52+D54+D55+D56+D57+D58+D60 -> 102250455 | E27: =IF(C27=D27,"-",D27-C27) -> 67202 | F27: =IF(C27=0,"-",D27/C27) -> 1
A28: B2.1 | B28: podstawowa opieka zdrowotna | C28: =CENTRALA!C7+'Razem OW'!C7 -> 13845775 | D28: =CENTRALA!D7+'Razem OW'!D7 -> 13845775 | E28: =IF(C28=D28,"-",D28-C28) -> - | F28: =IF(C28=0,"-",D28/C28) -> 1
A29: B2.2 | B29: ambulatoryjna opieka specjalistyczna | C29: =CENTRALA!C8+'Razem OW'!C8 -> 5787698 | D29: =CENTRALA!D8+'Razem OW'!D8 -> 5787698 | E29: =IF(C29=D29,"-",D29-C29) -> - | F29: =IF(C29=0,"-",D29/C29) -> 1
A30: B2.3 | B30: leczenie szpitalne, w tym: | C30: =CENTRALA!C9+'Razem OW'!C9 -> 55400999 | D30: =CENTRALA!D9+'Razem OW'!D9 -> 55468201 | E30: =IF(C30=D30,"-",D30-C30) -> 67202 | F30: =IF(C30=0,"-",D30/C30) -> 1
A31: B2.3.1 | B31: programy lekowe, w tym: | C31: =CENTRALA!C10+'Razem OW'!C10 -> 4990604 | D31: =CENTRALA!D10+'Razem OW'!D10 -> 4990604 | E31: =IF(C31=D31,"-",D31-C31) -> - | F31: =IF(C31=0,"-",D31/C31) -> 1
A32: B2.3.1.1 | B32: leki, środki spożywcze specjalnego przeznaczenia żywieniowego objęte programami lekowymi | C32: =CENTRALA!C11+'Razem OW'!C11 -> 4490409 | D32: =CENTRALA!D11+'Razem OW'!D11 -> 4490409 | E32: =IF(C32=D32,"-",D32-C32) -> - | F32: =IF(C32=0,"-",D32/C32) -> 1
A33: B2.3.2 | B33: chemioterapia, w tym: | C33: =CENTRALA!C12+'Razem OW'!C12 -> 1515464 | D33: =CENTRALA!D12+'Razem OW'!D12 -> 1515464 | E33: =IF(C33=D33,"-",D33-C33) -> - | F33: =IF(C33=0,"-",D33/C33) -> 1
A34: B2.3.2.1 | B34: leki stosowane w chemioterapii | C34: =CENTRALA!C13+'Razem OW'!C13 -> 664705 | D34: =CENTRALA!D13+'Razem OW'!D13 -> 664705 | E34: =IF(C34=D34,"-",D34-C34) -> - | F34: =IF(C34=0,"-",D34/C34) -> 1
A35: B2.3.3 | B35: ratunkowy dostęp do technologii lekowej | C35: =CENTRALA!C14+'Razem OW'!C14 -> 31407 | D35: =CENTRALA!D14+'Razem OW'!D14 -> 31407 | E35: =IF(C35=D35,"-",D35-C35) -> - | F35: =IF(C35=0,"-",D35/C35) -> 1
A36: B2.3.4 | B36: świadczenia wysokospecjalistyczne | C36: =CENTRALA!C15+'Razem OW'!C15 -> 191878 | D36: =CENTRALA!D15+'Razem OW'!D15 -> 191878 | E36: =IF(C36=D36,"-",D36-C36) -> - | F36: =IF(C36=0,"-",D36/C36) -> 1
A37: B2.4 | B37: opieka psychiatryczna i leczenie uzależnień | C37: =CENTRALA!C16+'Razem OW'!C16 -> 3277572 | D37: =CENTRALA!D16+'Razem OW'!D16 -> 3277572 | E37: =IF(C37=D37,"-",D37-C37) -> - | F37: =IF(C37=0,"-",D37/C37) -> 1
A38: B2.5 | B38: rehabilitacja lecznicza | C38: =CENTRALA!C17+'Razem OW'!C17 -> 3229595 | D38: =CENTRALA!D17+'Razem OW'!D17 -> 3229595 | E38: =IF(C38=D38,"-",D38-C38) -> - | F38: =IF(C38=0,"-",D38/C38) -> 1
A39: B2.6 | B39: świadczenia pielęgnacyjne i opiekuńcze w ramach opieki długoterminowej | C39: =CENTRALA!C18+'Razem OW'!C18 -> 2101884 | D39: =CENTRALA!D18+'Razem OW'!D18 -> 2101884 | E39: =IF(C39=D39,"-",D39-C39) -> - | F39: =IF(C39=0,"-",D39/C39) -> 1
... A60: B2.22 | B60: świadczenia udzielane za pośrednictwem systemu teleinformatycznego lub systemu łączności | C60: =CENTRALA!C39+'Razem OW'!C39 -> 0 | D60: =CENTRALA!D39+'Razem OW'!D39 -> 0 | E60: =IF(C60=D60,"-",D60-C60) -> - | F60: =IF(C60=0,"-",D60/C60) -> -
...

Sheet CENTRALA
A1: ZMIANA PLANU FINANSOWEGO NARODOWEGO FUNDUSZU ZDROWIA NA 2020 ROK Z DNIA 29 GRUDNIA 2020 R.
A2: Koszty Centrali Narodowego Funduszu Zdrowia
E3: w tys. zł
A4: Poz. | B4: Wyszczególnienie | C4: Plan na 2020 rok | D4: Plan po zmianie | E4: Różnica kol.4-kol.3 | F4: Dynamika kol.4/kol.3
A5: 1 | B5: 2 | C5: 3 | D5: 4 | E5: 5 | F5: 6
A6: B2 | B6: Koszty świadczeń opieki zdrowotnej (B2.1+...+B2.22) | C6: =C7+C8+C9+C16+C17+C18+C19+C20+C21+C22+C23+C24+C25+C26+C30+C31+C33+C34+C35+C36+C37+C39 -> 769370 | D6: =D7+D8+D9+D16+D17+D18+D19+D20+D21+D22+D23+D24+D25+D26+D30+D31+D33+D34+D35+D36+D37+D39 -> 769370 | E6: =IF(C6=D6,"-",D6-C6) -> - | F6: =IF(C6=0,"-",D6/C6) -> 1
A7: B2.1 | B7: podstawowa opieka zdrowotna | C7: 0 | D7: =C7 -> 0 | E7: =IF(C7=D7,"-",D7-C7) -> - | F7: =IF(C7=0,"-",D7/C7) -> -
A8: B2.2 | B8: ambulatoryjna opieka specjalistyczna | C8: 0 | D8: =C8 -> 0 | E8: =IF(C8=D8,"-",D8-C8) -> - | F8: =IF(C8=0,"-",D8/C8) -> -
A9: B2.3 | B9: leczenie szpitalne, w tym: | C9: 0 | D9: =C9 -> 0 | E9: =IF(C9=D9,"-",D9-C9) -> - | F9: =IF(C9=0,"-",D9/C9) -> -
A10: B2.3.1 | B10: programy lekowe, w tym: | C10: 0 | D10: =C10 -> 0 | E10: =IF(C10=D10,"-",D10-C10) -> - | F10: =IF(C10=0,"-",D10/C10) -> -
A11: B2.3.1.1 | B11: leki, środki spożywcze specjalnego przeznaczenia żywieniowego objęte programami lekowymi | C11: 0 | D11: =C11 -> 0 | E11: =IF(C11=D11,"-",D11-C11) -> - | F11: =IF(C11=0,"-",D11/C11) -> -
A12: B2.3.2 | B12: chemioterapia, w tym: | C12: 0 | D12: =C12 -> 0 | E12: =IF(C12=D12,"-",D12-C12) -> - | F12: =IF(C12=0,"-",D12/C12) -> -
A13: B2.3.2.1 | B13: leki stosowane w chemioterapii | C13: 0 | D13: =C13 -> 0 | E13: =IF(C13=D13,"-",D13-C13) -> - | F13: =IF(C13=0,"-",D13/C13) -> -
A14: B2.3.3 | B14: ratunkowy dostęp do technologii lekowej | C14: 0 | D14: =C14 -> 0 | E14: =IF(C14=D14,"-",D14-C14) -> - | F14: =IF(C14=0,"-",D14/C14) -> -
A15: B2.3.4 | B15: świadczenia wysokospecjalistyczne | C15: 0 | D15: =C15 -> 0 | E15: =IF(C15=D15,"-",D15-C15) -> - | F15: =IF(C15=0,"-",D15/C15) -> -
A16: B2.4 | B16: opieka psychiatryczna i leczenie uzależnień | C16: 0 | D16: =C16 -> 0 | E16: =IF(C16=D16,"-",D16-C16) -> - | F16: =IF(C16=0,"-",D16/C16) -> -
A17: B2.5 | B17: rehabilitacja lecznicza | C17: 0 | D17: =C17 -> 0 | E17: =IF(C17=D17,"-",D17-C17) -> - | F17: =IF(C17=0,"-",D17/C17) -> -
A18: B2.6 | B18: świadczenia pielęgnacyjne i opiekuńcze w ramach opieki długoterminowej | C18: 0 | D18: =C18 -> 0 | E18: =IF(C18=D18,"-",D18-C18) -> - | F18: =IF(C18=0,"-",D18/C18) -> -
... A25: B2.13 | B25: zaopatrzenie w wyroby medyczne oraz ich naprawa, o których mowa w ustawie o refundacji | C25: 0 | D25: =C25 -> 0 | E25: =IF(C25=D25,"-",D25-C25) -> - | F25: =IF(C25=0,"-",D25/C25) -> -
A26: B2.14 | B26: refundacja, z tego: | C26: 0 | D26: =SUM(D27:D29) -> 0 | E26: =IF(C26=D26,"-",D26-C26) -> - | F26: =IF(C26=0,"-",D26/C26) -> -
A27: B2.14.1 | B27: refundacja leków, środków spożywczych specjalnego przeznaczenia żywieniowego oraz wyrobów medycznych dostępnych w aptece na receptę | C27: 0 | D27: =C27 -> 0 | E27: =IF(C27=D27,"-",D27-C27) -> - | F27: =IF(C27=0,"-",D27/C27) -> -
A28: B2.14.2 | B28: refundacja leków, o których mowa w art. 15 ust. 2 pkt 17 ustawy | C28: 0 | D28: =C28 -> 0 | E28: =IF(C28=D28,"-",D28-C28) -> - | F28: =IF(C28=0,"-",D28/C28) -> -
A29: B2.14.3 | B29: refundacja środków spożywczych specjalnego przeznaczenia żywieniowego, o których mowa w art. 15 ust. 2 pkt 18 ustawy | C29: 0 | D29: =C29 -> 0 | E29: =IF(C29=D29,"-",D29-C29) -> - | F29: =IF(C29=0,"-",D29/C29) -> -
A30: B2.15 | B30: rezerwa na koszty realizacji zadań wynikajacych z przepisów o koordynacji | C30: 719370 | D30: =C30 -> 719370 | E30: =IF(C30=D30,"-",D30-C30) -> - | F30: =IF(C30=0,"-",D30/C30) -> 1
A31: B2.16 | B31: rezerwa na pokrycie kosztów świadczeń opieki zdrowotnej oraz refundacji leków, w tym: | C31: 0 | D31: =C31 -> 0 | E31: =IF(C31=D31,"-",D31-C31) -> - | F31: =IF(C31=0,"-",D31/C31) -> -
A32: B2.16.1 | B32: rezerwa, o której mowa w art. 118 ust. 2 pkt 2 lit. c ustawy | C32: 0 | D32: =C32 -> 0 | E32: =IF(C32=D32,"-",D32-C32) -> - | F32: =IF(C32=0,"-",D32/C32) -> -
A33: B2.17 | B33: rezerwa na koszty świadczeń opieki zdrowotnej w ramach migracji ubezpieczonych | C33: 0 | D33: =C33 -> 0 | E33: =IF(C33=D33,"-",D33-C33) -> - | F33: =IF(C33=0,"-",D33/C33) -> -
A34: B2.18 | B34: koszty świadczeń opieki zdrowotnej z lat ubiegłych | C34: 0 | D34: =C34 -> 0 | E34: =IF(C34=D34,"-",D34-C34) -> - | F34: =IF(C34=0,"-",D34/C34) -> -
A35: B2.19 | B35: rezerwa na koszty świadczeń opieki zdrowotnej udzielone w ramach transgranicznej opieki zdrowotnej | C35: 50000 | D35: =C35 -> 50000 | E35: =IF(C35=D35,"-",D35-C35) -> - | F35: =IF(C35=0,"-",D35/C35) -> 1
A36: B2.20 | B36: rezerwa na dofinansowanie programów polityki zdrowotnej na podstawie art. 48d ustawy | C36: 0 | D36: =C36 -> 0 | E36: =IF(C36=D36,"-",D36-C36) -> - | F36: =IF(C36=0,"-",D36/C36) -> -
A37: B2.21 | B37: koszty świadczeń opieki zdrowotnej w ramach programów pilotażowych, o których mowa w art. 48e ustawy, w tym: | C37: 0 | D37: =C37 -> 0 | E37: =IF(C37=D37,"-",D37-C37) -> - | F37: =IF(C37=0,"-",D37/C37) -> -
A38: B2.21.1 | B38: koszty świadczeń opieki zdrowotnej w ramach programów pilotażowych w centrach zdrowia psychicznego | C38: 0 | D38: =C38 -> 0 | E38: =IF(C38=D38,"-",D38-C38) -> - | F38: =IF(C38=0,"-",D38/C38) -> -
... A44: B7 | B44: Koszty finansowania leku, zgodnie z art. 43b ust. 7 ustawy | C44: 0 | D44: =C44 -> 0 | E44: =IF(C44=D44,"-",D44-C44) -> - | F44: =IF(C44=0,"-",D44/C44) -> -
A45: Bn | B45: Całkowity budżet na refundację (B2.3.1.1+B2.3.2.1+B2.3.3+B2.14+B2.16.1+B5+B7) | C45: =C11+C13+C14+C26+C32+C42+C44 -> 0 | D45: =D11+D13+D14+D26+D32+D42+D44 -> 0 | E45: =IF(C45=D45,"-",D45-C45) -> - | F45: =IF(C45=0,"-",D45/C45) -> -
A46: D | B46: Koszty administracyjne ( D1+...+D8 ) | C46: =C47+C48+C49+C57+C59+C65+C66+C64 -> 372532 | D46: =C46 -> 372532 | E46: =IF(C46=D46,"-",D46-C46) -> - | F46: =IF(C46=0,"-",D46/C46) -> 1
A47: D1 | B47: zużycie materiałów i energii | C47: 5647 | D47: =C47 -> 5647 | E47: =IF(C47=D47,"-",D47-C47) -> - | F47: =IF(C47=0,"-",D47/C47) -> 1
A48: D2 | B48: usługi obce | C48: 175052 | D48: =C48 -> 175052 | E48: =IF(C48=D48,"-",D48-C48) -> - | F48: =IF(C48=0,"-",D48/C48) -> 1
A49: D3 | B49: podatki i opłaty, z tego | C49: =C50+C52+C53+C54+C55+C56 -> 1968 | D49: =D50+D52+D53+D54+D55+D56 -> 1968 | E49: =IF(C49=D49,"-",D49-C49) -> - | F49: =IF(C49=0,"-",D49/C49) -> 1
A50: D3.1 | B50: podatki stanowiące dochody własne jednostek samorządu terytorialnego, w tym: | C50: 100 | D50: =C50 -> 100 | E50: =IF(C50=D50,"-",D50-C50) -> - | F50: =IF(C50=0,"-",D50/C50) -> 1
A51: D3.1.1 | B51: podatek od nieruchomości | C51: 100 | D51: =C51 -> 100 | E51: =IF(C51=D51,"-",D51-C51) -> - | F51: =IF(C51=0,"-",D51/C51) -> 1
...

Sheet Razem OW
A1: ZMIANA PLANU FINANSOWEGO NARODOWEGO FUNDUSZU ZDROWIA NA 2020 ROK Z DNIA 29 GRUDNIA 2020 R.
A2: Koszty oddziałów wojewódzkich NFZ - łącznie
E3: w tys. zł
A4: Poz. | B4: Wyszczególnienie | C4: Plan na 2020 rok | D4: Plan po zmianie | E4: Różnica kol.4-kol.3 | F4: Dynamika kol.4/kol.3
A5: 1 | B5: 2 | C5: 3 | D5: 4 | E5: 5 | F5: 6
A6: B2 | B6: Koszty świadczeń opieki zdrowotnej (B2.1+...+B2.22) | C6: =C7+C8+C9+C16+C17+C18+C19+C20+C21+C22+C23+C24+C25+C26+C30+C31+C33+C34+C35+C36+C37+C39 -> 101413883 | D6: =D7+D8+D9+D16+D17+D18+D19+D20+D21+D22+D23+D24+D25+D26+D30+D31+D33+D34+D35+D36+D37+D39 -> 101481085 | E6: =IF(C6=D6,"-",D6-C6) -> 67202 | F6: =IF(C6=0,"-",D6/C6) -> 1.0007
A7: B2.1 | B7: podstawowa opieka zdrowotna | C7: =Dolnośląski!C7+KujawskoPomorski!C7+Lubelski!C7+Lubuski!C7+Łódzki!C7+Małopolski!C7+Mazowiecki!C7+Opolski!C7+Podkarpacki!C7+Podlaski!C7+Pomorski!C7+Śląski!C7+Świętokrzyski!C7+WarmińskoMazurski!C7+Wielkopolski!C7+Zachodniopomorski!C7 -> 13845775 | D7: =Dolnośląski!D7+KujawskoPomorski!D7+Lubelski!D7+Lubuski!D7+Łódzki!D7+Małopolski!D7+Mazowiecki!D7+Opolski!D7+Podkarpacki!D7+Podlaski!D7+Pomorski!D7+Śląski!D7+Świętokrzyski!D7+WarmińskoMazurski!D7+Wielkopolski!D7+Zachodniopomorski!D7 -> 13845775 | E7: =IF(C7=D7,"-",D7-C7) -> - | F7: =IF(C7=0,"-",D7/C7) -> 1
A8: B2.2 | B8: ambulatoryjna opieka specjalistyczna | C8: =Dolnośląski!C8+KujawskoPomorski!C8+Lubelski!C8+Lubuski!C8+Łódzki!C8+Małopolski!C8+Mazowiecki!C8+Opolski!C8+Podkarpacki!C8+Podlaski!C8+Pomorski!C8+Śląski!C8+Świętokrzyski!C8+WarmińskoMazurski!C8+Wielkopolski!C8+Zachodniopomorski!C8 -> 5787698 | D8: =Dolnośląski!D8+KujawskoPomorski!D8+Lubelski!D8+Lubuski!D8+Łódzki!D8+Małopolski!D8+Mazowiecki!D8+Opolski!D8+Podkarpacki!D8+Podlaski!D8+Pomorski!D8+Śląski!D8+Świętokrzyski!D8+WarmińskoMazurski!D8+Wielkopolski!D8+Zachodniopomorski!D8 -> 5787698 | E8: =IF(C8=D8,"-",D8-C8) -> - | F8: =IF(C8=0,"-",D8/C8) -> 1
A9: B2.3 | B9: leczenie szpitalne, w tym: | C9: =Dolnośląski!C9+KujawskoPomorski!C9+Lubelski!C9+Lubuski!C9+Łódzki!C9+Małopolski!C9+Mazowiecki!C9+Opolski!C9+Podkarpacki!C9+Podlaski!C9+Pomorski!C9+Śląski!C9+Świętokrzyski!C9+WarmińskoMazurski!C9+Wielkopolski!C9+Zachodniopomorski!C9 -> 55400999 | D9: =Dolnośląski!D9+KujawskoPomorski!D9+Lubelski!D9+Lubuski!D9+Łódzki!D9+Małopolski!D9+Mazowiecki!D9+Opolski!D9+Podkarpacki!D9+Podlaski!D9+Pomorski!D9+Śląski!D9+Świętokrzyski!D9+WarmińskoMazurski!D9+Wielkopolski!D9+Zachodniopomorski!D9 -> 55468201 | E9: =IF(C9=D9,"-",D9-C9) -> 67202 | F9: =IF(C9=0,"-",D9/C9) -> 1.0012
A10: B2.3.1 | B10: programy lekowe, w tym: | C10: =Dolnośląski!C10+KujawskoPomorski!C10+Lubelski!C10+Lubuski!C10+Łódzki!C10+Małopolski!C10+Mazowiecki!C10+Opolski!C10+Podkarpacki!C10+Podlaski!C10+Pomorski!C10+Śląski!C10+Świętokrzyski!C10+WarmińskoMazurski!C10+Wielkopolski!C10+Zachodniopomorski!C10 -> 4990604 | D10: =Dolnośląski!D10+KujawskoPomorski!D10+Lubelski!D10+Lubuski!D10+Łódzki!D10+Małopolski!D10+Mazowiecki!D10+Opolski!D10+Podkarpacki!D10+Podlaski!D10+Pomorski!D10+Śląski!D10+Świętokrzyski!D10+WarmińskoMazurski!D10+Wielkopolski!D10+Zachodniopomorski!D10 -> 4990604 | E10: =IF(C10=D10,"-",D10-C10) -> - | F10: =IF(C10=0,"-",D10/C10) -> 1
A11: B2.3.1.1 | B11: leki, środki spożywcze specjalnego przeznaczenia żywieniowego objęte programami lekowymi | C11: =Dolnośląski!C11+KujawskoPomorski!C11+Lubelski!C11+Lubuski!C11+Łódzki!C11+Małopolski!C11+Mazowiecki!C11+Opolski!C11+Podkarpacki!C11+Podlaski!C11+Pomorski!C11+Śląski!C11+Świętokrzyski!C11+WarmińskoMazurski!C11+Wielkopolski!C11+Zachodniopomorski!C11 -> 4490409 | D11: =Dolnośląski!D11+KujawskoPomorski!D11+Lubelski!D11+Lubuski!D11+Łódzki!D11+Małopolski!D11+Mazowiecki!D11+Opolski!D11+Podkarpacki!D11+Podlaski!D11+Pomorski!D11+Śląski!D11+Świętokrzyski!D11+WarmińskoMazurski!D11+Wielkopolski!D11+Zachodniopomorski!D11 -> 4490409 | E11: =IF(C11=D11,"-",D11-C11) -> - | F11: =IF(C11=0,"-",D11/C11) -> 1
A12: B2.3.2 | B12: chemioterapia, w tym: | C12: =Dolnośląski!C12+KujawskoPomorski!C12+Lubelski!C12+Lubuski!C12+Łódzki!C12+Małopolski!C12+Mazowiecki!C12+Opolski!C12+Podkarpacki!C12+Podlaski!C12+Pomorski!C12+Śląski!C12+Świętokrzyski!C12+WarmińskoMazurski!C12+Wielkopolski!C12+Zachodniopomorski!C12 -> 1515464 | D12: =Dolnośląski!D12+KujawskoPomorski!D12+Lubelski!D12+Lubuski!D12+Łódzki!D12+Małopolski!D12+Mazowiecki!D12+Opolski!D12+Podkarpacki!D12+Podlaski!D12+Pomorski!D12+Śląski!D12+Świętokrzyski!D12+WarmińskoMazurski!D12+Wielkopolski!D12+Zachodniopomorski!D12 -> 1515464 | E12: =IF(C12=D12,"-",D12-C12) -> - | F12: =IF(C12=0,"-",D12/C12) -> 1
A13: B2.3.2.1 | B13: leki stosowane w chemioterapii | C13: =Dolnośląski!C13+KujawskoPomorski!C13+Lubelski!C13+Lubuski!C13+Łódzki!C13+Małopolski!C13+Mazowiecki!C13+Opolski!C13+Podkarpacki!C13+Podlaski!C13+Pomorski!C13+Śląski!C13+Świętokrzyski!C13+WarmińskoMazurski!C13+Wielkopolski!C13+Zachodniopomorski!C13 -> 664705 | D13: =Dolnośląski!D13+KujawskoPomorski!D13+Lubelski!D13+Lubuski!D13+Łódzki!D13+Małopolski!D13+Mazowiecki!D13+Opolski!D13+Podkarpacki!D13+Podlaski!D13+Pomorski!D13+Śląski!D13+Świętokrzyski!D13+WarmińskoMazurski!D13+Wielkopolski!D13+Zachodniopomorski!D13 -> 664705 | E13: =IF(C13=D13,"-",D13-C13) -> - | F13: =IF(C13=0,"-",D13/C13) -> 1
A14: B2.3.3 | B14: ratunkowy dostęp do technologii lekowej | C14: =Dolnośląski!C14+KujawskoPomorski!C14+Lubelski!C14+Lubuski!C14+Łódzki!C14+Małopolski!C14+Mazowiecki!C14+Opolski!C14+Podkarpacki!C14+Podlaski!C14+Pomorski!C14+Śląski!C14+Świętokrzyski!C14+WarmińskoMazurski!C14+Wielkopolski!C14+Zachodniopomorski!C14 -> 31407 | D14: =Dolnośląski!D14+KujawskoPomorski!D14+Lubelski!D14+Lubuski!D14+Łódzki!D14+Małopolski!D14+Mazowiecki!D14+Opolski!D14+Podkarpacki!D14+Podlaski!D14+Pomorski!D14+Śląski!D14+Świętokrzyski!D14+WarmińskoMazurski!D14+Wielkopolski!D14+Zachodniopomorski!D14 -> 31407 | E14: =IF(C14=D14,"-",D14-C14) -> - | F14: =IF(C14=0,"-",D14/C14) -> 1
A15: B2.3.4 | B15: świadczenia wysokospecjalistyczne | C15: =Dolnośląski!C15+KujawskoPomorski!C15+Lubelski!C15+Lubuski!C15+Łódzki!C15+Małopolski!C15+Mazowiecki!C15+Opolski!C15+Podkarpacki!C15+Podlaski!C15+Pomorski!C15+Śląski!C15+Świętokrzyski!C15+WarmińskoMazurski!C15+Wielkopolski!C15+Zachodniopomorski!C15 -> 191878 | D15: =Dolnośląski!D15+KujawskoPomorski!D15+Lubelski!D15+Lubuski!D15+Łódzki!D15+Małopolski!D15+Mazowiecki!D15+Opolski!D15+Podkarpacki!D15+Podlaski!D15+Pomorski!D15+Śląski!D15+Świętokrzyski!D15+WarmińskoMazurski!D15+Wielkopolski!D15+Zachodniopomorski!D15 -> 191878 | E15: =IF(C15=D15,"-",D15-C15) -> - | F15: =IF(C15=0,"-",D15/C15) -> 1
A16: B2.4 | B16: opieka psychiatryczna i leczenie uzależnień | C16: =Dolnośląski!C16+KujawskoPomorski!C16+Lubelski!C16+Lubuski!C16+Łódzki!C16+Małopolski!C16+Mazowiecki!C16+Opolski!C16+Podkarpacki!C16+Podlaski!C16+Pomorski!C16+Śląski!C16+Świętokrzyski!C16+WarmińskoMazurski!C16+Wielkopolski!C16+Zachodniopomorski!C16 -> 3277572 | D16: =Dolnośląski!D16+KujawskoPomorski!D16+Lubelski!D16+Lubuski!D16+Łódzki!D16+Małopolski!D16+Mazowiecki!D16+Opolski!D16+Podkarpacki!D16+Podlaski!D16+Pomorski!D16+Śląski!D16+Świętokrzyski!D16+WarmińskoMazurski!D16+Wielkopolski!D16+Zachodniopomorski!D16 -> 3277572 | E16: =IF(C16=D16,"-",D16-C16) -> - | F16: =IF(C16=0,"-",D16/C16) -> 1
A17: B2.5 | B17: rehabilitacja lecznicza | C17: =Dolnośląski!C17+KujawskoPomorski!C17+Lubelski!C17+Lubuski!C17+Łódzki!C17+Małopolski!C17+Mazowiecki!C17+Opolski!C17+Podkarpacki!C17+Podlaski!C17+Pomorski!C17+Śląski!C17+Świętokrzyski!C17+WarmińskoMazurski!C17+Wielkopolski!C17+Zachodniopomorski!C17 -> 3229595 | D17: =Dolnośląski!D17+KujawskoPomorski!D17+Lubelski!D17+Lubuski!D17+Łódzki!D17+Małopolski!D17+Mazowiecki!D17+Opolski!D17+Podkarpacki!D17+Podlaski!D17+Pomorski!D17+Śląski!D17+Świętokrzyski!D17+WarmińskoMazurski!D17+Wielkopolski!D17+Zachodniopomorski!D17 -> 3229595 | E17: =IF(C17=D17,"-",D17-C17) -> - | F17: =IF(C17=0,"-",D17/C17) -> 1
A18: B2.6 | B18: świadczenia pielęgnacyjne i opiekuńcze w ramach opieki długoterminowej | C18: =Dolnośląski!C18+KujawskoPomorski!C18+Lubelski!C18+Lubuski!C18+Łódzki!C18+Małopolski!C18+Mazowiecki!C18+Opolski!C18+Podkarpacki!C18+Podlaski!C18+Pomorski!C18+Śląski!C18+Świętokrzyski!C18+WarmińskoMazurski!C18+Wielkopolski!C18+Zachodniopomorski!C18 -> 2101884 | D18: =Dolnośląski!D18+KujawskoPomorski!D18+Lubelski!D18+Lubuski!D18+Łódzki!D18+Małopolski!D18+Mazowiecki!D18+Opolski!D18+Podkarpacki!D18+Podlaski!D18+Pomorski!D18+Śląski!D18+Świętokrzyski!D18+WarmińskoMazurski!D18+Wielkopolski!D18+Zachodniopomorski!D18 -> 2101884 | E18: =IF(C18=D18,"-",D18-C18) -> - | F18: =IF(C18=0,"-",D18/C18) -> 1
... A44: B7 | B44: Koszty finansowania leku, zgodnie z art. 43b ust. 7 ustawy | C44: =Dolnośląski!C44+KujawskoPomorski!C44+Lubelski!C44+Lubuski!C44+Łódzki!C44+Małopolski!C44+Mazowiecki!C44+Opolski!C44+Podkarpacki!C44+Podlaski!C44+Pomorski!C44+Śląski!C44+Świętokrzyski!C44+WarmińskoMazurski!C44+Wielkopolski!C44+Zachodniopomorski!C44 -> 11000 | D44: =Dolnośląski!D44+KujawskoPomorski!D44+Lubelski!D44+Lubuski!D44+Łódzki!D44+Małopolski!D44+Mazowiecki!D44+Opolski!D44+Podkarpacki!D44+Podlaski!D44+Pomorski!D44+Śląski!D44+Świętokrzyski!D44+WarmińskoMazurski!D44+Wielkopolski!D44+Zachodniopomorski!D44 -> 11000 | E44: =IF(C44=D44,"-",D44-C44) -> - | F44: =IF(C44=0,"-",D44/C44) -> 1
A45: Bn | B45: Całkowity budżet na refundację (B2.3.1.1+B2.3.2.1+B2.3.3+B2.14+B2.16.1+B5+B7) | C45: =C11+C13+C14+C26+C32+C42+C44 -> 14841592 | D45: =D11+D13+D14+D26+D32+D42+D44 -> 14841592 | E45: =IF(C45=D45,"-",D45-C45) -> - | F45: =IF(C45=0,"-",D45/C45) -> 1
A46: D | B46: Koszty administracyjne ( D1+...+D8 ) | C46: =C47+C48+C49+C57+C59+C65+C66+C64 -> 594486 | D46: =Dolnośląski!D46+KujawskoPomorski!D46+Lubelski!D46+Lubuski!D46+Łódzki!D46+Małopolski!D46+Mazowiecki!D46+Opolski!D46+Podkarpacki!D46+Podlaski!D46+Pomorski!D46+Śląski!D46+Świętokrzyski!D46+WarmińskoMazurski!D46+Wielkopolski!D46+Zachodniopomorski!D46 -> 594486 | E46: =IF(C46=D46,"-",D46-C46) -> - | F46: =IF(C46=0,"-",D46/C46) -> 1
A47: D1 | B47: zużycie materiałów i energii | C47: =Dolnośląski!C47+KujawskoPomorski!C47+Lubelski!C47+Lubuski!C47+Łódzki!C47+Małopolski!C47+Mazowiecki!C47+Opolski!C47+Podkarpacki!C47+Podlaski!C47+Pomorski!C47+Śląski!C47+Świętokrzyski!C47+WarmińskoMazurski!C47+Wielkopolski!C47+Zachodniopomorski!C47 -> 23279 | D47: =Dolnośląski!D47+KujawskoPomorski!D47+Lubelski!D47+Lubuski!D47+Łódzki!D47+Małopolski!D47+Mazowiecki!D47+Opolski!D47+Podkarpacki!D47+Podlaski!D47+Pomorski!D47+Śląski!D47+Świętokrzyski!D47+WarmińskoMazurski!D47+Wielkopolski!D47+Zachodniopomorski!D47 -> 23279 | E47: =IF(C47=D47,"-",D47-C47) -> - | F47: =IF(C47=0,"-",D47/C47) -> 1
A48: D2 | B48: usługi obce | C48: =Dolnośląski!C48+KujawskoPomorski!C48+Lubelski!C48+Lubuski!C48+Łódzki!C48+Małopolski!C48+Mazowiecki!C48+Opolski!C48+Podkarpacki!C48+Podlaski!C48+Pomorski!C48+Śląski!C48+Świętokrzyski!C48+WarmińskoMazurski!C48+Wielkopolski!C48+Zachodniopomorski!C48 -> 93089 | D48: =Dolnośląski!D48+KujawskoPomorski!D48+Lubelski!D48+Lubuski!D48+Łódzki!D48+Małopolski!D48+Mazowiecki!D48+Opolski!D48+Podkarpacki!D48+Podlaski!D48+Pomorski!D48+Śląski!D48+Świętokrzyski!D48+WarmińskoMazurski!D48+Wielkopolski!D48+Zachodniopomorski!D48 -> 93089 | E48: =IF(C48=D48,"-",D48-C48) -> - | F48: =IF(C48=0,"-",D48/C48) -> 1
A49: D3 | B49: podatki i opłaty, z tego | C49: =C50+C52+C53+C54+C55+C56 -> 2745 | D49: =D50+D52+D53+D54+D55+D56 -> 2745 | E49: =IF(C49=D49,"-",D49-C49) -> - | F49: =IF(C49=0,"-",D49/C49) -> 1
A50: D3.1 | B50: podatki stanowiące dochody własne jednostek samorządu terytorialnego, w tym: | C50: =Dolnośląski!C50+KujawskoPomorski!C50+Lubelski!C50+Lubuski!C50+Łódzki!C50+Małopolski!C50+Mazowiecki!C50+Opolski!C50+Podkarpacki!C50+Podlaski!C50+Pomorski!C50+Śląski!C50+Świętokrzyski!C50+WarmińskoMazurski!C50+Wielkopolski!C50+Zachodniopomorski!C50 -> 572 | D50: =Dolnośląski!D50+KujawskoPomorski!D50+Lubelski!D50+Lubuski!D50+Łódzki!D50+Małopolski!D50+Mazowiecki!D50+Opolski!D50+Podkarpacki!D50+Podlaski!D50+Pomorski!D50+Śląski!D50+Świętokrzyski!D50+WarmińskoMazurski!D50+Wielkopolski!D50+Zachodniopomorski!D50 -> 572 | E50: =IF(C50=D50,"-",D50-C50) -> - | F50: =IF(C50=0,"-",D50/C50) -> 1
A51: D3.1.1 | B51: podatek od nieruchomości | C51: =Dolnośląski!C51+KujawskoPomorski!C51+Lubelski!C51+Lubuski!C51+Łódzki!C51+Małopolski!C51+Mazowiecki!C51+Opolski!C51+Podkarpacki!C51+Podlaski!C51+Pomorski!C51+Śląski!C51+Świętokrzyski!C51+WarmińskoMazurski!C51+Wielkopolski!C51+Zachodniopomorski!C51 -> 569 | D51: =Dolnośląski!D51+KujawskoPomorski!D51+Lubelski!D51+Lubuski!D51+Łódzki!D51+Małopolski!D51+Mazowiecki!D51+Opolski!D51+Podkarpacki!D51+Podlaski!D51+Pomorski!D51+Śląski!D51+Świętokrzyski!D51+WarmińskoMazurski!D51+Wielkopolski!D51+Zachodniopomorski!D51 -> 569 | E51: =IF(C51=D51,"-",D51-C51) -> - | F51: =IF(C51=0,"-",D51/C51) -> 1
A52: D3.2 | B52: opłaty stanowiące dochody własne jednostek samorządu terytorialnego | C52: =Dolnośląski!C52+KujawskoPomorski!C52+Lubelski!C52+Lubuski!C52+Łódzki!C52+Małopolski!C52+Mazowiecki!C52+Opolski!C52+Podkarpacki!C52+Podlaski!C52+Pomorski!C52+Śląski!C52+Świętokrzyski!C52+WarmińskoMazurski!C52+Wielkopolski!C52+Zachodniopomorski!C52 -> 673 | D52: =Dolnośląski!D52+KujawskoPomorski!D52+Lubelski!D52+Lubuski!D52+Łódzki!D52+Małopolski!D52+Mazowiecki!D52+Opolski!D52+Podkarpacki!D52+Podlaski!D52+Pomorski!D52+Śląski!D52+Świętokrzyski!D52+WarmińskoMazurski!D52+Wielkopolski!D52+Zachodniopomorski!D52 -> 673 | E52: =IF(C52=D52,"-",D52-C52) -> - | F52: =IF(C52=0,"-",D52/C52) -> 1
A53: D3.3 | B53: VAT | C53: =Dolnośląski!C53+KujawskoPomorski!C53+Lubelski!C53+Lubuski!C53+Łódzki!C53+Małopolski!C53+Mazowiecki!C53+Opolski!C53+Podkarpacki!C53+Podlaski!C53+Pomorski!C53+Śląski!C53+Świętokrzyski!C53+WarmińskoMazurski!C53+Wielkopolski!C53+Zachodniopomorski!C53 -> 8 | D53: =Dolnośląski!D53+KujawskoPomorski!D53+Lubelski!D53+Lubuski!D53+Łódzki!D53+Małopolski!D53+Mazowiecki!D53+Opolski!D53+Podkarpacki!D53+Podlaski!D53+Pomorski!D53+Śląski!D53+Świętokrzyski!D53+WarmińskoMazurski!D53+Wielkopolski!D53+Zachodniopomorski!D53 -> 8 | E53: =IF(C53=D53,"-",D53-C53) -> - | F53: =IF(C53=0,"-",D53/C53) -> 1
A54: D3.4 | B54: podatek akcyzowy | C54: =Dolnośląski!C54+KujawskoPomorski!C54+Lubelski!C54+Lubuski!C54+Łódzki!C54+Małopolski!C54+Mazowiecki!C54+Opolski!C54+Podkarpacki!C54+Podlaski!C54+Pomorski!C54+Śląski!C54+Świętokrzyski!C54+WarmińskoMazurski!C54+Wielkopolski!C54+Zachodniopomorski!C54 -> 0 | D54: =Dolnośląski!D54+KujawskoPomorski!D54+Lubelski!D54+Lubuski!D54+Łódzki!D54+Małopolski!D54+Mazowiecki!D54+Opolski!D54+Podkarpacki!D54+Podlaski!D54+Pomorski!D54+Śląski!D54+Świętokrzyski!D54+WarmińskoMazurski!D54+Wielkopolski!D54+Zachodniopomorski!D54 -> 0 | E54: =IF(C54=D54,"-",D54-C54) -> - | F54: =IF(C54=0,"-",D54/C54) -> -
A55: D3.5 | B55: wpłaty na PFRON | C55: =Dolnośląski!C55+KujawskoPomorski!C55+Lubelski!C55+Lubuski!C55+Łódzki!C55+Małopolski!C55+Mazowiecki!C55+Opolski!C55+Podkarpacki!C55+Podlaski!C55+Pomorski!C55+Śląski!C55+Świętokrzyski!C55+WarmińskoMazurski!C55+Wielkopolski!C55+Zachodniopomorski!C55 -> 1108 | D55: =Dolnośląski!D55+KujawskoPomorski!D55+Lubelski!D55+Lubuski!D55+Łódzki!D55+Małopolski!D55+Mazowiecki!D55+Opolski!D55+Podkarpacki!D55+Podlaski!D55+Pomorski!D55+Śląski!D55+Świętokrzyski!D55+WarmińskoMazurski!D55+Wielkopolski!D55+Zachodniopomorski!D55 -> 1108 | E55: =IF(C55=D55,"-",D55-C55) -> - | F55: =IF(C55=0,"-",D55/C55) -> 1
A56: D3.6 | B56: inne | C56: =Dolnośląski!C56+KujawskoPomorski!C56+Lubelski!C56+Lubuski!C56+Łódzki!C56+Małopolski!C56+Mazowiecki!C56+Opolski!C56+Podkarpacki!C56+Podlaski!C56+Pomorski!C56+Śląski!C56+Świętokrzyski!C56+WarmińskoMazurski!C56+Wielkopolski!C56+Zachodniopomorski!C56 -> 384 | D56: =Dolnośląski!D56+KujawskoPomorski!D56+Lubelski!D56+Lubuski!D56+Łódzki!D56+Małopolski!D56+Mazowiecki!D56+Opolski!D56+Podkarpacki!D56+Podlaski!D56+Pomorski!D56+Śląski!D56+Świętokrzyski!D56+WarmińskoMazurski!D56+Wielkopolski!D56+Zachodniopomorski!D56 -> 384 | E56: =IF(C56=D56,"-",D56-C56) -> - | F56: =IF(C56=0,"-",D56/C56) -> 1
A57: D4 | B57: wynagrodzenia, w tym: | C57: =Dolnośląski!C57+KujawskoPomorski!C57+Lubelski!C57+Lubuski!C57+Łódzki!C57+Małopolski!C57+Mazowiecki!C57+Opolski!C57+Podkarpacki!C57+Podlaski!C57+Pomorski!C57+Śląski!C57+Świętokrzyski!C57+WarmińskoMazurski!C57+Wielkopolski!C57+Zachodniopomorski!C57 -> 341167 | D57: =Dolnośląski!D57+KujawskoPomorski!D57+Lubelski!D57+Lubuski!D57+Łódzki!D57+Małopolski!D57+Mazowiecki!D57+Opolski!D57+Podkarpacki!D57+Podlaski!D57+Pomorski!D57+Śląski!D57+Świętokrzyski!D57+WarmińskoMazurski!D57+Wielkopolski!D57+Zachodniopomorski!D57 -> 341167 | E57: =IF(C57=D57,"-",D57-C57) -> - | F57: =IF(C57=0,"-",D57/C57) -> 1
A58: D4.1 | B58: wynagrodzenia bezosobowe | C58: =Dolnośląski!C58+KujawskoPomorski!C58+Lubelski!C58+Lubuski!C58+Łódzki!C58+Małopolski!C58+Mazowiecki!C58+Opolski!C58+Podkarpacki!C58+Podlaski!C58+Pomorski!C58+Śląski!C58+Świętokrzyski!C58+WarmińskoMazurski!C58+Wielkopolski!C58+Zachodniopomorski!C58 -> 822 | D58: =Dolnośląski!D58+KujawskoPomorski!D58+Lubelski!D58+Lubuski!D58+Łódzki!D58+Małopolski!D58+Mazowiecki!D58+Opolski!D58+Podkarpacki!D58+Podlaski!D58+Pomorski!D58+Śląski!D58+Świętokrzyski!D58+WarmińskoMazurski!D58+Wielkopolski!D58+Zachodniopomorski!D58 -> 822 | E58: =IF(C58=D58,"-",D58-C58) -> - | F58: =IF(C58=0,"-",D58/C58) -> 1
A59: D5 | B59: ubezpieczenie społeczne i inne świadczenia, z tego: | C59: =C60+C61+C62+C63 -> 76414 | D59: =D60+D61+D62+D63 -> 76414 | E59: =IF(C59=D59,"-",D59-C59) -> - | F59: =IF(C59=0,"-",D59/C59) -> 1
A60: D5.1 | B60: składki na Fundusz Ubezpieczeń Społecznych | C60: =Dolnośląski!C60+KujawskoPomorski!C60+Lubelski!C60+Lubuski!C60+Łódzki!C60+Małopolski!C60+Mazowiecki!C60+Opolski!C60+Podkarpacki!C60+Podlaski!C60+Pomorski!C60+Śląski!C60+Świętokrzyski!C60+WarmińskoMazurski!C60+Wielkopolski!C60+Zachodniopomorski!C60 -> 58441 | D60: =Dolnośląski!D60+KujawskoPomorski!D60+Lubelski!D60+Lubuski!D60+Łódzki!D60+Małopolski!D60+Mazowiecki!D60+Opolski!D60+Podkarpacki!D60+Podlaski!D60+Pomorski!D60+Śląski!D60+Świętokrzyski!D60+WarmińskoMazurski!D60+Wielkopolski!D60+Zachodniopomorski!D60 -> 58441 | E60: =IF(C60=D60,"-",D60-C60) -> - | F60: =IF(C60=0,"-",D60/C60) -> 1
A61: D5.2 | B61: składki na Fundusz Pracy | C61: =Dolnośląski!C61+KujawskoPomorski!C61+Lubelski!C61+Lubuski!C61+Łódzki!C61+Małopolski!C61+Mazowiecki!C61+Opolski!C61+Podkarpacki!C61+Podlaski!C61+Pomorski!C61+Śląski!C61+Świętokrzyski!C61+WarmińskoMazurski!C61+Wielkopolski!C61+Zachodniopomorski!C61 -> 8289 | D61: =Dolnośląski!D61+KujawskoPomorski!D61+Lubelski!D61+Lubuski!D61+Łódzki!D61+Małopolski!D61+Mazowiecki!D61+Opolski!D61+Podkarpacki!D61+Podlaski!D61+Pomorski!D61+Śląski!D61+Świętokrzyski!D61+WarmińskoMazurski!D61+Wielkopolski!D61+Zachodniopomorski!D61 -> 8289 | E61: =IF(C61=D61,"-",D61-C61) -> - | F61: =IF(C61=0,"-",D61/C61) -> 1
A62: D5.3 | B62: składki na Fundusz Gwarantowanych Świadczeń Pracowniczych | C62: =Dolnośląski!C62+KujawskoPomorski!C62+Lubelski!C62+Lubuski!C62+Łódzki!C62+Małopolski!C62+Mazowiecki!C62+Opolski!C62+Podkarpacki!C62+Podlaski!C62+Pomorski!C62+Śląski!C62+Świętokrzyski!C62+WarmińskoMazurski!C62+Wielkopolski!C62+Zachodniopomorski!C62 -> 0 | D62: =Dolnośląski!D62+KujawskoPomorski!D62+Lubelski!D62+Lubuski!D62+Łódzki!D62+Małopolski!D62+Mazowiecki!D62+Opolski!D62+Podkarpacki!D62+Podlaski!D62+Pomorski!D62+Śląski!D62+Świętokrzyski!D62+WarmińskoMazurski!D62+Wielkopolski!D62+Zachodniopomorski!D62 -> 0 | E62: =IF(C62=D62,"-",D62-C62) -> - | F62: =IF(C62=0,"-",D62/C62) -> -
A63: D5.4 | B63: pozostałe świadczenia | C63: =Dolnośląski!C63+KujawskoPomorski!C63+Lubelski!C63+Lubuski!C63+Łódzki!C63+Małopolski!C63+Mazowiecki!C63+Opolski!C63+Podkarpacki!C63+Podlaski!C63+Pomorski!C63+Śląski!C63+Świętokrzyski!C63+WarmińskoMazurski!C63+Wielkopolski!C63+Zachodniopomorski!C63 -> 9684 | D63: =Dolnośląski!D63+KujawskoPomorski!D63+Lubelski!D63+Lubuski!D63+Łódzki!D63+Małopolski!D63+Mazowiecki!D63+Opolski!D63+Podkarpacki!D63+Podlaski!D63+Pomorski!D63+Śląski!D63+Świętokrzyski!D63+WarmińskoMazurski!D63+Wielkopolski!D63+Zachodniopomorski!D63 -> 9684 | E63: =IF(C63=D63,"-",D63-C63) -> - | F63: =IF(C63=0,"-",D63/C63) -> 1
A64: D6 | B64: koszty funkcjonowania Rady Funduszu | C64: =Dolnośląski!C64+KujawskoPomorski!C64+Lubelski!C64+Lubuski!C64+Łódzki!C64+Małopolski!C64+Mazowiecki!C64+Opolski!C64+Podkarpacki!C64+Podlaski!C64+Pomorski!C64+Śląski!C64+Świętokrzyski!C64+WarmińskoMazurski!C64+Wielkopolski!C64+Zachodniopomorski!C64 -> 0 | D64: =Dolnośląski!D64+KujawskoPomorski!D64+Lubelski!D64+Lubuski!D64+Łódzki!D64+Małopolski!D64+Mazowiecki!D64+Opolski!D64+Podkarpacki!D64+Podlaski!D64+Pomorski!D64+Śląski!D64+Świętokrzyski!D64+WarmińskoMazurski!D64+Wielkopolski!D64+Zachodniopomorski!D64 -> 0 | E64: =IF(C64=D64,"-",D64-C64) -> - | F64: =IF(C64=0,"-",D64/C64) -> -
A65: D7 | B65: amortyzacja środków trwałych oraz wartości niematerialnych i prawnych | C65: =Dolnośląski!C65+KujawskoPomorski!C65+Lubelski!C65+Lubuski!C65+Łódzki!C65+Małopolski!C65+Mazowiecki!C65+Opolski!C65+Podkarpacki!C65+Podlaski!C65+Pomorski!C65+Śląski!C65+Świętokrzyski!C65+WarmińskoMazurski!C65+Wielkopolski!C65+Zachodniopomorski!C65 -> 53599 | D65: =Dolnośląski!D65+KujawskoPomorski!D65+Lubelski!D65+Lubuski!D65+Łódzki!D65+Małopolski!D65+Mazowiecki!D65+Opolski!D65+Podkarpacki!D65+Podlaski!D65+Pomorski!D65+Śląski!D65+Świętokrzyski!D65+WarmińskoMazurski!D65+Wielkopolski!D65+Zachodniopomorski!D65 -> 53599 | E65: =IF(C65=D65,"-",D65-C65) -> - | F65: =IF(C65=0,"-",D65/C65) -> 1
...

Sheet Dolnośląski
A1: ZMIANA PLANU FINANSOWEGO NARODOWEGO FUNDUSZU ZDROWIA NA 2020 ROK Z DNIA 29 GRUDNIA 2020 R.
A2: Koszty Dolnośląskiego Oddziału Wojewódzkiego Narodowego Funduszu Zdrowia
E3: w tys. zł
A4: Poz. | B4: Wyszczególnienie | C4: Plan na 2020 rok | D4: Plan po zmianie | E4: Różnica kol.4-kol.3 | F4: Dynamika kol.4/kol.3
A5: 1 | B5: 2 | C5: 3 | D5: 4 | E5: 5 | F5: 6
A6: B2 | B6: Koszty świadczeń opieki zdrowotnej (B2.1+...+B2.22) | C6: =C7+C8+C9+C16+C17+C18+C19+C20+C21+C22+C23+C24+C25+C26+C30+C31+C33+C34+C35+C36+C37+C39 -> 7477738 | D6: =D7+D8+D9+D16+D17+D18+D19+D20+D21+D22+D23+D24+D25+D26+D30+D31+D33+D34+D35+D36+D37+D39 -> 7482812 | E6: =IF(C6=D6,"-",D6-C6) -> 5074 | F6: =IF(C6=0,"-",D6/C6) -> 1.0007
A7: B2.1 | B7: podstawowa opieka zdrowotna | C7: 1029813 | D7: =C7 -> 1029813 | E7: =IF(C7=D7,"-",D7-C7) -> - | F7: =IF(C7=0,"-",D7/C7) -> 1
A8: B2.2 | B8: ambulatoryjna opieka specjalistyczna | C8: 451997 | D8: =C8 -> 451997 | E8: =IF(C8=D8,"-",D8-C8) -> - | F8: =IF(C8=0,"-",D8/C8) -> 1
A9: B2.3 | B9: leczenie szpitalne, w tym: | C9: 3978301 | D9: =C9+5074 -> 3983375 | E9: =IF(C9=D9,"-",D9-C9) -> 5074 | F9: =IF(C9=0,"-",D9/C9) -> 1.0013
A10: B2.3.1 | B10: programy lekowe, w tym: | C10: 388598 | D10: =C10 -> 388598 | E10: =IF(C10=D10,"-",D10-C10) -> - | F10: =IF(C10=0,"-",D10/C10) -> 1
A11: B2.3.1.1 | B11: leki, środki spożywcze specjalnego przeznaczenia żywieniowego objęte programami lekowymi | C11: 350527 | D11: =C11 -> 350527 | E11: =IF(C11=D11,"-",D11-C11) -> - | F11: =IF(C11=0,"-",D11/C11) -> 1
A12: B2.3.2 | B12: chemioterapia, w tym: | C12: 113405 | D12: =C12 -> 113405 | E12: =IF(C12=D12,"-",D12-C12) -> - | F12: =IF(C12=0,"-",D12/C12) -> 1
A13: B2.3.2.1 | B13: leki stosowane w chemioterapii | C13: 50986 | D13: =C13 -> 50986 | E13: =IF(C13=D13,"-",D13-C13) -> - | F13: =IF(C13=0,"-",D13/C13) -> 1
A14: B2.3.3 | B14: ratunkowy dostęp do technologii lekowej | C14: 179 | D14: =C14 -> 179 | E14: =IF(C14=D14,"-",D14-C14) -> - | F14: =IF(C14=0,"-",D14/C14) -> 1
A15: B2.3.4 | B15: świadczenia wysokospecjalistyczne | C15: 4377 | D15: =C15 -> 4377 | E15: =IF(C15=D15,"-",D15-C15) -> - | F15: =IF(C15=0,"-",D15/C15) -> 1
A16: B2.4 | B16: opieka psychiatryczna i leczenie uzależnień | C16: 289700 | D16: =C16 -> 289700 | E16: =IF(C16=D16,"-",D16-C16) -> - | F16: =IF(C16=0,"-",D16/C16) -> 1
A17: B2.5 | B17: rehabilitacja lecznicza | C17: 244610 | D17: =C17 -> 244610 | E17: =IF(C17=D17,"-",D17-C17) -> - | F17: =IF(C17=0,"-",D17/C17) -> 1
A18: B2.6 | B18: świadczenia pielęgnacyjne i opiekuńcze w ramach opieki długoterminowej | C18: 185205 | D18: =C18 -> 185205 | E18: =IF(C18=D18,"-",D18-C18) -> - | F18: =IF(C18=0,"-",D18/C18) -> 1
A19: B2.7 | B19: opieka paliatywna i hospicyjna | C19: 87230 | D19: =C19 -> 87230 | E19: =IF(C19=D19,"-",D19-C19) -> - | F19: =IF(C19=0,"-",D19/C19) -> 1
A20: B2.8 | B20: leczenie stomatologiczne | C20: 127095 | D20: =C20 -> 127095 | E20: =IF(C20=D20,"-",D20-C20) -> - | F20: =IF(C20=0,"-",D20/C20) -> 1
A21: B2.9 | B21: lecznictwo uzdrowiskowe | C21: 78592 | D21: =C21 -> 78592 | E21: =IF(C21=D21,"-",D21-C21) -> - | F21: =IF(C21=0,"-",D21/C21) -> 1
... A44: B7 | B44: Koszty finansowania leku, zgodnie z art. 43b ust. 7 ustawy | C44: 790 | D44: =C44 -> 790 | E44: =IF(C44=D44,"-",D44-C44) -> - | F44: =IF(C44=0,"-",D44/C44) -> 1
A45: Bn | B45: Całkowity budżet na refundację (B2.3.1.1+B2.3.2.1+B2.3.3+B2.14+B2.16.1+B5+B7) | C45: =C11+C13+C14+C26+C32+C42+C44 -> 1115497 | D45: =D11+D13+D14+D26+D32+D42+D44 -> 1115497 | E45: =IF(C45=D45,"-",D45-C45) -> - | F45: =IF(C45=0,"-",D45/C45) -> 1
A46: D | B46: Koszty administracyjne ( D1+...+D8 ) | C46: =C47+C48+C49+C57+C59+C65+C66+C64 -> 41769 | D46: =D47+D48+D49+D57+D59+D65+D66+D64 -> 41769 | E46: =IF(C46=D46,"-",D46-C46) -> - | F46: =IF(C46=0,"-",D46/C46) -> 1
A47: D1 | B47: zużycie materiałów i energii | C47: 1637 | D47: =C47 -> 1637 | E47: =IF(C47=D47,"-",D47-C47) -> - | F47: =IF(C47=0,"-",D47/C47) -> 1
A48: D2 | B48: usługi obce | C48: 5414 | D48: =C48 -> 5414 | E48: =IF(C48=D48,"-",D48-C48) -> - | F48: =IF(C48=0,"-",D48/C48) -> 1
A49: D3 | B49: podatki i opłaty, z tego | C49: =C50+C52+C53+C54+C55+C56 -> 266 | D49: =D50+D52+D53+D54+D55+D56 -> 266 | E49: =IF(C49=D49,"-",D49-C49) -> - | F49: =IF(C49=0,"-",D49/C49) -> 1
A50: D3.1 | B50: podatki stanowiące dochody własne jednostek samorządu terytorialnego, w tym: | C50: 57 | D50: =C50 -> 57 | E50: =IF(C50=D50,"-",D50-C50) -> - | F50: =IF(C50=0,"-",D50/C50) -> 1
A51: D3.1.1 | B51: podatek od nieruchomości | C51: 57 | D51: =C51 -> 57 | E51: =IF(C51=D51,"-",D51-C51) -> - | F51: =IF(C51=0,"-",D51/C51) -> 1
A52: D3.2 | B52: opłaty stanowiące dochody własne jednostek samorządu terytorialnego | C52: 72 | D52: =C52 -> 72 | E52: =IF(C52=D52,"-",D52-C52) -> - | F52: =IF(C52=0,"-",D52/C52) -> 1
A53: D3.3 | B53: VAT | C53: 1 | D53: =C53 -> 1 | E53: =IF(C53=D53,"-",D53-C53) -> - | F53: =IF(C53=0,"-",D53/C53) -> 1
A54: D3.4 | B54: podatek akcyzowy | C54: 0 | D54: =C54 -> 0 | E54: =IF(C54=D54,"-",D54-C54) -> - | F54: =IF(C54=0,"-",D54/C54) -> -
A55: D3.5 | B55: wpłaty na PFRON | C55: 134 | D55: =C55 -> 134 | E55: =IF(C55=D55,"-",D55-C55) -> - | F55: =IF(C55=0,"-",D55/C55) -> 1
A56: D3.6 | B56: inne | C56: 2 | D56: =C56 -> 2 | E56: =IF(C56=D56,"-",D56-C56) -> - | F56: =IF(C56=0,"-",D56/C56) -> 1
A57: D4 | B57: wynagrodzenia, w tym: | C57: 24958 | D57: =C57 -> 24958 | E57: =IF(C57=D57,"-",D57-C57) -> - | F57: =IF(C57=0,"-",D57/C57) -> 1
A58: D4.1 | B58: wynagrodzenia bezosobowe | C58: 100 | D58: =C58 -> 100 | E58: =IF(C58=D58,"-",D58-C58) -> - | F58: =IF(C58=0,"-",D58/C58) -> 1
A59: D5 | B59: ubezpieczenie społeczne i inne świadczenia, z tego: | C59: =C60+C61+C62+C63 -> 5578 | D59: =D60+D61+D62+D63 -> 5578 | E59: =IF(C59=D59,"-",D59-C59) -> - | F59: =IF(C59=0,"-",D59/C59) -> 1
A60: D5.1 | B60: składki na Fundusz Ubezpieczeń Społecznych | C60: 4184 | D60: =C60 -> 4184 | E60: =IF(C60=D60,"-",D60-C60) -> - | F60: =IF(C60=0,"-",D60/C60) -> 1
A61: D5.2 | B61: składki na Fundusz Pracy | C61: 542 | D61: =C61 -> 542 | E61: =IF(C61=D61,"-",D61-C61) -> - | F61: =IF(C61=0,"-",D61/C61) -> 1
A62: D5.3 | B62: składki na Fundusz Gwarantowanych Świadczeń Pracowniczych | C62: 0 | D62: =C62 -> 0 | E62: =IF(C62=D62,"-",D62-C62) -> - | F62: =IF(C62=0,"-",D62/C62) -> -
...

Sheet KujawskoPomorski
A1: ZMIANA PLANU FINANSOWEGO NARODOWEGO FUNDUSZU ZDROWIA NA 2020 ROK Z DNIA 29 GRUDNIA 2020 R.
A2: Koszty Kujawsko-Pomorskiego Oddziału Wojewódzkiego Narodowego Funduszu Zdrowia
E3: w tys. zł
A4: Poz. | B4: Wyszczególnienie | C4: Plan na 2020 rok | D4: Plan po zmianie | E4: Różnica kol.4-kol.3 | F4: Dynamika kol.4/kol.3
A5: 1 | B5: 2 | C5: 3 | D5: 4 | E5: 5 | F5: 6
A6: B2 | B6: Koszty świadczeń opieki zdrowotnej (B2.1+...+B2.22) | C6: =C7+C8+C9+C16+C17+C18+C19+C20+C21+C22+C23+C24+C25+C26+C30+C31+C33+C34+C35+C36+C37+C39 -> 5643482 | D6: =D7+D8+D9+D16+D17+D18+D19+D20+D21+D22+D23+D24+D25+D26+D30+D31+D33+D34+D35+D36+D37+D39 -> 5647052 | E6: =IF(C6=D6,"-",D6-C6) -> 3570 | F6: =IF(C6=0,"-",D6/C6) -> 1.0006
A7: B2.1 | B7: podstawowa opieka zdrowotna | C7: 725240 | D7: =C7 -> 725240 | E7: =IF(C7=D7,"-",D7-C7) -> - | F7: =IF(C7=0,"-",D7/C7) -> 1
A8: B2.2 | B8: ambulatoryjna opieka specjalistyczna | C8: 282975 | D8: =C8 -> 282975 | E8: =IF(C8=D8,"-",D8-C8) -> - | F8: =IF(C8=0,"-",D8/C8) -> 1
A9: B2.3 | B9: leczenie szpitalne, w tym: | C9: 3216005 | D9: =C9+3570 -> 3219575 | E9: =IF(C9=D9,"-",D9-C9) -> 3570 | F9: =IF(C9=0,"-",D9/C9) -> 1.0011
A10: B2.3.1 | B10: programy lekowe, w tym: | C10: 248289 | D10: =C10 -> 248289 | E10: =IF(C10=D10,"-",D10-C10) -> - | F10: =IF(C10=0,"-",D10/C10) -> 1
A11: B2.3.1.1 | B11: leki, środki spożywcze specjalnego przeznaczenia żywieniowego objęte programami lekowymi | C11: 220766 | D11: =C11 -> 220766 | E11: =IF(C11=D11,"-",D11-C11) -> - | F11: =IF(C11=0,"-",D11/C11) -> 1
A12: B2.3.2 | B12: chemioterapia, w tym: | C12: 84456 | D12: =C12 -> 84456 | E12: =IF(C12=D12,"-",D12-C12) -> - | F12: =IF(C12=0,"-",D12/C12) -> 1
A13: B2.3.2.1 | B13: leki stosowane w chemioterapii | C13: 39264 | D13: =C13 -> 39264 | E13: =IF(C13=D13,"-",D13-C13) -> - | F13: =IF(C13=0,"-",D13/C13) -> 1
A14: B2.3.3 | B14: ratunkowy dostęp do technologii lekowej | C14: 690 | D14: =C14 -> 690 | E14: =IF(C14=D14,"-",D14-C14) -> - | F14: =IF(C14=0,"-",D14/C14) -> 1
A15: B2.3.4 | B15: świadczenia wysokospecjalistyczne | C15: 3477 | D15: =C15 -> 3477 | E15: =IF(C15=D15,"-",D15-C15) -> - | F15: =IF(C15=0,"-",D15/C15) -> 1
A16: B2.4 | B16: opieka psychiatryczna i leczenie uzależnień | C16: 176850 | D16: =C16 -> 176850 | E16: =IF(C16=D16,"-",D16-C16) -> - | F16: =IF(C16=0,"-",D16/C16) -> 1
A17: B2.5 | B17: rehabilitacja lecznicza | C17: 155304 | D17: =C17 -> 155304 | E17: =IF(C17=D17,"-",D17-C17) -> - | F17: =IF(C17=0,"-",D17/C17) -> 1
A18: B2.6 | B18: świadczenia pielęgnacyjne i opiekuńcze w ramach opieki długoterminowej | C18: 97004 | D18: =C18 -> 97004 | E18: =IF(C18=D18,"-",D18-C18) -> - | F18: =IF(C18=0,"-",D18/C18) -> 1
A19: B2.7 | B19: opieka paliatywna i hospicyjna | C19: 55160 | D19: =C19 -> 55160 | E19: =IF(C19=D19,"-",D19-C19) -> - | F19: =IF(C19=0,"-",D19/C19) -> 1
A20: B2.8 | B20: leczenie stomatologiczne | C20: 107606 | D20: =C20 -> 107606 | E20: =IF(C20=D20,"-",D20-C20) -> - | F20: =IF(C20=0,"-",D20/C20) -> 1
A21: B2.9 | B21: lecznictwo uzdrowiskowe | C21: 51027 | D21: =C21 -> 51027 | E21: =IF(C21=D21,"-",D21-C21) -> - | F21: =IF(C21=0,"-",D21/C21) -> 1
... A44: B7 | B44: Koszty finansowania leku, zgodnie z art. 43b ust. 7 ustawy | C44: 567 | D44: =C44 -> 567 | E44: =IF(C44=D44,"-",D44-C44) -> - | F44: =IF(C44=0,"-",D44/C44) -> 1
A45: Bn | B45: Całkowity budżet na refundację (B2.3.1.1+B2.3.2.1+B2.3.3+B2.14+B2.16.1+B5+B7) | C45: =C11+C13+C14+C26+C32+C42+C44 -> 811227 | D45: =D11+D13+D14+D26+D32+D42+D44 -> 811227 | E45: =IF(C45=D45,"-",D45-C45) -> - | F45: =IF(C45=0,"-",D45/C45) -> 1
A46: D | B46: Koszty administracyjne ( D1+...+D8 ) | C46: =C47+C48+C49+C57+C59+C65+C66+C64 -> 39743 | D46: =D47+D48+D49+D57+D59+D65+D66+D64 -> 39743 | E46: =IF(C46=D46,"-",D46-C46) -> - | F46: =IF(C46=0,"-",D46/C46) -> 1
A47: D1 | B47: zużycie materiałów i energii | C47: 1583 | D47: =C47 -> 1583 | E47: =IF(C47=D47,"-",D47-C47) -> - | F47: =IF(C47=0,"-",D47/C47) -> 1
A48: D2 | B48: usługi obce | C48: 8269 | D48: =C48 -> 8269 | E48: =IF(C48=D48,"-",D48-C48) -> - | F48: =IF(C48=0,"-",D48/C48) -> 1
A49: D3 | B49: podatki i opłaty, z tego | C49: =C50+C52+C53+C54+C55+C56 -> 203 | D49: =D50+D52+D53+D54+D55+D56 -> 203 | E49: =IF(C49=D49,"-",D49-C49) -> - | F49: =IF(C49=0,"-",D49/C49) -> 1
A50: D3.1 | B50: podatki stanowiące dochody własne jednostek samorządu terytorialnego, w tym: | C50: 51 | D50: =C50 -> 51 | E50: =IF(C50=D50,"-",D50-C50) -> - | F50: =IF(C50=0,"-",D50/C50) -> 1
A51: D3.1.1 | B51: podatek od nieruchomości | C51: 51 | D51: =C51 -> 51 | E51: =IF(C51=D51,"-",D51-C51) -> - | F51: =IF(C51=0,"-",D51/C51) -> 1
A52: D3.2 | B52: opłaty stanowiące dochody własne jednostek samorządu terytorialnego | C52: 41 | D52: =C52 -> 41 | E52: =IF(C52=D52,"-",D52-C52) -> - | F52: =IF(C52=0,"-",D52/C52) -> 1
A53: D3.3 | B53: VAT | C53: 0 | D53: =C53 -> 0 | E53: =IF(C53=D53,"-",D53-C53) -> - | F53: =IF(C53=0,"-",D53/C53) -> -
A54: D3.4 | B54: podatek akcyzowy | C54: 0 | D54: =C54 -> 0 | E54: =IF(C54=D54,"-",D54-C54) -> - | F54: =IF(C54=0,"-",D54/C54) -> -
A55: D3.5 | B55: wpłaty na PFRON | C55: 96 | D55: =C55 -> 96 | E55: =IF(C55=D55,"-",D55-C55) -> - | F55: =IF(C55=0,"-",D55/C55) -> 1
A56: D3.6 | B56: inne | C56: 15 | D56: =C56 -> 15 | E56: =IF(C56=D56,"-",D56-C56) -> - | F56: =IF(C56=0,"-",D56/C56) -> 1
A57: D4 | B57: wynagrodzenia, w tym: | C57: 17458 | D57: =C57 -> 17458 | E57: =IF(C57=D57,"-",D57-C57) -> - | F57: =IF(C57=0,"-",D57/C57) -> 1
A58: D4.1 | B58: wynagrodzenia bezosobowe | C58: 0 | D58: =C58 -> 0 | E58: =IF(C58=D58,"-",D58-C58) -> - | F58: =IF(C58=0,"-",D58/C58) -> -
A59: D5 | B59: ubezpieczenie społeczne i inne świadczenia, z tego: | C59: =C60+C61+C62+C63 -> 3902 | D59: =D60+D61+D62+D63 -> 3902 | E59: =IF(C59=D59,"-",D59-C59) -> - | F59: =IF(C59=0,"-",D59/C59) -> 1
A60: D5.1 | B60: składki na Fundusz Ubezpieczeń Społecznych | C60: 2948 | D60: =C60 -> 2948 | E60: =IF(C60=D60,"-",D60-C60) -> - | F60: =IF(C60=0,"-",D60/C60) -> 1
A61: D5.2 | B61: składki na Fundusz Pracy | C61: 420 | D61: =C61 -> 420 | E61: =IF(C61=D61,"-",D61-C61) -> - | F61: =IF(C61=0,"-",D61/C61) -> 1
A62: D5.3 | B62: składki na Fundusz Gwarantowanych Świadczeń Pracowniczych | C62: 0 | D62: =C62 -> 0 | E62: =IF(C62=D62,"-",D62-C62) -> - | F62: =IF(C62=0,"-",D62/C62) -> -
...

Sheet Lubelski
A1: ZMIANA PLANU FINANSOWEGO NARODOWEGO FUNDUSZU ZDROWIA NA 2020 ROK Z DNIA 29 GRUDNIA 2020 R.
A2: Koszty Lubelskiego Oddziału Wojewódzkiego Narodowego Funduszu Zdrowia
E3: w tys. zł
A4: Poz. | B4: Wyszczególnienie | C4: Plan na 2020 rok | D4: Plan po zmianie | E4: Różnica kol.4-kol.3 | F4: Dynamika kol.4/kol.3
A5: 1 | B5: 2 | C5: 3 | D5: 4 | E5: 5 | F5: 6
A6: B2 | B6: Koszty świadczeń opieki zdrowotnej (B2.1+...+B2.22) | C6: =C7+C8+C9+C16+C17+C18+C19+C20+C21+C22+C23+C24+C25+C26+C30+C31+C33+C34+C35+C36+C37+C39 -> 5660513 | D6: =D7+D8+D9+D16+D17+D18+D19+D20+D21+D22+D23+D24+D25+D26+D30+D31+D33+D34+D35+D36+D37+D39 -> 5664260 | E6: =IF(C6=D6,"-",D6-C6) -> 3747 | F6: =IF(C6=0,"-",D6/C6) -> 1.0007
A7: B2.1 | B7: podstawowa opieka zdrowotna | C7: 772741 | D7: =C7 -> 772741 | E7: =IF(C7=D7,"-",D7-C7) -> - | F7: =IF(C7=0,"-",D7/C7) -> 1
A8: B2.2 | B8: ambulatoryjna opieka specjalistyczna | C8: 275955 | D8: =C8 -> 275955 | E8: =IF(C8=D8,"-",D8-C8) -> - | F8: =IF(C8=0,"-",D8/C8) -> 1
A9: B2.3 | B9: leczenie szpitalne, w tym: | C9: 3112911 | D9: =C9+3747 -> 3116658 | E9: =IF(C9=D9,"-",D9-C9) -> 3747 | F9: =IF(C9=0,"-",D9/C9) -> 1.0012
A10: B2.3.1 | B10: programy lekowe, w tym: | C10: 263576 | D10: =C10 -> 263576 | E10: =IF(C10=D10,"-",D10-C10) -> - | F10: =IF(C10=0,"-",D10/C10) -> 1
A11: B2.3.1.1 | B11: leki, środki spożywcze specjalnego przeznaczenia żywieniowego objęte programami lekowymi | C11: 238270 | D11: =C11 -> 238270 | E11: =IF(C11=D11,"-",D11-C11) -> - | F11: =IF(C11=0,"-",D11/C11) -> 1
A12: B2.3.2 | B12: chemioterapia, w tym: | C12: 103466 | D12: =C12 -> 103466 | E12: =IF(C12=D12,"-",D12-C12) -> - | F12: =IF(C12=0,"-",D12/C12) -> 1
A13: B2.3.2.1 | B13: leki stosowane w chemioterapii | C13: 45497 | D13: =C13 -> 45497 | E13: =IF(C13=D13,"-",D13-C13) -> - | F13: =IF(C13=0,"-",D13/C13) -> 1
A14: B2.3.3 | B14: ratunkowy dostęp do technologii lekowej | C14: 738 | D14: =C14 -> 738 | E14: =IF(C14=D14,"-",D14-C14) -> - | F14: =IF(C14=0,"-",D14/C14) -> 1
A15: B2.3.4 | B15: świadczenia wysokospecjalistyczne | C15: 0 | D15: =C15 -> 0 | E15: =IF(C15=D15,"-",D15-C15) -> - | F15: =IF(C15=0,"-",D15/C15) -> -
A16: B2.4 | B16: opieka psychiatryczna i leczenie uzależnień | C16: 199497 | D16: =C16 -> 199497 | E16: =IF(C16=D16,"-",D16-C16) -> - | F16: =IF(C16=0,"-",D16/C16) -> 1
A17: B2.5 | B17: rehabilitacja lecznicza | C17: 158956 | D17: =C17 -> 158956 | E17: =IF(C17=D17,"-",D17-C17) -> - | F17: =IF(C17=0,"-",D17/C17) -> 1
A18: B2.6 | B18: świadczenia pielęgnacyjne i opiekuńcze w ramach opieki długoterminowej | C18: 112410 | D18: =C18 -> 112410 | E18: =IF(C18=D18,"-",D18-C18) -> - | F18: =IF(C18=0,"-",D18/C18) -> 1
A19: B2.7 | B19: opieka paliatywna i hospicyjna | C19: 38644 | D19: =C19 -> 38644 | E19: =IF(C19=D19,"-",D19-C19) -> - | F19: =IF(C19=0,"-",D19/C19) -> 1
A20: B2.8 | B20: leczenie stomatologiczne | C20: 123942 | D20: =C20 -> 123942 | E20: =IF(C20=D20,"-",D20-C20) -> - | F20: =IF(C20=0,"-",D20/C20) -> 1
A21: B2.9 | B21: lecznictwo uzdrowiskowe | C21: 47786 | D21: =C21 -> 47786 | E21: =IF(C21=D21,"-",D21-C21) -> - | F21: =IF(C21=0,"-",D21/C21) -> 1
... A44: B7 | B44: Koszty finansowania leku, zgodnie z art. 43b ust. 7 ustawy | C44: 566 | D44: =C44 -> 566 | E44: =IF(C44=D44,"-",D44-C44) -> - | F44: =IF(C44=0,"-",D44/C44) -> 1
A45: Bn | B45: Całkowity budżet na refundację (B2.3.1.1+B2.3.2.1+B2.3.3+B2.14+B2.16.1+B5+B7) | C45: =C11+C13+C14+C26+C32+C42+C44 -> 798789 | D45: =D11+D13+D14+D26+D32+D42+D44 -> 798789 | E45: =IF(C45=D45,"-",D45-C45) -> - | F45: =IF(C45=0,"-",D45/C45) -> 1
A46: D | B46: Koszty administracyjne ( D1+...+D8 ) | C46: =C47+C48+C49+C57+C59+C65+C66+C64 -> 31309 | D46: =D47+D48+D49+D57+D59+D65+D66+D64 -> 31309 | E46: =IF(C46=D46,"-",D46-C46) -> - | F46: =IF(C46=0,"-",D46/C46) -> 1
A47: D1 | B47: zużycie materiałów i energii | C47: 1224 | D47: =C47 -> 1224 | E47: =IF(C47=D47,"-",D47-C47) -> - | F47: =IF(C47=0,"-",D47/C47) -> 1
A48: D2 | B48: usługi obce | C48: 4030 | D48: =C48 -> 4030 | E48: =IF(C48=D48,"-",D48-C48) -> - | F48: =IF(C48=0,"-",D48/C48) -> 1
A49: D3 | B49: podatki i opłaty, z tego | C49: =C50+C52+C53+C54+C55+C56 -> 161 | D49: =D50+D52+D53+D54+D55+D56 -> 161 | E49: =IF(C49=D49,"-",D49-C49) -> - | F49: =IF(C49=0,"-",D49/C49) -> 1
A50: D3.1 | B50: podatki stanowiące dochody własne jednostek samorządu terytorialnego, w tym: | C50: 34 | D50: =C50 -> 34 | E50: =IF(C50=D50,"-",D50-C50) -> - | F50: =IF(C50=0,"-",D50/C50) -> 1
A51: D3.1.1 | B51: podatek od nieruchomości | C51: 34 | D51: =C51 -> 34 | E51: =IF(C51=D51,"-",D51-C51) -> - | F51: =IF(C51=0,"-",D51/C51) -> 1
A52: D3.2 | B52: opłaty stanowiące dochody własne jednostek samorządu terytorialnego | C52: 0 | D52: =C52 -> 0 | E52: =IF(C52=D52,"-",D52-C52) -> - | F52: =IF(C52=0,"-",D52/C52) -> -
A53: D3.3 | B53: VAT | C53: 0 | D53: =C53 -> 0 | E53: =IF(C53=D53,"-",D53-C53) -> - | F53: =IF(C53=0,"-",D53/C53) -> -
A54: D3.4 | B54: podatek akcyzowy | C54: 0 | D54: =C54 -> 0 | E54: =IF(C54=D54,"-",D54-C54) -> - | F54: =IF(C54=0,"-",D54/C54) -> -
A55: D3.5 | B55: wpłaty na PFRON | C55: 113 | D55: =C55 -> 113 | E55: =IF(C55=D55,"-",D55-C55) -> - | F55: =IF(C55=0,"-",D55/C55) -> 1
A56: D3.6 | B56: inne | C56: 14 | D56: =C56 -> 14 | E56: =IF(C56=D56,"-",D56-C56) -> - | F56: =IF(C56=0,"-",D56/C56) -> 1
A57: D4 | B57: wynagrodzenia, w tym: | C57: 18980 | D57: =C57 -> 18980 | E57: =IF(C57=D57,"-",D57-C57) -> - | F57: =IF(C57=0,"-",D57/C57) -> 1
A58: D4.1 | B58: wynagrodzenia bezosobowe | C58: 144 | D58: =C58 -> 144 | E58: =IF(C58=D58,"-",D58-C58) -> - | F58: =IF(C58=0,"-",D58/C58) -> 1
A59: D5 | B59: ubezpieczenie społeczne i inne świadczenia, z tego: | C59: =C60+C61+C62+C63 -> 4241 | D59: =D60+D61+D62+D63 -> 4241 | E59: =IF(C59=D59,"-",D59-C59) -> - | F59: =IF(C59=0,"-",D59/C59) -> 1
A60: D5.1 | B60: składki na Fundusz Ubezpieczeń Społecznych | C60: 3260 | D60: =C60 -> 3260 | E60: =IF(C60=D60,"-",D60-C60) -> - | F60: =IF(C60=0,"-",D60/C60) -> 1
A61: D5.2 | B61: składki na Fundusz Pracy | C61: 465 | D61: =C61 -> 465 | E61: =IF(C61=D61,"-",D61-C61) -> - | F61: =IF(C61=0,"-",D61/C61) -> 1
A62: D5.3 | B62: składki na Fundusz Gwarantowanych Świadczeń Pracowniczych | C62: 0 | D62: =C62 -> 0 | E62: =IF(C62=D62,"-",D62-C62) -> - | F62: =IF(C62=0,"-",D62/C62) -> -
...

Sheet Lubuski
A1: ZMIANA PLANU FINANSOWEGO NARODOWEGO FUNDUSZU ZDROWIA NA 2020 ROK Z DNIA 29 GRUDNIA 2020 R.
A2: Koszty Lubuskiego Oddziału Wojewódzkiego Narodowego Funduszu Zdrowia
E3: w tys. zł
A4: Poz. | B4: Wyszczególnienie | C4: Plan na 2020 rok | D4: Plan po zmianie | E4: Różnica kol.4-kol.3 | F4: Dynamika kol.4/kol.3
A5: 1 | B5: 2 | C5: 3 | D5: 4 | E5: 5 | F5: 6
A6: B2 | B6: Koszty świadczeń opieki zdrowotnej (B2.1+...+B2.22) | C6: =C7+C8+C9+C16+C17+C18+C19+C20+C21+C22+C23+C24+C25+C26+C30+C31+C33+C34+C35+C36+C37+C39 -> 2634338 | D6: =D7+D8+D9+D16+D17+D18+D19+D20+D21+D22+D23+D24+D25+D26+D30+D31+D33+D34+D35+D36+D37+D39 -> 2636059 | E6: =IF(C6=D6,"-",D6-C6) -> 1721 | F6: =IF(C6=0,"-",D6/C6) -> 1.0007
A7: B2.1 | B7: podstawowa opieka zdrowotna | C7: 365423 | D7: =C7 -> 365423 | E7: =IF(C7=D7,"-",D7-C7) -> - | F7: =IF(C7=0,"-",D7/C7) -> 1
A8: B2.2 | B8: ambulatoryjna opieka specjalistyczna | C8: 154158 | D8: =C8 -> 154158 | E8: =IF(C8=D8,"-",D8-C8) -> - | F8: =IF(C8=0,"-",D8/C8) -> 1
A9: B2.3 | B9: leczenie szpitalne, w tym: | C9: 1409356 | D9: =C9+1721 -> 1411077 | E9: =IF(C9=D9,"-",D9-C9) -> 1721 | F9: =IF(C9=0,"-",D9/C9) -> 1.0012
A10: B2.3.1 | B10: programy lekowe, w tym: | C10: 115835 | D10: =C10 -> 115835 | E10: =IF(C10=D10,"-",D10-C10) -> - | F10: =IF(C10=0,"-",D10/C10) -> 1
A11: B2.3.1.1 | B11: leki, środki spożywcze specjalnego przeznaczenia żywieniowego objęte programami lekowymi | C11: 104467 | D11: =C11 -> 104467 | E11: =IF(C11=D11,"-",D11-C11) -> - | F11: =IF(C11=0,"-",D11/C11) -> 1
A12: B2.3.2 | B12: chemioterapia, w tym: | C12: 41364 | D12: =C12 -> 41364 | E12: =IF(C12=D12,"-",D12-C12) -> - | F12: =IF(C12=0,"-",D12/C12) -> 1
A13: B2.3.2.1 | B13: leki stosowane w chemioterapii | C13: 16620 | D13: =C13 -> 16620 | E13: =IF(C13=D13,"-",D13-C13) -> - | F13: =IF(C13=0,"-",D13/C13) -> 1
A14: B2.3.3 | B14: ratunkowy dostęp do technologii lekowej | C14: 10 | D14: =C14 -> 10 | E14: =IF(C14=D14,"-",D14-C14) -> - | F14: =IF(C14=0,"-",D14/C14) -> 1
A15: B2.3.4 | B15: świadczenia wysokospecjalistyczne | C15: 0 | D15: =C15 -> 0 | E15: =IF(C15=D15,"-",D15-C15) -> - | F15: =IF(C15=0,"-",D15/C15) -> -
A16: B2.4 | B16: opieka psychiatryczna i leczenie uzależnień | C16: 106747 | D16: =C16 -> 106747 | E16: =IF(C16=D16,"-",D16-C16) -> - | F16: =IF(C16=0,"-",D16/C16) -> 1
A17: B2.5 | B17: rehabilitacja lecznicza | C17: 78101 | D17: =C17 -> 78101 | E17: =IF(C17=D17,"-",D17-C17) -> - | F17: =IF(C17=0,"-",D17/C17) -> 1
A18: B2.6 | B18: świadczenia pielęgnacyjne i opiekuńcze w ramach opieki długoterminowej | C18: 40555 | D18: =C18 -> 40555 | E18: =IF(C18=D18,"-",D18-C18) -> - | F18: =IF(C18=0,"-",D18/C18) -> 1
A19: B2.7 | B19: opieka paliatywna i hospicyjna | C19: 22396 | D19: =C19 -> 22396 | E19: =IF(C19=D19,"-",D19-C19) -> - | F19: =IF(C19=0,"-",D19/C19) -> 1
A20: B2.8 | B20: leczenie stomatologiczne | C20: 40388 | D20: =C20 -> 40388 | E20: =IF(C20=D20,"-",D20-C20) -> - | F20: =IF(C20=0,"-",D20/C20) -> 1
A21: B2.9 | B21: lecznictwo uzdrowiskowe | C21: 15425 | D21: =C21 -> 15425 | E21: =IF(C21=D21,"-",D21-C21) -> - | F21: =IF(C21=0,"-",D21/C21) -> 1
... A44: B7 | B44: Koszty finansowania leku, zgodnie z art. 43b ust. 7 ustawy | C44: 265 | D44: =C44 -> 265 | E44: =IF(C44=D44,"-",D44-C44) -> - | F44: =IF(C44=0,"-",D44/C44) -> 1
A45: Bn | B45: Całkowity budżet na refundację (B2.3.1.1+B2.3.2.1+B2.3.3+B2.14+B2.16.1+B5+B7) | C45: =C11+C13+C14+C26+C32+C42+C44 -> 365558 | D45: =D11+D13+D14+D26+D32+D42+D44 -> 365558 | E45: =IF(C45=D45,"-",D45-C45) -> - | F45: =IF(C45=0,"-",D45/C45) -> 1
A46: D | B46: Koszty administracyjne ( D1+...+D8 ) | C46: =C47+C48+C49+C57+C59+C65+C66+C64 -> 18989 | D46: =D47+D48+D49+D57+D59+D65+D66+D64 -> 18989 | E46: =IF(C46=D46,"-",D46-C46) -> - | F46: =IF(C46=0,"-",D46/C46) -> 1
A47: D1 | B47: zużycie materiałów i energii | C47: 917 | D47: =C47 -> 917 | E47: =IF(C47=D47,"-",D47-C47) -> - | F47: =IF(C47=0,"-",D47/C47) -> 1
A48: D2 | B48: usługi obce | C48: 2537 | D48: =C48 -> 2537 | E48: =IF(C48=D48,"-",D48-C48) -> - | F48: =IF(C48=0,"-",D48/C48) -> 1
A49: D3 | B49: podatki i opłaty, z tego | C49: =C50+C52+C53+C54+C55+C56 -> 39 | D49: =D50+D52+D53+D54+D55+D56 -> 39 | E49: =IF(C49=D49,"-",D49-C49) -> - | F49: =IF(C49=0,"-",D49/C49) -> 1
A50: D3.1 | B50: podatki stanowiące dochody własne jednostek samorządu terytorialnego, w tym: | C50: 15 | D50: =C50 -> 15 | E50: =IF(C50=D50,"-",D50-C50) -> - | F50: =IF(C50=0,"-",D50/C50) -> 1
A51: D3.1.1 | B51: podatek od nieruchomości | C51: 15 | D51: =C51 -> 15 | E51: =IF(C51=D51,"-",D51-C51) -> - | F51: =IF(C51=0,"-",D51/C51) -> 1
